BEGIN:VCALENDAR
VERSION:2.0
PRODID:-//Marr&#039;s Mountain Cabins and Tavern - ECPv6.15.17.1//NONSGML v1.0//EN
CALSCALE:GREGORIAN
METHOD:PUBLISH
X-WR-CALNAME:Marr&#039;s Mountain Cabins and Tavern
X-ORIGINAL-URL:https://www.marrsmountaincabins.com
X-WR-CALDESC:Events for Marr&#039;s Mountain Cabins and Tavern
REFRESH-INTERVAL;VALUE=DURATION:PT1H
X-Robots-Tag:noindex
X-PUBLISHED-TTL:PT1H
BEGIN:VTIMEZONE
TZID:America/Denver
BEGIN:DAYLIGHT
TZOFFSETFROM:-0700
TZOFFSETTO:-0600
TZNAME:MDT
DTSTART:20250309T090000
END:DAYLIGHT
BEGIN:STANDARD
TZOFFSETFROM:-0600
TZOFFSETTO:-0700
TZNAME:MST
DTSTART:20251102T080000
END:STANDARD
BEGIN:DAYLIGHT
TZOFFSETFROM:-0700
TZOFFSETTO:-0600
TZNAME:MDT
DTSTART:20260308T090000
END:DAYLIGHT
BEGIN:STANDARD
TZOFFSETFROM:-0600
TZOFFSETTO:-0700
TZNAME:MST
DTSTART:20261101T080000
END:STANDARD
BEGIN:DAYLIGHT
TZOFFSETFROM:-0700
TZOFFSETTO:-0600
TZNAME:MDT
DTSTART:20270314T090000
END:DAYLIGHT
BEGIN:STANDARD
TZOFFSETFROM:-0600
TZOFFSETTO:-0700
TZNAME:MST
DTSTART:20271107T080000
END:STANDARD
END:VTIMEZONE
BEGIN:VEVENT
DTSTART;TZID=America/Denver:20260502T190000
DTEND;TZID=America/Denver:20260502T210000
DTSTAMP:20260421T072141
CREATED:20251020T231343Z
LAST-MODIFIED:20260408T215339Z
UID:10001792-1777748400-1777755600@www.marrsmountaincabins.com
SUMMARY:Live Music - Matt McCloskey
DESCRIPTION:
URL:https://www.marrsmountaincabins.com/event/live-music-matt-mccloskey-2/
LOCATION:The Tavern at Red Feather Lakes\, 1078 Ramona Drive\, Suite 2\, Red Feather Lakes\, CO\, 80545\, United States
CATEGORIES:Live Music
ATTACH;FMTTYPE=image/jpeg:https://www.marrsmountaincabins.com/wp-content/uploads/Matt-McCloskey-May-2026-Poster-scaled.jpg
ORGANIZER;CN="Rich & Kerrie Marr":MAILTO:richandkerrie@marrsmountaincabins.com
END:VEVENT
BEGIN:VEVENT
DTSTART;TZID=America/Denver:20260506T183000
DTEND;TZID=America/Denver:20260506T210000
DTSTAMP:20260421T072141
CREATED:20260206T224008Z
LAST-MODIFIED:20260208T205812Z
UID:10001843-1778092200-1778101200@www.marrsmountaincabins.com
SUMMARY:Acoustic Jam With Tommy Ventura
DESCRIPTION:
URL:https://www.marrsmountaincabins.com/event/acoustic-jam-with-tommy-ventura/2026-05-06/
LOCATION:The Tavern at Red Feather Lakes\, 1078 Ramona Drive\, Suite 2\, Red Feather Lakes\, CO\, 80545\, United States
CATEGORIES:Live Music
ATTACH;FMTTYPE=image/jpeg:https://www.marrsmountaincabins.com/wp-content/uploads/Acoustic-Jam-2026-Poster-scaled.jpg
ORGANIZER;CN="Rich & Kerrie Marr":MAILTO:richandkerrie@marrsmountaincabins.com
END:VEVENT
BEGIN:VEVENT
DTSTART;TZID=America/Denver:20260513T183000
DTEND;TZID=America/Denver:20260513T210000
DTSTAMP:20260421T072141
CREATED:20260206T224008Z
LAST-MODIFIED:20260208T205812Z
UID:10001844-1778697000-1778706000@www.marrsmountaincabins.com
SUMMARY:Acoustic Jam With Tommy Ventura
DESCRIPTION:
URL:https://www.marrsmountaincabins.com/event/acoustic-jam-with-tommy-ventura/2026-05-13/
LOCATION:The Tavern at Red Feather Lakes\, 1078 Ramona Drive\, Suite 2\, Red Feather Lakes\, CO\, 80545\, United States
CATEGORIES:Live Music
ATTACH;FMTTYPE=image/jpeg:https://www.marrsmountaincabins.com/wp-content/uploads/Acoustic-Jam-2026-Poster-scaled.jpg
ORGANIZER;CN="Rich & Kerrie Marr":MAILTO:richandkerrie@marrsmountaincabins.com
END:VEVENT
BEGIN:VEVENT
DTSTART;TZID=America/Denver:20260516T190000
DTEND;TZID=America/Denver:20260516T210000
DTSTAMP:20260421T072141
CREATED:20251021T030513Z
LAST-MODIFIED:20260408T215518Z
UID:10001796-1778958000-1778965200@www.marrsmountaincabins.com
SUMMARY:Live Music - Gii Astorga
DESCRIPTION:
URL:https://www.marrsmountaincabins.com/event/live-music-gii-astorga/
LOCATION:The Tavern at Red Feather Lakes\, 1078 Ramona Drive\, Suite 2\, Red Feather Lakes\, CO\, 80545\, United States
CATEGORIES:Live Music
ATTACH;FMTTYPE=image/jpeg:https://www.marrsmountaincabins.com/wp-content/uploads/Gii-Astorga-May-2026-Poster-scaled.jpg
ORGANIZER;CN="Rich & Kerrie Marr":MAILTO:richandkerrie@marrsmountaincabins.com
END:VEVENT
BEGIN:VEVENT
DTSTART;TZID=America/Denver:20260520T183000
DTEND;TZID=America/Denver:20260520T210000
DTSTAMP:20260421T072141
CREATED:20260206T224008Z
LAST-MODIFIED:20260208T205812Z
UID:10001845-1779301800-1779310800@www.marrsmountaincabins.com
SUMMARY:Acoustic Jam With Tommy Ventura
DESCRIPTION:
URL:https://www.marrsmountaincabins.com/event/acoustic-jam-with-tommy-ventura/2026-05-20/
LOCATION:The Tavern at Red Feather Lakes\, 1078 Ramona Drive\, Suite 2\, Red Feather Lakes\, CO\, 80545\, United States
CATEGORIES:Live Music
ATTACH;FMTTYPE=image/jpeg:https://www.marrsmountaincabins.com/wp-content/uploads/Acoustic-Jam-2026-Poster-scaled.jpg
ORGANIZER;CN="Rich & Kerrie Marr":MAILTO:richandkerrie@marrsmountaincabins.com
END:VEVENT
BEGIN:VEVENT
DTSTART;TZID=America/Denver:20260523T190000
DTEND;TZID=America/Denver:20260523T210000
DTSTAMP:20260421T072141
CREATED:20251020T224316Z
LAST-MODIFIED:20260408T215831Z
UID:10001789-1779562800-1779570000@www.marrsmountaincabins.com
SUMMARY:Live Music - Wendy Woo
DESCRIPTION:
URL:https://www.marrsmountaincabins.com/event/live-music-wendy-woo-2/
LOCATION:The Tavern at Red Feather Lakes\, 1078 Ramona Drive\, Suite 2\, Red Feather Lakes\, CO\, 80545\, United States
CATEGORIES:Live Music
ATTACH;FMTTYPE=image/jpeg:https://www.marrsmountaincabins.com/wp-content/uploads/Wendy-Woo-May-2026-Poster-scaled.jpg
ORGANIZER;CN="Rich & Kerrie Marr":MAILTO:richandkerrie@marrsmountaincabins.com
END:VEVENT
BEGIN:VEVENT
DTSTART;TZID=America/Denver:20260524T130000
DTEND;TZID=America/Denver:20260524T150000
DTSTAMP:20260421T072141
CREATED:20251229T220944Z
LAST-MODIFIED:20251229T220944Z
UID:10001823-1779627600-1779634800@www.marrsmountaincabins.com
SUMMARY:Live Music - Laurie Michelle
DESCRIPTION:
URL:https://www.marrsmountaincabins.com/event/live-music-laurie-michelle/
LOCATION:The Tavern at Red Feather Lakes\, 1078 Ramona Drive\, Suite 2\, Red Feather Lakes\, CO\, 80545\, United States
CATEGORIES:Live Music
ATTACH;FMTTYPE=image/jpeg:https://www.marrsmountaincabins.com/wp-content/uploads/Laurie-Michelle-1.jpg
ORGANIZER;CN="Rich & Kerrie Marr":MAILTO:richandkerrie@marrsmountaincabins.com
END:VEVENT
BEGIN:VEVENT
DTSTART;TZID=America/Denver:20260527T183000
DTEND;TZID=America/Denver:20260527T210000
DTSTAMP:20260421T072141
CREATED:20260206T224008Z
LAST-MODIFIED:20260208T205812Z
UID:10001846-1779906600-1779915600@www.marrsmountaincabins.com
SUMMARY:Acoustic Jam With Tommy Ventura
DESCRIPTION:
URL:https://www.marrsmountaincabins.com/event/acoustic-jam-with-tommy-ventura/2026-05-27/
LOCATION:The Tavern at Red Feather Lakes\, 1078 Ramona Drive\, Suite 2\, Red Feather Lakes\, CO\, 80545\, United States
CATEGORIES:Live Music
ATTACH;FMTTYPE=image/jpeg:https://www.marrsmountaincabins.com/wp-content/uploads/Acoustic-Jam-2026-Poster-scaled.jpg
ORGANIZER;CN="Rich & Kerrie Marr":MAILTO:richandkerrie@marrsmountaincabins.com
END:VEVENT
BEGIN:VEVENT
DTSTART;TZID=America/Denver:20260530T190000
DTEND;TZID=America/Denver:20260530T210000
DTSTAMP:20260421T072141
CREATED:20251022T013810Z
LAST-MODIFIED:20260408T215945Z
UID:10001799-1780167600-1780174800@www.marrsmountaincabins.com
SUMMARY:Live Music - Matthew Wilburn Skinner
DESCRIPTION:
URL:https://www.marrsmountaincabins.com/event/live-music-matthew-wilburn-skinner/
LOCATION:The Tavern at Red Feather Lakes\, 1078 Ramona Drive\, Suite 2\, Red Feather Lakes\, CO\, 80545\, United States
CATEGORIES:Live Music
ATTACH;FMTTYPE=image/jpeg:https://www.marrsmountaincabins.com/wp-content/uploads/Matthew-Wilburn-Skinner-May-2026-Poster-scaled.jpg
ORGANIZER;CN="Rich & Kerrie Marr":MAILTO:richandkerrie@marrsmountaincabins.com
END:VEVENT
END:VCALENDAR