BEGIN:VCALENDAR
VERSION:2.0
PRODID:-//Marr&#039;s Mountain Cabins and Tavern - ECPv6.15.17.1//NONSGML v1.0//EN
CALSCALE:GREGORIAN
METHOD:PUBLISH
X-ORIGINAL-URL:https://www.marrsmountaincabins.com
X-WR-CALDESC:Events for Marr&#039;s Mountain Cabins and Tavern
REFRESH-INTERVAL;VALUE=DURATION:PT1H
X-Robots-Tag:noindex
X-PUBLISHED-TTL:PT1H
BEGIN:VTIMEZONE
TZID:America/Denver
BEGIN:DAYLIGHT
TZOFFSETFROM:-0700
TZOFFSETTO:-0600
TZNAME:MDT
DTSTART:20250309T090000
END:DAYLIGHT
BEGIN:STANDARD
TZOFFSETFROM:-0600
TZOFFSETTO:-0700
TZNAME:MST
DTSTART:20251102T080000
END:STANDARD
BEGIN:DAYLIGHT
TZOFFSETFROM:-0700
TZOFFSETTO:-0600
TZNAME:MDT
DTSTART:20260308T090000
END:DAYLIGHT
BEGIN:STANDARD
TZOFFSETFROM:-0600
TZOFFSETTO:-0700
TZNAME:MST
DTSTART:20261101T080000
END:STANDARD
BEGIN:DAYLIGHT
TZOFFSETFROM:-0700
TZOFFSETTO:-0600
TZNAME:MDT
DTSTART:20270314T090000
END:DAYLIGHT
BEGIN:STANDARD
TZOFFSETFROM:-0600
TZOFFSETTO:-0700
TZNAME:MST
DTSTART:20271107T080000
END:STANDARD
END:VTIMEZONE
BEGIN:VEVENT
DTSTART;TZID=America/Denver:20260603T183000
DTEND;TZID=America/Denver:20260603T210000
DTSTAMP:20260421T090047
CREATED:20260206T224008Z
LAST-MODIFIED:20260208T205812Z
UID:10001847-1780511400-1780520400@www.marrsmountaincabins.com
SUMMARY:Acoustic Jam With Tommy Ventura
DESCRIPTION:
URL:https://www.marrsmountaincabins.com/event/acoustic-jam-with-tommy-ventura/2026-06-03/
LOCATION:The Tavern at Red Feather Lakes\, 1078 Ramona Drive\, Suite 2\, Red Feather Lakes\, CO\, 80545\, United States
CATEGORIES:Live Music
ATTACH;FMTTYPE=image/jpeg:https://www.marrsmountaincabins.com/wp-content/uploads/Acoustic-Jam-2026-Poster-scaled.jpg
ORGANIZER;CN="Rich & Kerrie Marr":MAILTO:richandkerrie@marrsmountaincabins.com
END:VEVENT
BEGIN:VEVENT
DTSTART;TZID=America/Denver:20260606T190000
DTEND;TZID=America/Denver:20260606T210000
DTSTAMP:20260421T090047
CREATED:20251020T235519Z
LAST-MODIFIED:20260408T220240Z
UID:10001795-1780772400-1780779600@www.marrsmountaincabins.com
SUMMARY:Live Music - The Whiskey Pickles
DESCRIPTION:
URL:https://www.marrsmountaincabins.com/event/live-music-the-whiskey-pickles-3/
LOCATION:The Tavern at Red Feather Lakes\, 1078 Ramona Drive\, Suite 2\, Red Feather Lakes\, CO\, 80545\, United States
CATEGORIES:Live Music
ATTACH;FMTTYPE=image/jpeg:https://www.marrsmountaincabins.com/wp-content/uploads/The-Whiskey-Pickles-June-2026-Poster-scaled.jpg
ORGANIZER;CN="Rich & Kerrie Marr":MAILTO:richandkerrie@marrsmountaincabins.com
END:VEVENT
BEGIN:VEVENT
DTSTART;VALUE=DATE:20260607
DTEND;VALUE=DATE:20260608
DTSTAMP:20260421T090047
CREATED:20251021T031901Z
LAST-MODIFIED:20251021T031901Z
UID:10001798-1780790400-1780876799@www.marrsmountaincabins.com
SUMMARY:Wine Tasting
DESCRIPTION:
URL:https://www.marrsmountaincabins.com/event/wine-tasting-2/
LOCATION:The Tavern at Red Feather Lakes\, 1078 Ramona Drive\, Suite 2\, Red Feather Lakes\, CO\, 80545\, United States
CATEGORIES:Event,Live Music
ORGANIZER;CN="Rich & Kerrie Marr":MAILTO:richandkerrie@marrsmountaincabins.com
END:VEVENT
BEGIN:VEVENT
DTSTART;TZID=America/Denver:20260607T130000
DTEND;TZID=America/Denver:20260607T170000
DTSTAMP:20260421T090047
CREATED:20251229T213845Z
LAST-MODIFIED:20260316T215637Z
UID:10001821-1780837200-1780851600@www.marrsmountaincabins.com
SUMMARY:Live Music - Russick Smith
DESCRIPTION:
URL:https://www.marrsmountaincabins.com/event/live-music-russick-smith/
LOCATION:The Tavern at Red Feather Lakes\, 1078 Ramona Drive\, Suite 2\, Red Feather Lakes\, CO\, 80545\, United States
CATEGORIES:Event,Live Music
ATTACH;FMTTYPE=image/png:https://www.marrsmountaincabins.com/wp-content/uploads/2026-Wine-and-Cocktail-Tasting-Poster.png
ORGANIZER;CN="Rich & Kerrie Marr":MAILTO:richandkerrie@marrsmountaincabins.com
END:VEVENT
BEGIN:VEVENT
DTSTART;TZID=America/Denver:20260610T183000
DTEND;TZID=America/Denver:20260610T210000
DTSTAMP:20260421T090047
CREATED:20260206T224008Z
LAST-MODIFIED:20260208T205812Z
UID:10001848-1781116200-1781125200@www.marrsmountaincabins.com
SUMMARY:Acoustic Jam With Tommy Ventura
DESCRIPTION:
URL:https://www.marrsmountaincabins.com/event/acoustic-jam-with-tommy-ventura/2026-06-10/
LOCATION:The Tavern at Red Feather Lakes\, 1078 Ramona Drive\, Suite 2\, Red Feather Lakes\, CO\, 80545\, United States
CATEGORIES:Live Music
ATTACH;FMTTYPE=image/jpeg:https://www.marrsmountaincabins.com/wp-content/uploads/Acoustic-Jam-2026-Poster-scaled.jpg
ORGANIZER;CN="Rich & Kerrie Marr":MAILTO:richandkerrie@marrsmountaincabins.com
END:VEVENT
BEGIN:VEVENT
DTSTART;TZID=America/Denver:20260612T190000
DTEND;TZID=America/Denver:20260612T210000
DTSTAMP:20260421T090047
CREATED:20251231T204031Z
LAST-MODIFIED:20251231T204031Z
UID:10001824-1781290800-1781298000@www.marrsmountaincabins.com
SUMMARY:Live Music - Matt Skinner Duo
DESCRIPTION:
URL:https://www.marrsmountaincabins.com/event/live-music-matt-skinner-duo-2/
LOCATION:The Tavern at Red Feather Lakes\, 1078 Ramona Drive\, Suite 2\, Red Feather Lakes\, CO\, 80545\, United States
CATEGORIES:Live Music
ATTACH;FMTTYPE=image/jpeg:https://www.marrsmountaincabins.com/wp-content/uploads/DSC_0029-scaled.jpg
ORGANIZER;CN="Rich & Kerrie Marr":MAILTO:richandkerrie@marrsmountaincabins.com
END:VEVENT
BEGIN:VEVENT
DTSTART;TZID=America/Denver:20260617T183000
DTEND;TZID=America/Denver:20260617T210000
DTSTAMP:20260421T090047
CREATED:20260206T224008Z
LAST-MODIFIED:20260208T205812Z
UID:10001849-1781721000-1781730000@www.marrsmountaincabins.com
SUMMARY:Acoustic Jam With Tommy Ventura
DESCRIPTION:
URL:https://www.marrsmountaincabins.com/event/acoustic-jam-with-tommy-ventura/2026-06-17/
LOCATION:The Tavern at Red Feather Lakes\, 1078 Ramona Drive\, Suite 2\, Red Feather Lakes\, CO\, 80545\, United States
CATEGORIES:Live Music
ATTACH;FMTTYPE=image/jpeg:https://www.marrsmountaincabins.com/wp-content/uploads/Acoustic-Jam-2026-Poster-scaled.jpg
ORGANIZER;CN="Rich & Kerrie Marr":MAILTO:richandkerrie@marrsmountaincabins.com
END:VEVENT
BEGIN:VEVENT
DTSTART;TZID=America/Denver:20260620T190000
DTEND;TZID=America/Denver:20260620T210000
DTSTAMP:20260421T090047
CREATED:20251013T042210Z
LAST-MODIFIED:20260316T215519Z
UID:10001769-1781982000-1781989200@www.marrsmountaincabins.com
SUMMARY:Live Music - Tyler T
DESCRIPTION:
URL:https://www.marrsmountaincabins.com/event/live-music-tyler-t/
LOCATION:The Tavern at Red Feather Lakes\, 1078 Ramona Drive\, Suite 2\, Red Feather Lakes\, CO\, 80545\, United States
CATEGORIES:Live Music
ATTACH;FMTTYPE=image/jpeg:https://www.marrsmountaincabins.com/wp-content/uploads/Tyler-T-at-The-Tavern.jpg
ORGANIZER;CN="Rich & Kerrie Marr":MAILTO:richandkerrie@marrsmountaincabins.com
END:VEVENT
BEGIN:VEVENT
DTSTART;TZID=America/Denver:20260624T183000
DTEND;TZID=America/Denver:20260624T210000
DTSTAMP:20260421T090047
CREATED:20260206T224008Z
LAST-MODIFIED:20260208T205812Z
UID:10001850-1782325800-1782334800@www.marrsmountaincabins.com
SUMMARY:Acoustic Jam With Tommy Ventura
DESCRIPTION:
URL:https://www.marrsmountaincabins.com/event/acoustic-jam-with-tommy-ventura/2026-06-24/
LOCATION:The Tavern at Red Feather Lakes\, 1078 Ramona Drive\, Suite 2\, Red Feather Lakes\, CO\, 80545\, United States
CATEGORIES:Live Music
ATTACH;FMTTYPE=image/jpeg:https://www.marrsmountaincabins.com/wp-content/uploads/Acoustic-Jam-2026-Poster-scaled.jpg
ORGANIZER;CN="Rich & Kerrie Marr":MAILTO:richandkerrie@marrsmountaincabins.com
END:VEVENT
BEGIN:VEVENT
DTSTART;TZID=America/Denver:20260626T190000
DTEND;TZID=America/Denver:20260626T210000
DTSTAMP:20260421T090047
CREATED:20251018T024936Z
LAST-MODIFIED:20251018T024936Z
UID:10001783-1782500400-1782507600@www.marrsmountaincabins.com
SUMMARY:Live Music - Aaron Lacombe
DESCRIPTION:
URL:https://www.marrsmountaincabins.com/event/live-music-aaron-lacombe/
LOCATION:The Tavern at Red Feather Lakes\, 1078 Ramona Drive\, Suite 2\, Red Feather Lakes\, CO\, 80545\, United States
CATEGORIES:Live Music
ATTACH;FMTTYPE=image/jpeg:https://www.marrsmountaincabins.com/wp-content/uploads/Aaron-LaCombe-1.jpeg
ORGANIZER;CN="Rich & Kerrie Marr":MAILTO:richandkerrie@marrsmountaincabins.com
END:VEVENT
BEGIN:VEVENT
DTSTART;TZID=America/Denver:20260627T190000
DTEND;TZID=America/Denver:20260627T210000
DTSTAMP:20260421T090047
CREATED:20251013T045444Z
LAST-MODIFIED:20251013T045444Z
UID:10001776-1782586800-1782594000@www.marrsmountaincabins.com
SUMMARY:Live Music - Gordon Creek Band
DESCRIPTION:
URL:https://www.marrsmountaincabins.com/event/live-music-gordon-creek-band-3/
LOCATION:The Tavern at Red Feather Lakes\, 1078 Ramona Drive\, Suite 2\, Red Feather Lakes\, CO\, 80545\, United States
CATEGORIES:Live Music
ATTACH;FMTTYPE=image/jpeg:https://www.marrsmountaincabins.com/wp-content/uploads/Gordon-Creek-pic-5.jpg
ORGANIZER;CN="Rich & Kerrie Marr":MAILTO:richandkerrie@marrsmountaincabins.com
END:VEVENT
END:VCALENDAR