BEGIN:VCALENDAR
VERSION:2.0
PRODID:-//Marr&#039;s Mountain Cabins and Tavern - ECPv6.15.17.1//NONSGML v1.0//EN
CALSCALE:GREGORIAN
METHOD:PUBLISH
X-WR-CALNAME:Marr&#039;s Mountain Cabins and Tavern
X-ORIGINAL-URL:https://www.marrsmountaincabins.com
X-WR-CALDESC:Events for Marr&#039;s Mountain Cabins and Tavern
REFRESH-INTERVAL;VALUE=DURATION:PT1H
X-Robots-Tag:noindex
X-PUBLISHED-TTL:PT1H
BEGIN:VTIMEZONE
TZID:America/Denver
BEGIN:DAYLIGHT
TZOFFSETFROM:-0700
TZOFFSETTO:-0600
TZNAME:MDT
DTSTART:20250309T090000
END:DAYLIGHT
BEGIN:STANDARD
TZOFFSETFROM:-0600
TZOFFSETTO:-0700
TZNAME:MST
DTSTART:20251102T080000
END:STANDARD
BEGIN:DAYLIGHT
TZOFFSETFROM:-0700
TZOFFSETTO:-0600
TZNAME:MDT
DTSTART:20260308T090000
END:DAYLIGHT
BEGIN:STANDARD
TZOFFSETFROM:-0600
TZOFFSETTO:-0700
TZNAME:MST
DTSTART:20261101T080000
END:STANDARD
BEGIN:DAYLIGHT
TZOFFSETFROM:-0700
TZOFFSETTO:-0600
TZNAME:MDT
DTSTART:20270314T090000
END:DAYLIGHT
BEGIN:STANDARD
TZOFFSETFROM:-0600
TZOFFSETTO:-0700
TZNAME:MST
DTSTART:20271107T080000
END:STANDARD
END:VTIMEZONE
BEGIN:VEVENT
DTSTART;TZID=America/Denver:20260610T183000
DTEND;TZID=America/Denver:20260610T210000
DTSTAMP:20260421T085623
CREATED:20260206T224008Z
LAST-MODIFIED:20260208T205812Z
UID:10001848-1781116200-1781125200@www.marrsmountaincabins.com
SUMMARY:Acoustic Jam With Tommy Ventura
DESCRIPTION:
URL:https://www.marrsmountaincabins.com/event/acoustic-jam-with-tommy-ventura/2026-06-10/
LOCATION:The Tavern at Red Feather Lakes\, 1078 Ramona Drive\, Suite 2\, Red Feather Lakes\, CO\, 80545\, United States
CATEGORIES:Live Music
ATTACH;FMTTYPE=image/jpeg:https://www.marrsmountaincabins.com/wp-content/uploads/Acoustic-Jam-2026-Poster-scaled.jpg
ORGANIZER;CN="Rich & Kerrie Marr":MAILTO:richandkerrie@marrsmountaincabins.com
END:VEVENT
BEGIN:VEVENT
DTSTART;TZID=America/Denver:20260612T190000
DTEND;TZID=America/Denver:20260612T210000
DTSTAMP:20260421T085623
CREATED:20251231T204031Z
LAST-MODIFIED:20251231T204031Z
UID:10001824-1781290800-1781298000@www.marrsmountaincabins.com
SUMMARY:Live Music - Matt Skinner Duo
DESCRIPTION:
URL:https://www.marrsmountaincabins.com/event/live-music-matt-skinner-duo-2/
LOCATION:The Tavern at Red Feather Lakes\, 1078 Ramona Drive\, Suite 2\, Red Feather Lakes\, CO\, 80545\, United States
CATEGORIES:Live Music
ATTACH;FMTTYPE=image/jpeg:https://www.marrsmountaincabins.com/wp-content/uploads/DSC_0029-scaled.jpg
ORGANIZER;CN="Rich & Kerrie Marr":MAILTO:richandkerrie@marrsmountaincabins.com
END:VEVENT
BEGIN:VEVENT
DTSTART;TZID=America/Denver:20260613T183000
DTEND;TZID=America/Denver:20260613T220000
DTSTAMP:20260421T085623
CREATED:20251013T041541Z
LAST-MODIFIED:20260328T030249Z
UID:10001762-1781375400-1781388000@www.marrsmountaincabins.com
SUMMARY:Karaoke Nights
DESCRIPTION:
URL:https://www.marrsmountaincabins.com/event/karaoke-nights-2/2026-06-13/
LOCATION:The Tavern at Red Feather Lakes\, 1078 Ramona Drive\, Suite 2\, Red Feather Lakes\, CO\, 80545\, United States
CATEGORIES:Karaoke
ATTACH;FMTTYPE=image/jpeg:https://www.marrsmountaincabins.com/wp-content/uploads/Karaoke-2026-Poster-scaled.jpg
ORGANIZER;CN="Rich & Kerrie Marr":MAILTO:richandkerrie@marrsmountaincabins.com
END:VEVENT
BEGIN:VEVENT
DTSTART;TZID=America/Denver:20260617T183000
DTEND;TZID=America/Denver:20260617T210000
DTSTAMP:20260421T085623
CREATED:20260206T224008Z
LAST-MODIFIED:20260208T205812Z
UID:10001849-1781721000-1781730000@www.marrsmountaincabins.com
SUMMARY:Acoustic Jam With Tommy Ventura
DESCRIPTION:
URL:https://www.marrsmountaincabins.com/event/acoustic-jam-with-tommy-ventura/2026-06-17/
LOCATION:The Tavern at Red Feather Lakes\, 1078 Ramona Drive\, Suite 2\, Red Feather Lakes\, CO\, 80545\, United States
CATEGORIES:Live Music
ATTACH;FMTTYPE=image/jpeg:https://www.marrsmountaincabins.com/wp-content/uploads/Acoustic-Jam-2026-Poster-scaled.jpg
ORGANIZER;CN="Rich & Kerrie Marr":MAILTO:richandkerrie@marrsmountaincabins.com
END:VEVENT
BEGIN:VEVENT
DTSTART;TZID=America/Denver:20260619T180000
DTEND;TZID=America/Denver:20260619T203000
DTSTAMP:20260421T085623
CREATED:20251007T043826Z
LAST-MODIFIED:20260318T222948Z
UID:10001529-1781892000-1781901000@www.marrsmountaincabins.com
SUMMARY:Trivia Night
DESCRIPTION:
URL:https://www.marrsmountaincabins.com/event/trivia-night/2026-06-19/
LOCATION:The Tavern at Red Feather Lakes\, 1078 Ramona Drive\, Suite 2\, Red Feather Lakes\, CO\, 80545\, United States
CATEGORIES:Trivia
ATTACH;FMTTYPE=image/jpeg:https://www.marrsmountaincabins.com/wp-content/uploads/Trivia-Night-2026-Poster-scaled.jpg
ORGANIZER;CN="Rich & Kerrie Marr":MAILTO:richandkerrie@marrsmountaincabins.com
END:VEVENT
BEGIN:VEVENT
DTSTART;TZID=America/Denver:20260620T190000
DTEND;TZID=America/Denver:20260620T210000
DTSTAMP:20260421T085623
CREATED:20251013T042210Z
LAST-MODIFIED:20260316T215519Z
UID:10001769-1781982000-1781989200@www.marrsmountaincabins.com
SUMMARY:Live Music - Tyler T
DESCRIPTION:
URL:https://www.marrsmountaincabins.com/event/live-music-tyler-t/
LOCATION:The Tavern at Red Feather Lakes\, 1078 Ramona Drive\, Suite 2\, Red Feather Lakes\, CO\, 80545\, United States
CATEGORIES:Live Music
ATTACH;FMTTYPE=image/jpeg:https://www.marrsmountaincabins.com/wp-content/uploads/Tyler-T-at-The-Tavern.jpg
ORGANIZER;CN="Rich & Kerrie Marr":MAILTO:richandkerrie@marrsmountaincabins.com
END:VEVENT
BEGIN:VEVENT
DTSTART;TZID=America/Denver:20260624T183000
DTEND;TZID=America/Denver:20260624T210000
DTSTAMP:20260421T085623
CREATED:20260206T224008Z
LAST-MODIFIED:20260208T205812Z
UID:10001850-1782325800-1782334800@www.marrsmountaincabins.com
SUMMARY:Acoustic Jam With Tommy Ventura
DESCRIPTION:
URL:https://www.marrsmountaincabins.com/event/acoustic-jam-with-tommy-ventura/2026-06-24/
LOCATION:The Tavern at Red Feather Lakes\, 1078 Ramona Drive\, Suite 2\, Red Feather Lakes\, CO\, 80545\, United States
CATEGORIES:Live Music
ATTACH;FMTTYPE=image/jpeg:https://www.marrsmountaincabins.com/wp-content/uploads/Acoustic-Jam-2026-Poster-scaled.jpg
ORGANIZER;CN="Rich & Kerrie Marr":MAILTO:richandkerrie@marrsmountaincabins.com
END:VEVENT
BEGIN:VEVENT
DTSTART;TZID=America/Denver:20260626T190000
DTEND;TZID=America/Denver:20260626T210000
DTSTAMP:20260421T085623
CREATED:20251018T024936Z
LAST-MODIFIED:20251018T024936Z
UID:10001783-1782500400-1782507600@www.marrsmountaincabins.com
SUMMARY:Live Music - Aaron Lacombe
DESCRIPTION:
URL:https://www.marrsmountaincabins.com/event/live-music-aaron-lacombe/
LOCATION:The Tavern at Red Feather Lakes\, 1078 Ramona Drive\, Suite 2\, Red Feather Lakes\, CO\, 80545\, United States
CATEGORIES:Live Music
ATTACH;FMTTYPE=image/jpeg:https://www.marrsmountaincabins.com/wp-content/uploads/Aaron-LaCombe-1.jpeg
ORGANIZER;CN="Rich & Kerrie Marr":MAILTO:richandkerrie@marrsmountaincabins.com
END:VEVENT
BEGIN:VEVENT
DTSTART;TZID=America/Denver:20260627T190000
DTEND;TZID=America/Denver:20260627T210000
DTSTAMP:20260421T085623
CREATED:20251013T045444Z
LAST-MODIFIED:20251013T045444Z
UID:10001776-1782586800-1782594000@www.marrsmountaincabins.com
SUMMARY:Live Music - Gordon Creek Band
DESCRIPTION:
URL:https://www.marrsmountaincabins.com/event/live-music-gordon-creek-band-3/
LOCATION:The Tavern at Red Feather Lakes\, 1078 Ramona Drive\, Suite 2\, Red Feather Lakes\, CO\, 80545\, United States
CATEGORIES:Live Music
ATTACH;FMTTYPE=image/jpeg:https://www.marrsmountaincabins.com/wp-content/uploads/Gordon-Creek-pic-5.jpg
ORGANIZER;CN="Rich & Kerrie Marr":MAILTO:richandkerrie@marrsmountaincabins.com
END:VEVENT
BEGIN:VEVENT
DTSTART;TZID=America/Denver:20260701T183000
DTEND;TZID=America/Denver:20260701T210000
DTSTAMP:20260421T085623
CREATED:20260206T224008Z
LAST-MODIFIED:20260208T205812Z
UID:10001851-1782930600-1782939600@www.marrsmountaincabins.com
SUMMARY:Acoustic Jam With Tommy Ventura
DESCRIPTION:
URL:https://www.marrsmountaincabins.com/event/acoustic-jam-with-tommy-ventura/2026-07-01/
LOCATION:The Tavern at Red Feather Lakes\, 1078 Ramona Drive\, Suite 2\, Red Feather Lakes\, CO\, 80545\, United States
CATEGORIES:Live Music
ATTACH;FMTTYPE=image/jpeg:https://www.marrsmountaincabins.com/wp-content/uploads/Acoustic-Jam-2026-Poster-scaled.jpg
ORGANIZER;CN="Rich & Kerrie Marr":MAILTO:richandkerrie@marrsmountaincabins.com
END:VEVENT
BEGIN:VEVENT
DTSTART;TZID=America/Denver:20260703T180000
DTEND;TZID=America/Denver:20260703T203000
DTSTAMP:20260421T085623
CREATED:20251007T043826Z
LAST-MODIFIED:20260318T222948Z
UID:10001531-1783101600-1783110600@www.marrsmountaincabins.com
SUMMARY:Trivia Night
DESCRIPTION:
URL:https://www.marrsmountaincabins.com/event/trivia-night/2026-07-03/
LOCATION:The Tavern at Red Feather Lakes\, 1078 Ramona Drive\, Suite 2\, Red Feather Lakes\, CO\, 80545\, United States
CATEGORIES:Trivia
ATTACH;FMTTYPE=image/jpeg:https://www.marrsmountaincabins.com/wp-content/uploads/Trivia-Night-2026-Poster-scaled.jpg
ORGANIZER;CN="Rich & Kerrie Marr":MAILTO:richandkerrie@marrsmountaincabins.com
END:VEVENT
BEGIN:VEVENT
DTSTART;TZID=America/Denver:20260704T100000
DTEND;TZID=America/Denver:20260704T120000
DTSTAMP:20260421T085623
CREATED:20260316T221010Z
LAST-MODIFIED:20260316T221010Z
UID:10001888-1783159200-1783166400@www.marrsmountaincabins.com
SUMMARY:Red Feather Lakes 3.6 Mile Fun Run
DESCRIPTION:
URL:https://www.marrsmountaincabins.com/event/red-feather-lakes-3-6-mile-fun-run/
LOCATION:The Tavern at Red Feather Lakes\, 1078 Ramona Drive\, Suite 2\, Red Feather Lakes\, CO\, 80545\, United States
CATEGORIES:Event
ATTACH;FMTTYPE=image/jpeg:https://www.marrsmountaincabins.com/wp-content/uploads/36-Mi-Fun-Run-2026-scaled.jpg
ORGANIZER;CN="Rich & Kerrie Marr":MAILTO:richandkerrie@marrsmountaincabins.com
END:VEVENT
BEGIN:VEVENT
DTSTART;TZID=America/Denver:20260704T190000
DTEND;TZID=America/Denver:20260704T210000
DTSTAMP:20260421T085623
CREATED:20251020T230542Z
LAST-MODIFIED:20260316T215428Z
UID:10001790-1783191600-1783198800@www.marrsmountaincabins.com
SUMMARY:Live Music - Bobby Coffman Blues Night
DESCRIPTION:
URL:https://www.marrsmountaincabins.com/event/live-music-bobby-coffman-blues-night/
LOCATION:The Tavern at Red Feather Lakes\, 1078 Ramona Drive\, Suite 2\, Red Feather Lakes\, CO\, 80545\, United States
CATEGORIES:Live Music
ATTACH;FMTTYPE=image/jpeg:https://www.marrsmountaincabins.com/wp-content/uploads/Bobby-1.jpg
ORGANIZER;CN="Rich & Kerrie Marr":MAILTO:richandkerrie@marrsmountaincabins.com
END:VEVENT
BEGIN:VEVENT
DTSTART;TZID=America/Denver:20260705T130000
DTEND;TZID=America/Denver:20260705T150000
DTSTAMP:20260421T085623
CREATED:20260107T005311Z
LAST-MODIFIED:20260107T010142Z
UID:10001828-1783256400-1783263600@www.marrsmountaincabins.com
SUMMARY:Live Music - John Mckay
DESCRIPTION:
URL:https://www.marrsmountaincabins.com/event/live-music-john-mckay/
LOCATION:The Tavern at Red Feather Lakes\, 1078 Ramona Drive\, Suite 2\, Red Feather Lakes\, CO\, 80545\, United States
CATEGORIES:Live Music
ATTACH;FMTTYPE=image/jpeg:https://www.marrsmountaincabins.com/wp-content/uploads/John-McKay-1.jpeg
ORGANIZER;CN="Rich & Kerrie Marr":MAILTO:richandkerrie@marrsmountaincabins.com
END:VEVENT
BEGIN:VEVENT
DTSTART;TZID=America/Denver:20260708T183000
DTEND;TZID=America/Denver:20260708T210000
DTSTAMP:20260421T085623
CREATED:20260206T224008Z
LAST-MODIFIED:20260208T205812Z
UID:10001852-1783535400-1783544400@www.marrsmountaincabins.com
SUMMARY:Acoustic Jam With Tommy Ventura
DESCRIPTION:
URL:https://www.marrsmountaincabins.com/event/acoustic-jam-with-tommy-ventura/2026-07-08/
LOCATION:The Tavern at Red Feather Lakes\, 1078 Ramona Drive\, Suite 2\, Red Feather Lakes\, CO\, 80545\, United States
CATEGORIES:Live Music
ATTACH;FMTTYPE=image/jpeg:https://www.marrsmountaincabins.com/wp-content/uploads/Acoustic-Jam-2026-Poster-scaled.jpg
ORGANIZER;CN="Rich & Kerrie Marr":MAILTO:richandkerrie@marrsmountaincabins.com
END:VEVENT
BEGIN:VEVENT
DTSTART;TZID=America/Denver:20260710T190000
DTEND;TZID=America/Denver:20260710T210000
DTSTAMP:20260421T085623
CREATED:20260311T220923Z
LAST-MODIFIED:20260311T220923Z
UID:10001881-1783710000-1783717200@www.marrsmountaincabins.com
SUMMARY:Live Music - Eli Rey
DESCRIPTION:
URL:https://www.marrsmountaincabins.com/event/live-music-eli-rey/
LOCATION:The Tavern at Red Feather Lakes\, 1078 Ramona Drive\, Suite 2\, Red Feather Lakes\, CO\, 80545\, United States
CATEGORIES:Live Music
ATTACH;FMTTYPE=image/jpeg:https://www.marrsmountaincabins.com/wp-content/uploads/IMG_3182-scaled.jpg
ORGANIZER;CN="Rich & Kerrie Marr":MAILTO:richandkerrie@marrsmountaincabins.com
END:VEVENT
BEGIN:VEVENT
DTSTART;TZID=America/Denver:20260711T190000
DTEND;TZID=America/Denver:20260711T210000
DTSTAMP:20260421T085623
CREATED:20260328T030321Z
LAST-MODIFIED:20260328T030321Z
UID:10001893-1783796400-1783803600@www.marrsmountaincabins.com
SUMMARY:Live Music - The Waido Experience
DESCRIPTION:
URL:https://www.marrsmountaincabins.com/event/live-music-the-waido-experience/
LOCATION:The Tavern at Red Feather Lakes\, 1078 Ramona Drive\, Suite 2\, Red Feather Lakes\, CO\, 80545\, United States
CATEGORIES:Live Music
ATTACH;FMTTYPE=image/jpeg:https://www.marrsmountaincabins.com/wp-content/uploads/lead-singer-pic-scaled.jpg
ORGANIZER;CN="Rich & Kerrie Marr":MAILTO:richandkerrie@marrsmountaincabins.com
END:VEVENT
BEGIN:VEVENT
DTSTART;TZID=America/Denver:20260715T183000
DTEND;TZID=America/Denver:20260715T210000
DTSTAMP:20260421T085623
CREATED:20260206T224008Z
LAST-MODIFIED:20260208T205812Z
UID:10001853-1784140200-1784149200@www.marrsmountaincabins.com
SUMMARY:Acoustic Jam With Tommy Ventura
DESCRIPTION:
URL:https://www.marrsmountaincabins.com/event/acoustic-jam-with-tommy-ventura/2026-07-15/
LOCATION:The Tavern at Red Feather Lakes\, 1078 Ramona Drive\, Suite 2\, Red Feather Lakes\, CO\, 80545\, United States
CATEGORIES:Live Music
ATTACH;FMTTYPE=image/jpeg:https://www.marrsmountaincabins.com/wp-content/uploads/Acoustic-Jam-2026-Poster-scaled.jpg
ORGANIZER;CN="Rich & Kerrie Marr":MAILTO:richandkerrie@marrsmountaincabins.com
END:VEVENT
BEGIN:VEVENT
DTSTART;TZID=America/Denver:20260717T180000
DTEND;TZID=America/Denver:20260717T203000
DTSTAMP:20260421T085623
CREATED:20251007T043826Z
LAST-MODIFIED:20260318T222948Z
UID:10001533-1784311200-1784320200@www.marrsmountaincabins.com
SUMMARY:Trivia Night
DESCRIPTION:
URL:https://www.marrsmountaincabins.com/event/trivia-night/2026-07-17/
LOCATION:The Tavern at Red Feather Lakes\, 1078 Ramona Drive\, Suite 2\, Red Feather Lakes\, CO\, 80545\, United States
CATEGORIES:Trivia
ATTACH;FMTTYPE=image/jpeg:https://www.marrsmountaincabins.com/wp-content/uploads/Trivia-Night-2026-Poster-scaled.jpg
ORGANIZER;CN="Rich & Kerrie Marr":MAILTO:richandkerrie@marrsmountaincabins.com
END:VEVENT
BEGIN:VEVENT
DTSTART;TZID=America/Denver:20260718T190000
DTEND;TZID=America/Denver:20260718T210000
DTSTAMP:20260421T085623
CREATED:20260318T223425Z
LAST-MODIFIED:20260328T033613Z
UID:10001891-1784401200-1784408400@www.marrsmountaincabins.com
SUMMARY:Live Music - Elise Wunder
DESCRIPTION:
URL:https://www.marrsmountaincabins.com/event/live-music-elise-wunder/
LOCATION:The Tavern at Red Feather Lakes\, 1078 Ramona Drive\, Suite 2\, Red Feather Lakes\, CO\, 80545\, United States
CATEGORIES:Live Music
ATTACH;FMTTYPE=image/jpeg:https://www.marrsmountaincabins.com/wp-content/uploads/Elise-Wunder-1.jpg
ORGANIZER;CN="Rich & Kerrie Marr":MAILTO:richandkerrie@marrsmountaincabins.com
END:VEVENT
BEGIN:VEVENT
DTSTART;TZID=America/Denver:20260722T183000
DTEND;TZID=America/Denver:20260722T210000
DTSTAMP:20260421T085623
CREATED:20260206T224008Z
LAST-MODIFIED:20260208T205812Z
UID:10001854-1784745000-1784754000@www.marrsmountaincabins.com
SUMMARY:Acoustic Jam With Tommy Ventura
DESCRIPTION:
URL:https://www.marrsmountaincabins.com/event/acoustic-jam-with-tommy-ventura/2026-07-22/
LOCATION:The Tavern at Red Feather Lakes\, 1078 Ramona Drive\, Suite 2\, Red Feather Lakes\, CO\, 80545\, United States
CATEGORIES:Live Music
ATTACH;FMTTYPE=image/jpeg:https://www.marrsmountaincabins.com/wp-content/uploads/Acoustic-Jam-2026-Poster-scaled.jpg
ORGANIZER;CN="Rich & Kerrie Marr":MAILTO:richandkerrie@marrsmountaincabins.com
END:VEVENT
BEGIN:VEVENT
DTSTART;TZID=America/Denver:20260724T190000
DTEND;TZID=America/Denver:20260724T210000
DTSTAMP:20260421T085623
CREATED:20260107T004936Z
LAST-MODIFIED:20260107T004936Z
UID:10001827-1784919600-1784926800@www.marrsmountaincabins.com
SUMMARY:Live Music - Joe Teichman
DESCRIPTION:estled in the heart of Denver\, Colorado\, where the sprawling plains meet the majestic Rockies\, Joe Teichman is crafting a sound that echoes the timeless spirit of country and folk. With a voice weathered by high-altitude winds and lyrics that resonate with the raw honesty of mountain living\, Joe Teichman’s music is a testament to the enduring power of storytelling. \nDrawing inspiration and sharing the stage with artists such as; Walt Wilkins\, Susan Gibson\, Drew Kennedy and many more\, Teichman weaves narratives of love\, loss\, and the quiet resilience of everyday life. His songs\, often born from late-night ponderings and early-morning hikes\, are steeped in the imagery of his Colorado home – the vast skies\, the rugged landscapes\, and the close-knit communities that thrive in the shadow of the peaks. \nHis upcoming album\, “Coriolis”\, is a collection of songs that reflect his journey as a songwriter and now resident of the Centennial State. \nWith a growing local following and a sound that’s both familiar and refreshingly unique\, Teichman is poised to make a significant mark on the country/folk scene. His live performances\, intimate and engaging\, are a testament to his passion for connecting with audiences through the power of music.
URL:https://www.marrsmountaincabins.com/event/live-music-joe-teichman/
LOCATION:The Tavern at Red Feather Lakes\, 1078 Ramona Drive\, Suite 2\, Red Feather Lakes\, CO\, 80545\, United States
CATEGORIES:Live Music
ORGANIZER;CN="Rich & Kerrie Marr":MAILTO:richandkerrie@marrsmountaincabins.com
END:VEVENT
BEGIN:VEVENT
DTSTART;TZID=America/Denver:20260725T190000
DTEND;TZID=America/Denver:20260725T210000
DTSTAMP:20260421T085623
CREATED:20251021T030539Z
LAST-MODIFIED:20251021T030539Z
UID:10001797-1785006000-1785013200@www.marrsmountaincabins.com
SUMMARY:Live Music - Gii Astorga
DESCRIPTION:
URL:https://www.marrsmountaincabins.com/event/live-music-gii-astorga-2/
LOCATION:The Tavern at Red Feather Lakes\, 1078 Ramona Drive\, Suite 2\, Red Feather Lakes\, CO\, 80545\, United States
CATEGORIES:Live Music
ATTACH;FMTTYPE=image/jpeg:https://www.marrsmountaincabins.com/wp-content/uploads/Gii-Pic-3.jpg
ORGANIZER;CN="Rich & Kerrie Marr":MAILTO:richandkerrie@marrsmountaincabins.com
END:VEVENT
BEGIN:VEVENT
DTSTART;TZID=America/Denver:20260729T183000
DTEND;TZID=America/Denver:20260729T210000
DTSTAMP:20260421T085623
CREATED:20260206T224008Z
LAST-MODIFIED:20260208T205812Z
UID:10001855-1785349800-1785358800@www.marrsmountaincabins.com
SUMMARY:Acoustic Jam With Tommy Ventura
DESCRIPTION:
URL:https://www.marrsmountaincabins.com/event/acoustic-jam-with-tommy-ventura/2026-07-29/
LOCATION:The Tavern at Red Feather Lakes\, 1078 Ramona Drive\, Suite 2\, Red Feather Lakes\, CO\, 80545\, United States
CATEGORIES:Live Music
ATTACH;FMTTYPE=image/jpeg:https://www.marrsmountaincabins.com/wp-content/uploads/Acoustic-Jam-2026-Poster-scaled.jpg
ORGANIZER;CN="Rich & Kerrie Marr":MAILTO:richandkerrie@marrsmountaincabins.com
END:VEVENT
BEGIN:VEVENT
DTSTART;TZID=America/Denver:20260731T180000
DTEND;TZID=America/Denver:20260731T203000
DTSTAMP:20260421T085623
CREATED:20251007T043826Z
LAST-MODIFIED:20260318T222948Z
UID:10001535-1785520800-1785529800@www.marrsmountaincabins.com
SUMMARY:Trivia Night
DESCRIPTION:
URL:https://www.marrsmountaincabins.com/event/trivia-night/2026-07-31/
LOCATION:The Tavern at Red Feather Lakes\, 1078 Ramona Drive\, Suite 2\, Red Feather Lakes\, CO\, 80545\, United States
CATEGORIES:Trivia
ATTACH;FMTTYPE=image/jpeg:https://www.marrsmountaincabins.com/wp-content/uploads/Trivia-Night-2026-Poster-scaled.jpg
ORGANIZER;CN="Rich & Kerrie Marr":MAILTO:richandkerrie@marrsmountaincabins.com
END:VEVENT
BEGIN:VEVENT
DTSTART;TZID=America/Denver:20260801T190000
DTEND;TZID=America/Denver:20260801T210000
DTSTAMP:20260421T085623
CREATED:20251023T152625Z
LAST-MODIFIED:20251023T152625Z
UID:10001802-1785610800-1785618000@www.marrsmountaincabins.com
SUMMARY:Live Music - Deejay Brown
DESCRIPTION:
URL:https://www.marrsmountaincabins.com/event/live-music-deejay-brown/
LOCATION:The Tavern at Red Feather Lakes\, 1078 Ramona Drive\, Suite 2\, Red Feather Lakes\, CO\, 80545\, United States
CATEGORIES:Live Music
ATTACH;FMTTYPE=image/jpeg:https://www.marrsmountaincabins.com/wp-content/uploads/Deejay-Brown-1-1.jpg
ORGANIZER;CN="Rich & Kerrie Marr":MAILTO:richandkerrie@marrsmountaincabins.com
END:VEVENT
BEGIN:VEVENT
DTSTART;TZID=America/Denver:20260805T183000
DTEND;TZID=America/Denver:20260805T210000
DTSTAMP:20260421T085623
CREATED:20260206T224008Z
LAST-MODIFIED:20260208T205812Z
UID:10001856-1785954600-1785963600@www.marrsmountaincabins.com
SUMMARY:Acoustic Jam With Tommy Ventura
DESCRIPTION:
URL:https://www.marrsmountaincabins.com/event/acoustic-jam-with-tommy-ventura/2026-08-05/
LOCATION:The Tavern at Red Feather Lakes\, 1078 Ramona Drive\, Suite 2\, Red Feather Lakes\, CO\, 80545\, United States
CATEGORIES:Live Music
ATTACH;FMTTYPE=image/jpeg:https://www.marrsmountaincabins.com/wp-content/uploads/Acoustic-Jam-2026-Poster-scaled.jpg
ORGANIZER;CN="Rich & Kerrie Marr":MAILTO:richandkerrie@marrsmountaincabins.com
END:VEVENT
BEGIN:VEVENT
DTSTART;TZID=America/Denver:20260807T190000
DTEND;TZID=America/Denver:20260807T210000
DTSTAMP:20260421T085623
CREATED:20251024T221343Z
LAST-MODIFIED:20251024T221343Z
UID:10001806-1786129200-1786136400@www.marrsmountaincabins.com
SUMMARY:Live Music - Reminisce Live
DESCRIPTION:
URL:https://www.marrsmountaincabins.com/event/live-music-reminisce-live/
LOCATION:The Tavern at Red Feather Lakes\, 1078 Ramona Drive\, Suite 2\, Red Feather Lakes\, CO\, 80545\, United States
CATEGORIES:Live Music
ATTACH;FMTTYPE=image/jpeg:https://www.marrsmountaincabins.com/wp-content/uploads/Reminisce-1.jpg
ORGANIZER;CN="Rich & Kerrie Marr":MAILTO:richandkerrie@marrsmountaincabins.com
END:VEVENT
BEGIN:VEVENT
DTSTART;TZID=America/Denver:20260808T183000
DTEND;TZID=America/Denver:20260808T220000
DTSTAMP:20260421T085623
CREATED:20251013T041541Z
LAST-MODIFIED:20260328T030249Z
UID:10001764-1786213800-1786226400@www.marrsmountaincabins.com
SUMMARY:Karaoke Nights
DESCRIPTION:
URL:https://www.marrsmountaincabins.com/event/karaoke-nights-2/2026-08-08/
LOCATION:The Tavern at Red Feather Lakes\, 1078 Ramona Drive\, Suite 2\, Red Feather Lakes\, CO\, 80545\, United States
CATEGORIES:Karaoke
ATTACH;FMTTYPE=image/jpeg:https://www.marrsmountaincabins.com/wp-content/uploads/Karaoke-2026-Poster-scaled.jpg
ORGANIZER;CN="Rich & Kerrie Marr":MAILTO:richandkerrie@marrsmountaincabins.com
END:VEVENT
BEGIN:VEVENT
DTSTART;TZID=America/Denver:20260812T183000
DTEND;TZID=America/Denver:20260812T210000
DTSTAMP:20260421T085623
CREATED:20260206T224008Z
LAST-MODIFIED:20260208T205812Z
UID:10001857-1786559400-1786568400@www.marrsmountaincabins.com
SUMMARY:Acoustic Jam With Tommy Ventura
DESCRIPTION:
URL:https://www.marrsmountaincabins.com/event/acoustic-jam-with-tommy-ventura/2026-08-12/
LOCATION:The Tavern at Red Feather Lakes\, 1078 Ramona Drive\, Suite 2\, Red Feather Lakes\, CO\, 80545\, United States
CATEGORIES:Live Music
ATTACH;FMTTYPE=image/jpeg:https://www.marrsmountaincabins.com/wp-content/uploads/Acoustic-Jam-2026-Poster-scaled.jpg
ORGANIZER;CN="Rich & Kerrie Marr":MAILTO:richandkerrie@marrsmountaincabins.com
END:VEVENT
END:VCALENDAR