BEGIN:VCALENDAR
VERSION:2.0
PRODID:-//Marr&#039;s Mountain Cabins and Tavern - ECPv6.15.17.1//NONSGML v1.0//EN
CALSCALE:GREGORIAN
METHOD:PUBLISH
X-ORIGINAL-URL:https://www.marrsmountaincabins.com
X-WR-CALDESC:Events for Marr&#039;s Mountain Cabins and Tavern
REFRESH-INTERVAL;VALUE=DURATION:PT1H
X-Robots-Tag:noindex
X-PUBLISHED-TTL:PT1H
BEGIN:VTIMEZONE
TZID:America/Denver
BEGIN:DAYLIGHT
TZOFFSETFROM:-0700
TZOFFSETTO:-0600
TZNAME:MDT
DTSTART:20250309T090000
END:DAYLIGHT
BEGIN:STANDARD
TZOFFSETFROM:-0600
TZOFFSETTO:-0700
TZNAME:MST
DTSTART:20251102T080000
END:STANDARD
BEGIN:DAYLIGHT
TZOFFSETFROM:-0700
TZOFFSETTO:-0600
TZNAME:MDT
DTSTART:20260308T090000
END:DAYLIGHT
BEGIN:STANDARD
TZOFFSETFROM:-0600
TZOFFSETTO:-0700
TZNAME:MST
DTSTART:20261101T080000
END:STANDARD
BEGIN:DAYLIGHT
TZOFFSETFROM:-0700
TZOFFSETTO:-0600
TZNAME:MDT
DTSTART:20270314T090000
END:DAYLIGHT
BEGIN:STANDARD
TZOFFSETFROM:-0600
TZOFFSETTO:-0700
TZNAME:MST
DTSTART:20271107T080000
END:STANDARD
BEGIN:DAYLIGHT
TZOFFSETFROM:-0700
TZOFFSETTO:-0600
TZNAME:MDT
DTSTART:20280312T090000
END:DAYLIGHT
BEGIN:STANDARD
TZOFFSETFROM:-0600
TZOFFSETTO:-0700
TZNAME:MST
DTSTART:20281105T080000
END:STANDARD
END:VTIMEZONE
BEGIN:VEVENT
DTSTART;TZID=America/Denver:20261218T180000
DTEND;TZID=America/Denver:20261218T203000
DTSTAMP:20260421T205856
CREATED:20251007T043826Z
LAST-MODIFIED:20260318T222948Z
UID:10001555-1797616800-1797625800@www.marrsmountaincabins.com
SUMMARY:Trivia Night
DESCRIPTION:
URL:https://www.marrsmountaincabins.com/event/trivia-night/2026-12-18/
LOCATION:The Tavern at Red Feather Lakes\, 1078 Ramona Drive\, Suite 2\, Red Feather Lakes\, CO\, 80545\, United States
CATEGORIES:Trivia
ATTACH;FMTTYPE=image/jpeg:https://www.marrsmountaincabins.com/wp-content/uploads/Trivia-Night-2026-Poster-scaled.jpg
ORGANIZER;CN="Rich & Kerrie Marr":MAILTO:richandkerrie@marrsmountaincabins.com
END:VEVENT
BEGIN:VEVENT
DTSTART;TZID=America/Denver:20261219T190000
DTEND;TZID=America/Denver:20261219T210000
DTSTAMP:20260421T205856
CREATED:20260311T215631Z
LAST-MODIFIED:20260311T215631Z
UID:10001880-1797706800-1797714000@www.marrsmountaincabins.com
SUMMARY:Live Music - Matt Skinner Duo
DESCRIPTION:
URL:https://www.marrsmountaincabins.com/event/live-music-matt-skinner-duo-3/
LOCATION:The Tavern at Red Feather Lakes\, 1078 Ramona Drive\, Suite 2\, Red Feather Lakes\, CO\, 80545\, United States
CATEGORIES:Live Music
ATTACH;FMTTYPE=image/jpeg:https://www.marrsmountaincabins.com/wp-content/uploads/DSC_0026-scaled.jpg
ORGANIZER;CN="Rich & Kerrie Marr":MAILTO:richandkerrie@marrsmountaincabins.com
END:VEVENT
BEGIN:VEVENT
DTSTART;TZID=America/Denver:20261225T180000
DTEND;TZID=America/Denver:20261225T203000
DTSTAMP:20260421T205856
CREATED:20251007T043826Z
LAST-MODIFIED:20260318T222948Z
UID:10001556-1798221600-1798230600@www.marrsmountaincabins.com
SUMMARY:Trivia Night
DESCRIPTION:
URL:https://www.marrsmountaincabins.com/event/trivia-night/2026-12-25/
LOCATION:The Tavern at Red Feather Lakes\, 1078 Ramona Drive\, Suite 2\, Red Feather Lakes\, CO\, 80545\, United States
CATEGORIES:Trivia
ATTACH;FMTTYPE=image/jpeg:https://www.marrsmountaincabins.com/wp-content/uploads/Trivia-Night-2026-Poster-scaled.jpg
ORGANIZER;CN="Rich & Kerrie Marr":MAILTO:richandkerrie@marrsmountaincabins.com
END:VEVENT
BEGIN:VEVENT
DTSTART;TZID=America/Denver:20261226T190000
DTEND;TZID=America/Denver:20261226T210000
DTSTAMP:20260421T205856
CREATED:20251013T045709Z
LAST-MODIFIED:20251013T045709Z
UID:10001779-1798311600-1798318800@www.marrsmountaincabins.com
SUMMARY:Live Music - Gordon Creek Band
DESCRIPTION:
URL:https://www.marrsmountaincabins.com/event/live-music-gordon-creek-band-7/
LOCATION:The Tavern at Red Feather Lakes\, 1078 Ramona Drive\, Suite 2\, Red Feather Lakes\, CO\, 80545\, United States
CATEGORIES:Live Music
ATTACH;FMTTYPE=image/jpeg:https://www.marrsmountaincabins.com/wp-content/uploads/Gordon-Creek-pic-5.jpg
ORGANIZER;CN="Rich & Kerrie Marr":MAILTO:richandkerrie@marrsmountaincabins.com
END:VEVENT
BEGIN:VEVENT
DTSTART;TZID=America/Denver:20270101T180000
DTEND;TZID=America/Denver:20270101T203000
DTSTAMP:20260421T205856
CREATED:20251007T043826Z
LAST-MODIFIED:20260318T222948Z
UID:10001557-1798826400-1798835400@www.marrsmountaincabins.com
SUMMARY:Trivia Night
DESCRIPTION:
URL:https://www.marrsmountaincabins.com/event/trivia-night/2027-01-01/
LOCATION:The Tavern at Red Feather Lakes\, 1078 Ramona Drive\, Suite 2\, Red Feather Lakes\, CO\, 80545\, United States
CATEGORIES:Trivia
ATTACH;FMTTYPE=image/jpeg:https://www.marrsmountaincabins.com/wp-content/uploads/Trivia-Night-2026-Poster-scaled.jpg
ORGANIZER;CN="Rich & Kerrie Marr":MAILTO:richandkerrie@marrsmountaincabins.com
END:VEVENT
BEGIN:VEVENT
DTSTART;TZID=America/Denver:20270108T180000
DTEND;TZID=America/Denver:20270108T203000
DTSTAMP:20260421T205856
CREATED:20251007T043826Z
LAST-MODIFIED:20260318T222948Z
UID:10001558-1799431200-1799440200@www.marrsmountaincabins.com
SUMMARY:Trivia Night
DESCRIPTION:
URL:https://www.marrsmountaincabins.com/event/trivia-night/2027-01-08/
LOCATION:The Tavern at Red Feather Lakes\, 1078 Ramona Drive\, Suite 2\, Red Feather Lakes\, CO\, 80545\, United States
CATEGORIES:Trivia
ATTACH;FMTTYPE=image/jpeg:https://www.marrsmountaincabins.com/wp-content/uploads/Trivia-Night-2026-Poster-scaled.jpg
ORGANIZER;CN="Rich & Kerrie Marr":MAILTO:richandkerrie@marrsmountaincabins.com
END:VEVENT
BEGIN:VEVENT
DTSTART;TZID=America/Denver:20270115T180000
DTEND;TZID=America/Denver:20270115T203000
DTSTAMP:20260421T205857
CREATED:20251007T043826Z
LAST-MODIFIED:20260318T222948Z
UID:10001559-1800036000-1800045000@www.marrsmountaincabins.com
SUMMARY:Trivia Night
DESCRIPTION:
URL:https://www.marrsmountaincabins.com/event/trivia-night/2027-01-15/
LOCATION:The Tavern at Red Feather Lakes\, 1078 Ramona Drive\, Suite 2\, Red Feather Lakes\, CO\, 80545\, United States
CATEGORIES:Trivia
ATTACH;FMTTYPE=image/jpeg:https://www.marrsmountaincabins.com/wp-content/uploads/Trivia-Night-2026-Poster-scaled.jpg
ORGANIZER;CN="Rich & Kerrie Marr":MAILTO:richandkerrie@marrsmountaincabins.com
END:VEVENT
BEGIN:VEVENT
DTSTART;TZID=America/Denver:20270122T180000
DTEND;TZID=America/Denver:20270122T203000
DTSTAMP:20260421T205857
CREATED:20251007T043826Z
LAST-MODIFIED:20260318T222948Z
UID:10001560-1800640800-1800649800@www.marrsmountaincabins.com
SUMMARY:Trivia Night
DESCRIPTION:
URL:https://www.marrsmountaincabins.com/event/trivia-night/2027-01-22/
LOCATION:The Tavern at Red Feather Lakes\, 1078 Ramona Drive\, Suite 2\, Red Feather Lakes\, CO\, 80545\, United States
CATEGORIES:Trivia
ATTACH;FMTTYPE=image/jpeg:https://www.marrsmountaincabins.com/wp-content/uploads/Trivia-Night-2026-Poster-scaled.jpg
ORGANIZER;CN="Rich & Kerrie Marr":MAILTO:richandkerrie@marrsmountaincabins.com
END:VEVENT
BEGIN:VEVENT
DTSTART;TZID=America/Denver:20270129T180000
DTEND;TZID=America/Denver:20270129T203000
DTSTAMP:20260421T205857
CREATED:20251007T043826Z
LAST-MODIFIED:20260318T222948Z
UID:10001561-1801245600-1801254600@www.marrsmountaincabins.com
SUMMARY:Trivia Night
DESCRIPTION:
URL:https://www.marrsmountaincabins.com/event/trivia-night/2027-01-29/
LOCATION:The Tavern at Red Feather Lakes\, 1078 Ramona Drive\, Suite 2\, Red Feather Lakes\, CO\, 80545\, United States
CATEGORIES:Trivia
ATTACH;FMTTYPE=image/jpeg:https://www.marrsmountaincabins.com/wp-content/uploads/Trivia-Night-2026-Poster-scaled.jpg
ORGANIZER;CN="Rich & Kerrie Marr":MAILTO:richandkerrie@marrsmountaincabins.com
END:VEVENT
BEGIN:VEVENT
DTSTART;TZID=America/Denver:20270205T180000
DTEND;TZID=America/Denver:20270205T203000
DTSTAMP:20260421T205857
CREATED:20251007T043826Z
LAST-MODIFIED:20260318T222948Z
UID:10001562-1801850400-1801859400@www.marrsmountaincabins.com
SUMMARY:Trivia Night
DESCRIPTION:
URL:https://www.marrsmountaincabins.com/event/trivia-night/2027-02-05/
LOCATION:The Tavern at Red Feather Lakes\, 1078 Ramona Drive\, Suite 2\, Red Feather Lakes\, CO\, 80545\, United States
CATEGORIES:Trivia
ATTACH;FMTTYPE=image/jpeg:https://www.marrsmountaincabins.com/wp-content/uploads/Trivia-Night-2026-Poster-scaled.jpg
ORGANIZER;CN="Rich & Kerrie Marr":MAILTO:richandkerrie@marrsmountaincabins.com
END:VEVENT
BEGIN:VEVENT
DTSTART;TZID=America/Denver:20270212T180000
DTEND;TZID=America/Denver:20270212T203000
DTSTAMP:20260421T205857
CREATED:20251007T043826Z
LAST-MODIFIED:20260318T222948Z
UID:10001563-1802455200-1802464200@www.marrsmountaincabins.com
SUMMARY:Trivia Night
DESCRIPTION:
URL:https://www.marrsmountaincabins.com/event/trivia-night/2027-02-12/
LOCATION:The Tavern at Red Feather Lakes\, 1078 Ramona Drive\, Suite 2\, Red Feather Lakes\, CO\, 80545\, United States
CATEGORIES:Trivia
ATTACH;FMTTYPE=image/jpeg:https://www.marrsmountaincabins.com/wp-content/uploads/Trivia-Night-2026-Poster-scaled.jpg
ORGANIZER;CN="Rich & Kerrie Marr":MAILTO:richandkerrie@marrsmountaincabins.com
END:VEVENT
BEGIN:VEVENT
DTSTART;TZID=America/Denver:20270219T180000
DTEND;TZID=America/Denver:20270219T203000
DTSTAMP:20260421T205857
CREATED:20251007T043826Z
LAST-MODIFIED:20260318T222948Z
UID:10001564-1803060000-1803069000@www.marrsmountaincabins.com
SUMMARY:Trivia Night
DESCRIPTION:
URL:https://www.marrsmountaincabins.com/event/trivia-night/2027-02-19/
LOCATION:The Tavern at Red Feather Lakes\, 1078 Ramona Drive\, Suite 2\, Red Feather Lakes\, CO\, 80545\, United States
CATEGORIES:Trivia
ATTACH;FMTTYPE=image/jpeg:https://www.marrsmountaincabins.com/wp-content/uploads/Trivia-Night-2026-Poster-scaled.jpg
ORGANIZER;CN="Rich & Kerrie Marr":MAILTO:richandkerrie@marrsmountaincabins.com
END:VEVENT
BEGIN:VEVENT
DTSTART;TZID=America/Denver:20270226T180000
DTEND;TZID=America/Denver:20270226T203000
DTSTAMP:20260421T205857
CREATED:20251007T043826Z
LAST-MODIFIED:20260318T222948Z
UID:10001565-1803664800-1803673800@www.marrsmountaincabins.com
SUMMARY:Trivia Night
DESCRIPTION:
URL:https://www.marrsmountaincabins.com/event/trivia-night/2027-02-26/
LOCATION:The Tavern at Red Feather Lakes\, 1078 Ramona Drive\, Suite 2\, Red Feather Lakes\, CO\, 80545\, United States
CATEGORIES:Trivia
ATTACH;FMTTYPE=image/jpeg:https://www.marrsmountaincabins.com/wp-content/uploads/Trivia-Night-2026-Poster-scaled.jpg
ORGANIZER;CN="Rich & Kerrie Marr":MAILTO:richandkerrie@marrsmountaincabins.com
END:VEVENT
BEGIN:VEVENT
DTSTART;TZID=America/Denver:20270305T180000
DTEND;TZID=America/Denver:20270305T203000
DTSTAMP:20260421T205857
CREATED:20251007T043826Z
LAST-MODIFIED:20260318T222948Z
UID:10001566-1804269600-1804278600@www.marrsmountaincabins.com
SUMMARY:Trivia Night
DESCRIPTION:
URL:https://www.marrsmountaincabins.com/event/trivia-night/2027-03-05/
LOCATION:The Tavern at Red Feather Lakes\, 1078 Ramona Drive\, Suite 2\, Red Feather Lakes\, CO\, 80545\, United States
CATEGORIES:Trivia
ATTACH;FMTTYPE=image/jpeg:https://www.marrsmountaincabins.com/wp-content/uploads/Trivia-Night-2026-Poster-scaled.jpg
ORGANIZER;CN="Rich & Kerrie Marr":MAILTO:richandkerrie@marrsmountaincabins.com
END:VEVENT
BEGIN:VEVENT
DTSTART;TZID=America/Denver:20270312T180000
DTEND;TZID=America/Denver:20270312T203000
DTSTAMP:20260421T205857
CREATED:20251007T043826Z
LAST-MODIFIED:20260318T222948Z
UID:10001567-1804874400-1804883400@www.marrsmountaincabins.com
SUMMARY:Trivia Night
DESCRIPTION:
URL:https://www.marrsmountaincabins.com/event/trivia-night/2027-03-12/
LOCATION:The Tavern at Red Feather Lakes\, 1078 Ramona Drive\, Suite 2\, Red Feather Lakes\, CO\, 80545\, United States
CATEGORIES:Trivia
ATTACH;FMTTYPE=image/jpeg:https://www.marrsmountaincabins.com/wp-content/uploads/Trivia-Night-2026-Poster-scaled.jpg
ORGANIZER;CN="Rich & Kerrie Marr":MAILTO:richandkerrie@marrsmountaincabins.com
END:VEVENT
BEGIN:VEVENT
DTSTART;TZID=America/Denver:20270319T180000
DTEND;TZID=America/Denver:20270319T203000
DTSTAMP:20260421T205857
CREATED:20251007T043826Z
LAST-MODIFIED:20260318T222948Z
UID:10001568-1805479200-1805488200@www.marrsmountaincabins.com
SUMMARY:Trivia Night
DESCRIPTION:
URL:https://www.marrsmountaincabins.com/event/trivia-night/2027-03-19/
LOCATION:The Tavern at Red Feather Lakes\, 1078 Ramona Drive\, Suite 2\, Red Feather Lakes\, CO\, 80545\, United States
CATEGORIES:Trivia
ATTACH;FMTTYPE=image/jpeg:https://www.marrsmountaincabins.com/wp-content/uploads/Trivia-Night-2026-Poster-scaled.jpg
ORGANIZER;CN="Rich & Kerrie Marr":MAILTO:richandkerrie@marrsmountaincabins.com
END:VEVENT
BEGIN:VEVENT
DTSTART;TZID=America/Denver:20270326T180000
DTEND;TZID=America/Denver:20270326T203000
DTSTAMP:20260421T205857
CREATED:20251007T043826Z
LAST-MODIFIED:20260318T222948Z
UID:10001569-1806084000-1806093000@www.marrsmountaincabins.com
SUMMARY:Trivia Night
DESCRIPTION:
URL:https://www.marrsmountaincabins.com/event/trivia-night/2027-03-26/
LOCATION:The Tavern at Red Feather Lakes\, 1078 Ramona Drive\, Suite 2\, Red Feather Lakes\, CO\, 80545\, United States
CATEGORIES:Trivia
ATTACH;FMTTYPE=image/jpeg:https://www.marrsmountaincabins.com/wp-content/uploads/Trivia-Night-2026-Poster-scaled.jpg
ORGANIZER;CN="Rich & Kerrie Marr":MAILTO:richandkerrie@marrsmountaincabins.com
END:VEVENT
BEGIN:VEVENT
DTSTART;TZID=America/Denver:20270402T180000
DTEND;TZID=America/Denver:20270402T203000
DTSTAMP:20260421T205857
CREATED:20251007T043826Z
LAST-MODIFIED:20260318T222948Z
UID:10001570-1806688800-1806697800@www.marrsmountaincabins.com
SUMMARY:Trivia Night
DESCRIPTION:
URL:https://www.marrsmountaincabins.com/event/trivia-night/2027-04-02/
LOCATION:The Tavern at Red Feather Lakes\, 1078 Ramona Drive\, Suite 2\, Red Feather Lakes\, CO\, 80545\, United States
CATEGORIES:Trivia
ATTACH;FMTTYPE=image/jpeg:https://www.marrsmountaincabins.com/wp-content/uploads/Trivia-Night-2026-Poster-scaled.jpg
ORGANIZER;CN="Rich & Kerrie Marr":MAILTO:richandkerrie@marrsmountaincabins.com
END:VEVENT
BEGIN:VEVENT
DTSTART;TZID=America/Denver:20270409T180000
DTEND;TZID=America/Denver:20270409T203000
DTSTAMP:20260421T205857
CREATED:20251007T043826Z
LAST-MODIFIED:20260318T222948Z
UID:10001571-1807293600-1807302600@www.marrsmountaincabins.com
SUMMARY:Trivia Night
DESCRIPTION:
URL:https://www.marrsmountaincabins.com/event/trivia-night/2027-04-09/
LOCATION:The Tavern at Red Feather Lakes\, 1078 Ramona Drive\, Suite 2\, Red Feather Lakes\, CO\, 80545\, United States
CATEGORIES:Trivia
ATTACH;FMTTYPE=image/jpeg:https://www.marrsmountaincabins.com/wp-content/uploads/Trivia-Night-2026-Poster-scaled.jpg
ORGANIZER;CN="Rich & Kerrie Marr":MAILTO:richandkerrie@marrsmountaincabins.com
END:VEVENT
BEGIN:VEVENT
DTSTART;TZID=America/Denver:20270416T180000
DTEND;TZID=America/Denver:20270416T203000
DTSTAMP:20260421T205857
CREATED:20251007T043826Z
LAST-MODIFIED:20260318T222948Z
UID:10001572-1807898400-1807907400@www.marrsmountaincabins.com
SUMMARY:Trivia Night
DESCRIPTION:
URL:https://www.marrsmountaincabins.com/event/trivia-night/2027-04-16/
LOCATION:The Tavern at Red Feather Lakes\, 1078 Ramona Drive\, Suite 2\, Red Feather Lakes\, CO\, 80545\, United States
CATEGORIES:Trivia
ATTACH;FMTTYPE=image/jpeg:https://www.marrsmountaincabins.com/wp-content/uploads/Trivia-Night-2026-Poster-scaled.jpg
ORGANIZER;CN="Rich & Kerrie Marr":MAILTO:richandkerrie@marrsmountaincabins.com
END:VEVENT
BEGIN:VEVENT
DTSTART;TZID=America/Denver:20270423T180000
DTEND;TZID=America/Denver:20270423T203000
DTSTAMP:20260421T205857
CREATED:20251007T043826Z
LAST-MODIFIED:20260318T222948Z
UID:10001573-1808503200-1808512200@www.marrsmountaincabins.com
SUMMARY:Trivia Night
DESCRIPTION:
URL:https://www.marrsmountaincabins.com/event/trivia-night/2027-04-23/
LOCATION:The Tavern at Red Feather Lakes\, 1078 Ramona Drive\, Suite 2\, Red Feather Lakes\, CO\, 80545\, United States
CATEGORIES:Trivia
ATTACH;FMTTYPE=image/jpeg:https://www.marrsmountaincabins.com/wp-content/uploads/Trivia-Night-2026-Poster-scaled.jpg
ORGANIZER;CN="Rich & Kerrie Marr":MAILTO:richandkerrie@marrsmountaincabins.com
END:VEVENT
BEGIN:VEVENT
DTSTART;TZID=America/Denver:20270430T180000
DTEND;TZID=America/Denver:20270430T203000
DTSTAMP:20260421T205857
CREATED:20251007T043826Z
LAST-MODIFIED:20260318T222948Z
UID:10001574-1809108000-1809117000@www.marrsmountaincabins.com
SUMMARY:Trivia Night
DESCRIPTION:
URL:https://www.marrsmountaincabins.com/event/trivia-night/2027-04-30/
LOCATION:The Tavern at Red Feather Lakes\, 1078 Ramona Drive\, Suite 2\, Red Feather Lakes\, CO\, 80545\, United States
CATEGORIES:Trivia
ATTACH;FMTTYPE=image/jpeg:https://www.marrsmountaincabins.com/wp-content/uploads/Trivia-Night-2026-Poster-scaled.jpg
ORGANIZER;CN="Rich & Kerrie Marr":MAILTO:richandkerrie@marrsmountaincabins.com
END:VEVENT
BEGIN:VEVENT
DTSTART;TZID=America/Denver:20270507T180000
DTEND;TZID=America/Denver:20270507T203000
DTSTAMP:20260421T205857
CREATED:20251007T043826Z
LAST-MODIFIED:20260318T222948Z
UID:10001575-1809712800-1809721800@www.marrsmountaincabins.com
SUMMARY:Trivia Night
DESCRIPTION:
URL:https://www.marrsmountaincabins.com/event/trivia-night/2027-05-07/
LOCATION:The Tavern at Red Feather Lakes\, 1078 Ramona Drive\, Suite 2\, Red Feather Lakes\, CO\, 80545\, United States
CATEGORIES:Trivia
ATTACH;FMTTYPE=image/jpeg:https://www.marrsmountaincabins.com/wp-content/uploads/Trivia-Night-2026-Poster-scaled.jpg
ORGANIZER;CN="Rich & Kerrie Marr":MAILTO:richandkerrie@marrsmountaincabins.com
END:VEVENT
BEGIN:VEVENT
DTSTART;TZID=America/Denver:20270514T180000
DTEND;TZID=America/Denver:20270514T203000
DTSTAMP:20260421T205857
CREATED:20251007T043826Z
LAST-MODIFIED:20260318T222948Z
UID:10001576-1810317600-1810326600@www.marrsmountaincabins.com
SUMMARY:Trivia Night
DESCRIPTION:
URL:https://www.marrsmountaincabins.com/event/trivia-night/2027-05-14/
LOCATION:The Tavern at Red Feather Lakes\, 1078 Ramona Drive\, Suite 2\, Red Feather Lakes\, CO\, 80545\, United States
CATEGORIES:Trivia
ATTACH;FMTTYPE=image/jpeg:https://www.marrsmountaincabins.com/wp-content/uploads/Trivia-Night-2026-Poster-scaled.jpg
ORGANIZER;CN="Rich & Kerrie Marr":MAILTO:richandkerrie@marrsmountaincabins.com
END:VEVENT
BEGIN:VEVENT
DTSTART;TZID=America/Denver:20270521T180000
DTEND;TZID=America/Denver:20270521T203000
DTSTAMP:20260421T205857
CREATED:20251007T043826Z
LAST-MODIFIED:20260318T222948Z
UID:10001577-1810922400-1810931400@www.marrsmountaincabins.com
SUMMARY:Trivia Night
DESCRIPTION:
URL:https://www.marrsmountaincabins.com/event/trivia-night/2027-05-21/
LOCATION:The Tavern at Red Feather Lakes\, 1078 Ramona Drive\, Suite 2\, Red Feather Lakes\, CO\, 80545\, United States
CATEGORIES:Trivia
ATTACH;FMTTYPE=image/jpeg:https://www.marrsmountaincabins.com/wp-content/uploads/Trivia-Night-2026-Poster-scaled.jpg
ORGANIZER;CN="Rich & Kerrie Marr":MAILTO:richandkerrie@marrsmountaincabins.com
END:VEVENT
BEGIN:VEVENT
DTSTART;TZID=America/Denver:20270528T180000
DTEND;TZID=America/Denver:20270528T203000
DTSTAMP:20260421T205857
CREATED:20251007T043826Z
LAST-MODIFIED:20260318T222948Z
UID:10001578-1811527200-1811536200@www.marrsmountaincabins.com
SUMMARY:Trivia Night
DESCRIPTION:
URL:https://www.marrsmountaincabins.com/event/trivia-night/2027-05-28/
LOCATION:The Tavern at Red Feather Lakes\, 1078 Ramona Drive\, Suite 2\, Red Feather Lakes\, CO\, 80545\, United States
CATEGORIES:Trivia
ATTACH;FMTTYPE=image/jpeg:https://www.marrsmountaincabins.com/wp-content/uploads/Trivia-Night-2026-Poster-scaled.jpg
ORGANIZER;CN="Rich & Kerrie Marr":MAILTO:richandkerrie@marrsmountaincabins.com
END:VEVENT
BEGIN:VEVENT
DTSTART;TZID=America/Denver:20270604T180000
DTEND;TZID=America/Denver:20270604T203000
DTSTAMP:20260421T205857
CREATED:20251007T043826Z
LAST-MODIFIED:20260318T222948Z
UID:10001579-1812132000-1812141000@www.marrsmountaincabins.com
SUMMARY:Trivia Night
DESCRIPTION:
URL:https://www.marrsmountaincabins.com/event/trivia-night/2027-06-04/
LOCATION:The Tavern at Red Feather Lakes\, 1078 Ramona Drive\, Suite 2\, Red Feather Lakes\, CO\, 80545\, United States
CATEGORIES:Trivia
ATTACH;FMTTYPE=image/jpeg:https://www.marrsmountaincabins.com/wp-content/uploads/Trivia-Night-2026-Poster-scaled.jpg
ORGANIZER;CN="Rich & Kerrie Marr":MAILTO:richandkerrie@marrsmountaincabins.com
END:VEVENT
BEGIN:VEVENT
DTSTART;TZID=America/Denver:20270611T180000
DTEND;TZID=America/Denver:20270611T203000
DTSTAMP:20260421T205857
CREATED:20251007T043826Z
LAST-MODIFIED:20260318T222948Z
UID:10001580-1812736800-1812745800@www.marrsmountaincabins.com
SUMMARY:Trivia Night
DESCRIPTION:
URL:https://www.marrsmountaincabins.com/event/trivia-night/2027-06-11/
LOCATION:The Tavern at Red Feather Lakes\, 1078 Ramona Drive\, Suite 2\, Red Feather Lakes\, CO\, 80545\, United States
CATEGORIES:Trivia
ATTACH;FMTTYPE=image/jpeg:https://www.marrsmountaincabins.com/wp-content/uploads/Trivia-Night-2026-Poster-scaled.jpg
ORGANIZER;CN="Rich & Kerrie Marr":MAILTO:richandkerrie@marrsmountaincabins.com
END:VEVENT
BEGIN:VEVENT
DTSTART;TZID=America/Denver:20270618T180000
DTEND;TZID=America/Denver:20270618T203000
DTSTAMP:20260421T205857
CREATED:20251007T043826Z
LAST-MODIFIED:20260318T222948Z
UID:10001581-1813341600-1813350600@www.marrsmountaincabins.com
SUMMARY:Trivia Night
DESCRIPTION:
URL:https://www.marrsmountaincabins.com/event/trivia-night/2027-06-18/
LOCATION:The Tavern at Red Feather Lakes\, 1078 Ramona Drive\, Suite 2\, Red Feather Lakes\, CO\, 80545\, United States
CATEGORIES:Trivia
ATTACH;FMTTYPE=image/jpeg:https://www.marrsmountaincabins.com/wp-content/uploads/Trivia-Night-2026-Poster-scaled.jpg
ORGANIZER;CN="Rich & Kerrie Marr":MAILTO:richandkerrie@marrsmountaincabins.com
END:VEVENT
BEGIN:VEVENT
DTSTART;TZID=America/Denver:20270625T180000
DTEND;TZID=America/Denver:20270625T203000
DTSTAMP:20260421T205857
CREATED:20251007T043826Z
LAST-MODIFIED:20260318T222948Z
UID:10001582-1813946400-1813955400@www.marrsmountaincabins.com
SUMMARY:Trivia Night
DESCRIPTION:
URL:https://www.marrsmountaincabins.com/event/trivia-night/2027-06-25/
LOCATION:The Tavern at Red Feather Lakes\, 1078 Ramona Drive\, Suite 2\, Red Feather Lakes\, CO\, 80545\, United States
CATEGORIES:Trivia
ATTACH;FMTTYPE=image/jpeg:https://www.marrsmountaincabins.com/wp-content/uploads/Trivia-Night-2026-Poster-scaled.jpg
ORGANIZER;CN="Rich & Kerrie Marr":MAILTO:richandkerrie@marrsmountaincabins.com
END:VEVENT
END:VCALENDAR