BEGIN:VCALENDAR
VERSION:2.0
PRODID:-//Marr&#039;s Mountain Cabins and Tavern - ECPv6.15.17.1//NONSGML v1.0//EN
CALSCALE:GREGORIAN
METHOD:PUBLISH
X-ORIGINAL-URL:https://www.marrsmountaincabins.com
X-WR-CALDESC:Events for Marr&#039;s Mountain Cabins and Tavern
REFRESH-INTERVAL;VALUE=DURATION:PT1H
X-Robots-Tag:noindex
X-PUBLISHED-TTL:PT1H
BEGIN:VTIMEZONE
TZID:America/Denver
BEGIN:DAYLIGHT
TZOFFSETFROM:-0700
TZOFFSETTO:-0600
TZNAME:MDT
DTSTART:20260308T090000
END:DAYLIGHT
BEGIN:STANDARD
TZOFFSETFROM:-0600
TZOFFSETTO:-0700
TZNAME:MST
DTSTART:20261101T080000
END:STANDARD
BEGIN:DAYLIGHT
TZOFFSETFROM:-0700
TZOFFSETTO:-0600
TZNAME:MDT
DTSTART:20270314T090000
END:DAYLIGHT
BEGIN:STANDARD
TZOFFSETFROM:-0600
TZOFFSETTO:-0700
TZNAME:MST
DTSTART:20271107T080000
END:STANDARD
BEGIN:DAYLIGHT
TZOFFSETFROM:-0700
TZOFFSETTO:-0600
TZNAME:MDT
DTSTART:20280312T090000
END:DAYLIGHT
BEGIN:STANDARD
TZOFFSETFROM:-0600
TZOFFSETTO:-0700
TZNAME:MST
DTSTART:20281105T080000
END:STANDARD
END:VTIMEZONE
BEGIN:VEVENT
DTSTART;TZID=America/Denver:20270521T180000
DTEND;TZID=America/Denver:20270521T203000
DTSTAMP:20260422T000717
CREATED:20251007T043826Z
LAST-MODIFIED:20260318T222948Z
UID:10001577-1810922400-1810931400@www.marrsmountaincabins.com
SUMMARY:Trivia Night
DESCRIPTION:
URL:https://www.marrsmountaincabins.com/event/trivia-night/2027-05-21/
LOCATION:The Tavern at Red Feather Lakes\, 1078 Ramona Drive\, Suite 2\, Red Feather Lakes\, CO\, 80545\, United States
CATEGORIES:Trivia
ATTACH;FMTTYPE=image/jpeg:https://www.marrsmountaincabins.com/wp-content/uploads/Trivia-Night-2026-Poster-scaled.jpg
ORGANIZER;CN="Rich & Kerrie Marr":MAILTO:richandkerrie@marrsmountaincabins.com
END:VEVENT
BEGIN:VEVENT
DTSTART;TZID=America/Denver:20270528T180000
DTEND;TZID=America/Denver:20270528T203000
DTSTAMP:20260422T000717
CREATED:20251007T043826Z
LAST-MODIFIED:20260318T222948Z
UID:10001578-1811527200-1811536200@www.marrsmountaincabins.com
SUMMARY:Trivia Night
DESCRIPTION:
URL:https://www.marrsmountaincabins.com/event/trivia-night/2027-05-28/
LOCATION:The Tavern at Red Feather Lakes\, 1078 Ramona Drive\, Suite 2\, Red Feather Lakes\, CO\, 80545\, United States
CATEGORIES:Trivia
ATTACH;FMTTYPE=image/jpeg:https://www.marrsmountaincabins.com/wp-content/uploads/Trivia-Night-2026-Poster-scaled.jpg
ORGANIZER;CN="Rich & Kerrie Marr":MAILTO:richandkerrie@marrsmountaincabins.com
END:VEVENT
BEGIN:VEVENT
DTSTART;TZID=America/Denver:20270604T180000
DTEND;TZID=America/Denver:20270604T203000
DTSTAMP:20260422T000717
CREATED:20251007T043826Z
LAST-MODIFIED:20260318T222948Z
UID:10001579-1812132000-1812141000@www.marrsmountaincabins.com
SUMMARY:Trivia Night
DESCRIPTION:
URL:https://www.marrsmountaincabins.com/event/trivia-night/2027-06-04/
LOCATION:The Tavern at Red Feather Lakes\, 1078 Ramona Drive\, Suite 2\, Red Feather Lakes\, CO\, 80545\, United States
CATEGORIES:Trivia
ATTACH;FMTTYPE=image/jpeg:https://www.marrsmountaincabins.com/wp-content/uploads/Trivia-Night-2026-Poster-scaled.jpg
ORGANIZER;CN="Rich & Kerrie Marr":MAILTO:richandkerrie@marrsmountaincabins.com
END:VEVENT
BEGIN:VEVENT
DTSTART;TZID=America/Denver:20270611T180000
DTEND;TZID=America/Denver:20270611T203000
DTSTAMP:20260422T000717
CREATED:20251007T043826Z
LAST-MODIFIED:20260318T222948Z
UID:10001580-1812736800-1812745800@www.marrsmountaincabins.com
SUMMARY:Trivia Night
DESCRIPTION:
URL:https://www.marrsmountaincabins.com/event/trivia-night/2027-06-11/
LOCATION:The Tavern at Red Feather Lakes\, 1078 Ramona Drive\, Suite 2\, Red Feather Lakes\, CO\, 80545\, United States
CATEGORIES:Trivia
ATTACH;FMTTYPE=image/jpeg:https://www.marrsmountaincabins.com/wp-content/uploads/Trivia-Night-2026-Poster-scaled.jpg
ORGANIZER;CN="Rich & Kerrie Marr":MAILTO:richandkerrie@marrsmountaincabins.com
END:VEVENT
BEGIN:VEVENT
DTSTART;TZID=America/Denver:20270618T180000
DTEND;TZID=America/Denver:20270618T203000
DTSTAMP:20260422T000717
CREATED:20251007T043826Z
LAST-MODIFIED:20260318T222948Z
UID:10001581-1813341600-1813350600@www.marrsmountaincabins.com
SUMMARY:Trivia Night
DESCRIPTION:
URL:https://www.marrsmountaincabins.com/event/trivia-night/2027-06-18/
LOCATION:The Tavern at Red Feather Lakes\, 1078 Ramona Drive\, Suite 2\, Red Feather Lakes\, CO\, 80545\, United States
CATEGORIES:Trivia
ATTACH;FMTTYPE=image/jpeg:https://www.marrsmountaincabins.com/wp-content/uploads/Trivia-Night-2026-Poster-scaled.jpg
ORGANIZER;CN="Rich & Kerrie Marr":MAILTO:richandkerrie@marrsmountaincabins.com
END:VEVENT
BEGIN:VEVENT
DTSTART;TZID=America/Denver:20270625T180000
DTEND;TZID=America/Denver:20270625T203000
DTSTAMP:20260422T000717
CREATED:20251007T043826Z
LAST-MODIFIED:20260318T222948Z
UID:10001582-1813946400-1813955400@www.marrsmountaincabins.com
SUMMARY:Trivia Night
DESCRIPTION:
URL:https://www.marrsmountaincabins.com/event/trivia-night/2027-06-25/
LOCATION:The Tavern at Red Feather Lakes\, 1078 Ramona Drive\, Suite 2\, Red Feather Lakes\, CO\, 80545\, United States
CATEGORIES:Trivia
ATTACH;FMTTYPE=image/jpeg:https://www.marrsmountaincabins.com/wp-content/uploads/Trivia-Night-2026-Poster-scaled.jpg
ORGANIZER;CN="Rich & Kerrie Marr":MAILTO:richandkerrie@marrsmountaincabins.com
END:VEVENT
BEGIN:VEVENT
DTSTART;TZID=America/Denver:20270702T180000
DTEND;TZID=America/Denver:20270702T203000
DTSTAMP:20260422T000717
CREATED:20251007T043826Z
LAST-MODIFIED:20260318T222948Z
UID:10001583-1814551200-1814560200@www.marrsmountaincabins.com
SUMMARY:Trivia Night
DESCRIPTION:
URL:https://www.marrsmountaincabins.com/event/trivia-night/2027-07-02/
LOCATION:The Tavern at Red Feather Lakes\, 1078 Ramona Drive\, Suite 2\, Red Feather Lakes\, CO\, 80545\, United States
CATEGORIES:Trivia
ATTACH;FMTTYPE=image/jpeg:https://www.marrsmountaincabins.com/wp-content/uploads/Trivia-Night-2026-Poster-scaled.jpg
ORGANIZER;CN="Rich & Kerrie Marr":MAILTO:richandkerrie@marrsmountaincabins.com
END:VEVENT
BEGIN:VEVENT
DTSTART;TZID=America/Denver:20270709T180000
DTEND;TZID=America/Denver:20270709T203000
DTSTAMP:20260422T000717
CREATED:20251007T043826Z
LAST-MODIFIED:20260318T222948Z
UID:10001584-1815156000-1815165000@www.marrsmountaincabins.com
SUMMARY:Trivia Night
DESCRIPTION:
URL:https://www.marrsmountaincabins.com/event/trivia-night/2027-07-09/
LOCATION:The Tavern at Red Feather Lakes\, 1078 Ramona Drive\, Suite 2\, Red Feather Lakes\, CO\, 80545\, United States
CATEGORIES:Trivia
ATTACH;FMTTYPE=image/jpeg:https://www.marrsmountaincabins.com/wp-content/uploads/Trivia-Night-2026-Poster-scaled.jpg
ORGANIZER;CN="Rich & Kerrie Marr":MAILTO:richandkerrie@marrsmountaincabins.com
END:VEVENT
BEGIN:VEVENT
DTSTART;TZID=America/Denver:20270716T180000
DTEND;TZID=America/Denver:20270716T203000
DTSTAMP:20260422T000717
CREATED:20251007T043826Z
LAST-MODIFIED:20260318T222948Z
UID:10001585-1815760800-1815769800@www.marrsmountaincabins.com
SUMMARY:Trivia Night
DESCRIPTION:
URL:https://www.marrsmountaincabins.com/event/trivia-night/2027-07-16/
LOCATION:The Tavern at Red Feather Lakes\, 1078 Ramona Drive\, Suite 2\, Red Feather Lakes\, CO\, 80545\, United States
CATEGORIES:Trivia
ATTACH;FMTTYPE=image/jpeg:https://www.marrsmountaincabins.com/wp-content/uploads/Trivia-Night-2026-Poster-scaled.jpg
ORGANIZER;CN="Rich & Kerrie Marr":MAILTO:richandkerrie@marrsmountaincabins.com
END:VEVENT
BEGIN:VEVENT
DTSTART;TZID=America/Denver:20270723T180000
DTEND;TZID=America/Denver:20270723T203000
DTSTAMP:20260422T000717
CREATED:20251007T043826Z
LAST-MODIFIED:20260318T222948Z
UID:10001586-1816365600-1816374600@www.marrsmountaincabins.com
SUMMARY:Trivia Night
DESCRIPTION:
URL:https://www.marrsmountaincabins.com/event/trivia-night/2027-07-23/
LOCATION:The Tavern at Red Feather Lakes\, 1078 Ramona Drive\, Suite 2\, Red Feather Lakes\, CO\, 80545\, United States
CATEGORIES:Trivia
ATTACH;FMTTYPE=image/jpeg:https://www.marrsmountaincabins.com/wp-content/uploads/Trivia-Night-2026-Poster-scaled.jpg
ORGANIZER;CN="Rich & Kerrie Marr":MAILTO:richandkerrie@marrsmountaincabins.com
END:VEVENT
BEGIN:VEVENT
DTSTART;TZID=America/Denver:20270730T180000
DTEND;TZID=America/Denver:20270730T203000
DTSTAMP:20260422T000717
CREATED:20251007T043826Z
LAST-MODIFIED:20260318T222948Z
UID:10001587-1816970400-1816979400@www.marrsmountaincabins.com
SUMMARY:Trivia Night
DESCRIPTION:
URL:https://www.marrsmountaincabins.com/event/trivia-night/2027-07-30/
LOCATION:The Tavern at Red Feather Lakes\, 1078 Ramona Drive\, Suite 2\, Red Feather Lakes\, CO\, 80545\, United States
CATEGORIES:Trivia
ATTACH;FMTTYPE=image/jpeg:https://www.marrsmountaincabins.com/wp-content/uploads/Trivia-Night-2026-Poster-scaled.jpg
ORGANIZER;CN="Rich & Kerrie Marr":MAILTO:richandkerrie@marrsmountaincabins.com
END:VEVENT
BEGIN:VEVENT
DTSTART;TZID=America/Denver:20270806T180000
DTEND;TZID=America/Denver:20270806T203000
DTSTAMP:20260422T000717
CREATED:20251007T043826Z
LAST-MODIFIED:20260318T222948Z
UID:10001588-1817575200-1817584200@www.marrsmountaincabins.com
SUMMARY:Trivia Night
DESCRIPTION:
URL:https://www.marrsmountaincabins.com/event/trivia-night/2027-08-06/
LOCATION:The Tavern at Red Feather Lakes\, 1078 Ramona Drive\, Suite 2\, Red Feather Lakes\, CO\, 80545\, United States
CATEGORIES:Trivia
ATTACH;FMTTYPE=image/jpeg:https://www.marrsmountaincabins.com/wp-content/uploads/Trivia-Night-2026-Poster-scaled.jpg
ORGANIZER;CN="Rich & Kerrie Marr":MAILTO:richandkerrie@marrsmountaincabins.com
END:VEVENT
BEGIN:VEVENT
DTSTART;TZID=America/Denver:20270813T180000
DTEND;TZID=America/Denver:20270813T203000
DTSTAMP:20260422T000717
CREATED:20251007T043826Z
LAST-MODIFIED:20260318T222948Z
UID:10001589-1818180000-1818189000@www.marrsmountaincabins.com
SUMMARY:Trivia Night
DESCRIPTION:
URL:https://www.marrsmountaincabins.com/event/trivia-night/2027-08-13/
LOCATION:The Tavern at Red Feather Lakes\, 1078 Ramona Drive\, Suite 2\, Red Feather Lakes\, CO\, 80545\, United States
CATEGORIES:Trivia
ATTACH;FMTTYPE=image/jpeg:https://www.marrsmountaincabins.com/wp-content/uploads/Trivia-Night-2026-Poster-scaled.jpg
ORGANIZER;CN="Rich & Kerrie Marr":MAILTO:richandkerrie@marrsmountaincabins.com
END:VEVENT
BEGIN:VEVENT
DTSTART;TZID=America/Denver:20270820T180000
DTEND;TZID=America/Denver:20270820T203000
DTSTAMP:20260422T000717
CREATED:20251007T043826Z
LAST-MODIFIED:20260318T222948Z
UID:10001590-1818784800-1818793800@www.marrsmountaincabins.com
SUMMARY:Trivia Night
DESCRIPTION:
URL:https://www.marrsmountaincabins.com/event/trivia-night/2027-08-20/
LOCATION:The Tavern at Red Feather Lakes\, 1078 Ramona Drive\, Suite 2\, Red Feather Lakes\, CO\, 80545\, United States
CATEGORIES:Trivia
ATTACH;FMTTYPE=image/jpeg:https://www.marrsmountaincabins.com/wp-content/uploads/Trivia-Night-2026-Poster-scaled.jpg
ORGANIZER;CN="Rich & Kerrie Marr":MAILTO:richandkerrie@marrsmountaincabins.com
END:VEVENT
BEGIN:VEVENT
DTSTART;TZID=America/Denver:20270827T180000
DTEND;TZID=America/Denver:20270827T203000
DTSTAMP:20260422T000717
CREATED:20251007T043826Z
LAST-MODIFIED:20260318T222948Z
UID:10001591-1819389600-1819398600@www.marrsmountaincabins.com
SUMMARY:Trivia Night
DESCRIPTION:
URL:https://www.marrsmountaincabins.com/event/trivia-night/2027-08-27/
LOCATION:The Tavern at Red Feather Lakes\, 1078 Ramona Drive\, Suite 2\, Red Feather Lakes\, CO\, 80545\, United States
CATEGORIES:Trivia
ATTACH;FMTTYPE=image/jpeg:https://www.marrsmountaincabins.com/wp-content/uploads/Trivia-Night-2026-Poster-scaled.jpg
ORGANIZER;CN="Rich & Kerrie Marr":MAILTO:richandkerrie@marrsmountaincabins.com
END:VEVENT
BEGIN:VEVENT
DTSTART;TZID=America/Denver:20270903T180000
DTEND;TZID=America/Denver:20270903T203000
DTSTAMP:20260422T000717
CREATED:20251007T043826Z
LAST-MODIFIED:20260318T222948Z
UID:10001592-1819994400-1820003400@www.marrsmountaincabins.com
SUMMARY:Trivia Night
DESCRIPTION:
URL:https://www.marrsmountaincabins.com/event/trivia-night/2027-09-03/
LOCATION:The Tavern at Red Feather Lakes\, 1078 Ramona Drive\, Suite 2\, Red Feather Lakes\, CO\, 80545\, United States
CATEGORIES:Trivia
ATTACH;FMTTYPE=image/jpeg:https://www.marrsmountaincabins.com/wp-content/uploads/Trivia-Night-2026-Poster-scaled.jpg
ORGANIZER;CN="Rich & Kerrie Marr":MAILTO:richandkerrie@marrsmountaincabins.com
END:VEVENT
BEGIN:VEVENT
DTSTART;TZID=America/Denver:20270910T180000
DTEND;TZID=America/Denver:20270910T203000
DTSTAMP:20260422T000717
CREATED:20251007T043826Z
LAST-MODIFIED:20260318T222948Z
UID:10001593-1820599200-1820608200@www.marrsmountaincabins.com
SUMMARY:Trivia Night
DESCRIPTION:
URL:https://www.marrsmountaincabins.com/event/trivia-night/2027-09-10/
LOCATION:The Tavern at Red Feather Lakes\, 1078 Ramona Drive\, Suite 2\, Red Feather Lakes\, CO\, 80545\, United States
CATEGORIES:Trivia
ATTACH;FMTTYPE=image/jpeg:https://www.marrsmountaincabins.com/wp-content/uploads/Trivia-Night-2026-Poster-scaled.jpg
ORGANIZER;CN="Rich & Kerrie Marr":MAILTO:richandkerrie@marrsmountaincabins.com
END:VEVENT
BEGIN:VEVENT
DTSTART;TZID=America/Denver:20270917T180000
DTEND;TZID=America/Denver:20270917T203000
DTSTAMP:20260422T000717
CREATED:20251007T043826Z
LAST-MODIFIED:20260318T222948Z
UID:10001594-1821204000-1821213000@www.marrsmountaincabins.com
SUMMARY:Trivia Night
DESCRIPTION:
URL:https://www.marrsmountaincabins.com/event/trivia-night/2027-09-17/
LOCATION:The Tavern at Red Feather Lakes\, 1078 Ramona Drive\, Suite 2\, Red Feather Lakes\, CO\, 80545\, United States
CATEGORIES:Trivia
ATTACH;FMTTYPE=image/jpeg:https://www.marrsmountaincabins.com/wp-content/uploads/Trivia-Night-2026-Poster-scaled.jpg
ORGANIZER;CN="Rich & Kerrie Marr":MAILTO:richandkerrie@marrsmountaincabins.com
END:VEVENT
BEGIN:VEVENT
DTSTART;TZID=America/Denver:20270924T180000
DTEND;TZID=America/Denver:20270924T203000
DTSTAMP:20260422T000717
CREATED:20251007T043826Z
LAST-MODIFIED:20260318T222948Z
UID:10001595-1821808800-1821817800@www.marrsmountaincabins.com
SUMMARY:Trivia Night
DESCRIPTION:
URL:https://www.marrsmountaincabins.com/event/trivia-night/2027-09-24/
LOCATION:The Tavern at Red Feather Lakes\, 1078 Ramona Drive\, Suite 2\, Red Feather Lakes\, CO\, 80545\, United States
CATEGORIES:Trivia
ATTACH;FMTTYPE=image/jpeg:https://www.marrsmountaincabins.com/wp-content/uploads/Trivia-Night-2026-Poster-scaled.jpg
ORGANIZER;CN="Rich & Kerrie Marr":MAILTO:richandkerrie@marrsmountaincabins.com
END:VEVENT
BEGIN:VEVENT
DTSTART;TZID=America/Denver:20271001T180000
DTEND;TZID=America/Denver:20271001T203000
DTSTAMP:20260422T000717
CREATED:20251007T043826Z
LAST-MODIFIED:20260318T222948Z
UID:10001596-1822413600-1822422600@www.marrsmountaincabins.com
SUMMARY:Trivia Night
DESCRIPTION:
URL:https://www.marrsmountaincabins.com/event/trivia-night/2027-10-01/
LOCATION:The Tavern at Red Feather Lakes\, 1078 Ramona Drive\, Suite 2\, Red Feather Lakes\, CO\, 80545\, United States
CATEGORIES:Trivia
ATTACH;FMTTYPE=image/jpeg:https://www.marrsmountaincabins.com/wp-content/uploads/Trivia-Night-2026-Poster-scaled.jpg
ORGANIZER;CN="Rich & Kerrie Marr":MAILTO:richandkerrie@marrsmountaincabins.com
END:VEVENT
BEGIN:VEVENT
DTSTART;TZID=America/Denver:20271008T180000
DTEND;TZID=America/Denver:20271008T203000
DTSTAMP:20260422T000717
CREATED:20251007T043826Z
LAST-MODIFIED:20260318T222948Z
UID:10001597-1823018400-1823027400@www.marrsmountaincabins.com
SUMMARY:Trivia Night
DESCRIPTION:
URL:https://www.marrsmountaincabins.com/event/trivia-night/2027-10-08/
LOCATION:The Tavern at Red Feather Lakes\, 1078 Ramona Drive\, Suite 2\, Red Feather Lakes\, CO\, 80545\, United States
CATEGORIES:Trivia
ATTACH;FMTTYPE=image/jpeg:https://www.marrsmountaincabins.com/wp-content/uploads/Trivia-Night-2026-Poster-scaled.jpg
ORGANIZER;CN="Rich & Kerrie Marr":MAILTO:richandkerrie@marrsmountaincabins.com
END:VEVENT
BEGIN:VEVENT
DTSTART;TZID=America/Denver:20271015T180000
DTEND;TZID=America/Denver:20271015T203000
DTSTAMP:20260422T000717
CREATED:20251007T043826Z
LAST-MODIFIED:20260318T222948Z
UID:10001598-1823623200-1823632200@www.marrsmountaincabins.com
SUMMARY:Trivia Night
DESCRIPTION:
URL:https://www.marrsmountaincabins.com/event/trivia-night/2027-10-15/
LOCATION:The Tavern at Red Feather Lakes\, 1078 Ramona Drive\, Suite 2\, Red Feather Lakes\, CO\, 80545\, United States
CATEGORIES:Trivia
ATTACH;FMTTYPE=image/jpeg:https://www.marrsmountaincabins.com/wp-content/uploads/Trivia-Night-2026-Poster-scaled.jpg
ORGANIZER;CN="Rich & Kerrie Marr":MAILTO:richandkerrie@marrsmountaincabins.com
END:VEVENT
BEGIN:VEVENT
DTSTART;TZID=America/Denver:20271022T180000
DTEND;TZID=America/Denver:20271022T203000
DTSTAMP:20260422T000717
CREATED:20251007T043826Z
LAST-MODIFIED:20260318T222948Z
UID:10001599-1824228000-1824237000@www.marrsmountaincabins.com
SUMMARY:Trivia Night
DESCRIPTION:
URL:https://www.marrsmountaincabins.com/event/trivia-night/2027-10-22/
LOCATION:The Tavern at Red Feather Lakes\, 1078 Ramona Drive\, Suite 2\, Red Feather Lakes\, CO\, 80545\, United States
CATEGORIES:Trivia
ATTACH;FMTTYPE=image/jpeg:https://www.marrsmountaincabins.com/wp-content/uploads/Trivia-Night-2026-Poster-scaled.jpg
ORGANIZER;CN="Rich & Kerrie Marr":MAILTO:richandkerrie@marrsmountaincabins.com
END:VEVENT
BEGIN:VEVENT
DTSTART;TZID=America/Denver:20271029T180000
DTEND;TZID=America/Denver:20271029T203000
DTSTAMP:20260422T000717
CREATED:20251007T043826Z
LAST-MODIFIED:20260318T222948Z
UID:10001600-1824832800-1824841800@www.marrsmountaincabins.com
SUMMARY:Trivia Night
DESCRIPTION:
URL:https://www.marrsmountaincabins.com/event/trivia-night/2027-10-29/
LOCATION:The Tavern at Red Feather Lakes\, 1078 Ramona Drive\, Suite 2\, Red Feather Lakes\, CO\, 80545\, United States
CATEGORIES:Trivia
ATTACH;FMTTYPE=image/jpeg:https://www.marrsmountaincabins.com/wp-content/uploads/Trivia-Night-2026-Poster-scaled.jpg
ORGANIZER;CN="Rich & Kerrie Marr":MAILTO:richandkerrie@marrsmountaincabins.com
END:VEVENT
BEGIN:VEVENT
DTSTART;TZID=America/Denver:20271105T180000
DTEND;TZID=America/Denver:20271105T203000
DTSTAMP:20260422T000717
CREATED:20251007T043826Z
LAST-MODIFIED:20260318T222948Z
UID:10001601-1825437600-1825446600@www.marrsmountaincabins.com
SUMMARY:Trivia Night
DESCRIPTION:
URL:https://www.marrsmountaincabins.com/event/trivia-night/2027-11-05/
LOCATION:The Tavern at Red Feather Lakes\, 1078 Ramona Drive\, Suite 2\, Red Feather Lakes\, CO\, 80545\, United States
CATEGORIES:Trivia
ATTACH;FMTTYPE=image/jpeg:https://www.marrsmountaincabins.com/wp-content/uploads/Trivia-Night-2026-Poster-scaled.jpg
ORGANIZER;CN="Rich & Kerrie Marr":MAILTO:richandkerrie@marrsmountaincabins.com
END:VEVENT
BEGIN:VEVENT
DTSTART;TZID=America/Denver:20271112T180000
DTEND;TZID=America/Denver:20271112T203000
DTSTAMP:20260422T000717
CREATED:20251007T043826Z
LAST-MODIFIED:20260318T222948Z
UID:10001602-1826042400-1826051400@www.marrsmountaincabins.com
SUMMARY:Trivia Night
DESCRIPTION:
URL:https://www.marrsmountaincabins.com/event/trivia-night/2027-11-12/
LOCATION:The Tavern at Red Feather Lakes\, 1078 Ramona Drive\, Suite 2\, Red Feather Lakes\, CO\, 80545\, United States
CATEGORIES:Trivia
ATTACH;FMTTYPE=image/jpeg:https://www.marrsmountaincabins.com/wp-content/uploads/Trivia-Night-2026-Poster-scaled.jpg
ORGANIZER;CN="Rich & Kerrie Marr":MAILTO:richandkerrie@marrsmountaincabins.com
END:VEVENT
BEGIN:VEVENT
DTSTART;TZID=America/Denver:20271119T180000
DTEND;TZID=America/Denver:20271119T203000
DTSTAMP:20260422T000717
CREATED:20251007T043826Z
LAST-MODIFIED:20260318T222948Z
UID:10001603-1826647200-1826656200@www.marrsmountaincabins.com
SUMMARY:Trivia Night
DESCRIPTION:
URL:https://www.marrsmountaincabins.com/event/trivia-night/2027-11-19/
LOCATION:The Tavern at Red Feather Lakes\, 1078 Ramona Drive\, Suite 2\, Red Feather Lakes\, CO\, 80545\, United States
CATEGORIES:Trivia
ATTACH;FMTTYPE=image/jpeg:https://www.marrsmountaincabins.com/wp-content/uploads/Trivia-Night-2026-Poster-scaled.jpg
ORGANIZER;CN="Rich & Kerrie Marr":MAILTO:richandkerrie@marrsmountaincabins.com
END:VEVENT
BEGIN:VEVENT
DTSTART;TZID=America/Denver:20271126T180000
DTEND;TZID=America/Denver:20271126T203000
DTSTAMP:20260422T000717
CREATED:20251007T043826Z
LAST-MODIFIED:20260318T222948Z
UID:10001604-1827252000-1827261000@www.marrsmountaincabins.com
SUMMARY:Trivia Night
DESCRIPTION:
URL:https://www.marrsmountaincabins.com/event/trivia-night/2027-11-26/
LOCATION:The Tavern at Red Feather Lakes\, 1078 Ramona Drive\, Suite 2\, Red Feather Lakes\, CO\, 80545\, United States
CATEGORIES:Trivia
ATTACH;FMTTYPE=image/jpeg:https://www.marrsmountaincabins.com/wp-content/uploads/Trivia-Night-2026-Poster-scaled.jpg
ORGANIZER;CN="Rich & Kerrie Marr":MAILTO:richandkerrie@marrsmountaincabins.com
END:VEVENT
BEGIN:VEVENT
DTSTART;TZID=America/Denver:20271203T180000
DTEND;TZID=America/Denver:20271203T203000
DTSTAMP:20260422T000717
CREATED:20251007T043826Z
LAST-MODIFIED:20260318T222948Z
UID:10001605-1827856800-1827865800@www.marrsmountaincabins.com
SUMMARY:Trivia Night
DESCRIPTION:
URL:https://www.marrsmountaincabins.com/event/trivia-night/2027-12-03/
LOCATION:The Tavern at Red Feather Lakes\, 1078 Ramona Drive\, Suite 2\, Red Feather Lakes\, CO\, 80545\, United States
CATEGORIES:Trivia
ATTACH;FMTTYPE=image/jpeg:https://www.marrsmountaincabins.com/wp-content/uploads/Trivia-Night-2026-Poster-scaled.jpg
ORGANIZER;CN="Rich & Kerrie Marr":MAILTO:richandkerrie@marrsmountaincabins.com
END:VEVENT
BEGIN:VEVENT
DTSTART;TZID=America/Denver:20271210T180000
DTEND;TZID=America/Denver:20271210T203000
DTSTAMP:20260422T000717
CREATED:20251007T043826Z
LAST-MODIFIED:20260318T222948Z
UID:10001606-1828461600-1828470600@www.marrsmountaincabins.com
SUMMARY:Trivia Night
DESCRIPTION:
URL:https://www.marrsmountaincabins.com/event/trivia-night/2027-12-10/
LOCATION:The Tavern at Red Feather Lakes\, 1078 Ramona Drive\, Suite 2\, Red Feather Lakes\, CO\, 80545\, United States
CATEGORIES:Trivia
ATTACH;FMTTYPE=image/jpeg:https://www.marrsmountaincabins.com/wp-content/uploads/Trivia-Night-2026-Poster-scaled.jpg
ORGANIZER;CN="Rich & Kerrie Marr":MAILTO:richandkerrie@marrsmountaincabins.com
END:VEVENT
END:VCALENDAR