BEGIN:VCALENDAR
VERSION:2.0
PRODID:-//Marr&#039;s Mountain Cabins and Tavern - ECPv6.15.17.1//NONSGML v1.0//EN
CALSCALE:GREGORIAN
METHOD:PUBLISH
X-WR-CALNAME:Marr&#039;s Mountain Cabins and Tavern
X-ORIGINAL-URL:https://www.marrsmountaincabins.com
X-WR-CALDESC:Events for Marr&#039;s Mountain Cabins and Tavern
REFRESH-INTERVAL;VALUE=DURATION:PT1H
X-Robots-Tag:noindex
X-PUBLISHED-TTL:PT1H
BEGIN:VTIMEZONE
TZID:America/Denver
BEGIN:DAYLIGHT
TZOFFSETFROM:-0700
TZOFFSETTO:-0600
TZNAME:MDT
DTSTART:20270314T090000
END:DAYLIGHT
BEGIN:STANDARD
TZOFFSETFROM:-0600
TZOFFSETTO:-0700
TZNAME:MST
DTSTART:20271107T080000
END:STANDARD
BEGIN:DAYLIGHT
TZOFFSETFROM:-0700
TZOFFSETTO:-0600
TZNAME:MDT
DTSTART:20280312T090000
END:DAYLIGHT
BEGIN:STANDARD
TZOFFSETFROM:-0600
TZOFFSETTO:-0700
TZNAME:MST
DTSTART:20281105T080000
END:STANDARD
BEGIN:DAYLIGHT
TZOFFSETFROM:-0700
TZOFFSETTO:-0600
TZNAME:MDT
DTSTART:20290311T090000
END:DAYLIGHT
BEGIN:STANDARD
TZOFFSETFROM:-0600
TZOFFSETTO:-0700
TZNAME:MST
DTSTART:20291104T080000
END:STANDARD
END:VTIMEZONE
BEGIN:VEVENT
DTSTART;TZID=America/Denver:20280128T180000
DTEND;TZID=America/Denver:20280128T203000
DTSTAMP:20260422T052944
CREATED:20251007T043826Z
LAST-MODIFIED:20260318T222948Z
UID:10001613-1832695200-1832704200@www.marrsmountaincabins.com
SUMMARY:Trivia Night
DESCRIPTION:
URL:https://www.marrsmountaincabins.com/event/trivia-night/2028-01-28/
LOCATION:The Tavern at Red Feather Lakes\, 1078 Ramona Drive\, Suite 2\, Red Feather Lakes\, CO\, 80545\, United States
CATEGORIES:Trivia
ATTACH;FMTTYPE=image/jpeg:https://www.marrsmountaincabins.com/wp-content/uploads/Trivia-Night-2026-Poster-scaled.jpg
ORGANIZER;CN="Rich & Kerrie Marr":MAILTO:richandkerrie@marrsmountaincabins.com
END:VEVENT
BEGIN:VEVENT
DTSTART;TZID=America/Denver:20280204T180000
DTEND;TZID=America/Denver:20280204T203000
DTSTAMP:20260422T052944
CREATED:20251007T043826Z
LAST-MODIFIED:20260318T222948Z
UID:10001614-1833300000-1833309000@www.marrsmountaincabins.com
SUMMARY:Trivia Night
DESCRIPTION:
URL:https://www.marrsmountaincabins.com/event/trivia-night/2028-02-04/
LOCATION:The Tavern at Red Feather Lakes\, 1078 Ramona Drive\, Suite 2\, Red Feather Lakes\, CO\, 80545\, United States
CATEGORIES:Trivia
ATTACH;FMTTYPE=image/jpeg:https://www.marrsmountaincabins.com/wp-content/uploads/Trivia-Night-2026-Poster-scaled.jpg
ORGANIZER;CN="Rich & Kerrie Marr":MAILTO:richandkerrie@marrsmountaincabins.com
END:VEVENT
BEGIN:VEVENT
DTSTART;TZID=America/Denver:20280211T180000
DTEND;TZID=America/Denver:20280211T203000
DTSTAMP:20260422T052944
CREATED:20251007T043826Z
LAST-MODIFIED:20260318T222948Z
UID:10001615-1833904800-1833913800@www.marrsmountaincabins.com
SUMMARY:Trivia Night
DESCRIPTION:
URL:https://www.marrsmountaincabins.com/event/trivia-night/2028-02-11/
LOCATION:The Tavern at Red Feather Lakes\, 1078 Ramona Drive\, Suite 2\, Red Feather Lakes\, CO\, 80545\, United States
CATEGORIES:Trivia
ATTACH;FMTTYPE=image/jpeg:https://www.marrsmountaincabins.com/wp-content/uploads/Trivia-Night-2026-Poster-scaled.jpg
ORGANIZER;CN="Rich & Kerrie Marr":MAILTO:richandkerrie@marrsmountaincabins.com
END:VEVENT
BEGIN:VEVENT
DTSTART;TZID=America/Denver:20280218T180000
DTEND;TZID=America/Denver:20280218T203000
DTSTAMP:20260422T052944
CREATED:20251007T043826Z
LAST-MODIFIED:20260318T222948Z
UID:10001616-1834509600-1834518600@www.marrsmountaincabins.com
SUMMARY:Trivia Night
DESCRIPTION:
URL:https://www.marrsmountaincabins.com/event/trivia-night/2028-02-18/
LOCATION:The Tavern at Red Feather Lakes\, 1078 Ramona Drive\, Suite 2\, Red Feather Lakes\, CO\, 80545\, United States
CATEGORIES:Trivia
ATTACH;FMTTYPE=image/jpeg:https://www.marrsmountaincabins.com/wp-content/uploads/Trivia-Night-2026-Poster-scaled.jpg
ORGANIZER;CN="Rich & Kerrie Marr":MAILTO:richandkerrie@marrsmountaincabins.com
END:VEVENT
BEGIN:VEVENT
DTSTART;TZID=America/Denver:20280225T180000
DTEND;TZID=America/Denver:20280225T203000
DTSTAMP:20260422T052944
CREATED:20251007T043826Z
LAST-MODIFIED:20260318T222948Z
UID:10001617-1835114400-1835123400@www.marrsmountaincabins.com
SUMMARY:Trivia Night
DESCRIPTION:
URL:https://www.marrsmountaincabins.com/event/trivia-night/2028-02-25/
LOCATION:The Tavern at Red Feather Lakes\, 1078 Ramona Drive\, Suite 2\, Red Feather Lakes\, CO\, 80545\, United States
CATEGORIES:Trivia
ATTACH;FMTTYPE=image/jpeg:https://www.marrsmountaincabins.com/wp-content/uploads/Trivia-Night-2026-Poster-scaled.jpg
ORGANIZER;CN="Rich & Kerrie Marr":MAILTO:richandkerrie@marrsmountaincabins.com
END:VEVENT
BEGIN:VEVENT
DTSTART;TZID=America/Denver:20280303T180000
DTEND;TZID=America/Denver:20280303T203000
DTSTAMP:20260422T052944
CREATED:20251007T043826Z
LAST-MODIFIED:20260318T222948Z
UID:10001618-1835719200-1835728200@www.marrsmountaincabins.com
SUMMARY:Trivia Night
DESCRIPTION:
URL:https://www.marrsmountaincabins.com/event/trivia-night/2028-03-03/
LOCATION:The Tavern at Red Feather Lakes\, 1078 Ramona Drive\, Suite 2\, Red Feather Lakes\, CO\, 80545\, United States
CATEGORIES:Trivia
ATTACH;FMTTYPE=image/jpeg:https://www.marrsmountaincabins.com/wp-content/uploads/Trivia-Night-2026-Poster-scaled.jpg
ORGANIZER;CN="Rich & Kerrie Marr":MAILTO:richandkerrie@marrsmountaincabins.com
END:VEVENT
BEGIN:VEVENT
DTSTART;TZID=America/Denver:20280310T180000
DTEND;TZID=America/Denver:20280310T203000
DTSTAMP:20260422T052944
CREATED:20251007T043826Z
LAST-MODIFIED:20260318T222948Z
UID:10001619-1836324000-1836333000@www.marrsmountaincabins.com
SUMMARY:Trivia Night
DESCRIPTION:
URL:https://www.marrsmountaincabins.com/event/trivia-night/2028-03-10/
LOCATION:The Tavern at Red Feather Lakes\, 1078 Ramona Drive\, Suite 2\, Red Feather Lakes\, CO\, 80545\, United States
CATEGORIES:Trivia
ATTACH;FMTTYPE=image/jpeg:https://www.marrsmountaincabins.com/wp-content/uploads/Trivia-Night-2026-Poster-scaled.jpg
ORGANIZER;CN="Rich & Kerrie Marr":MAILTO:richandkerrie@marrsmountaincabins.com
END:VEVENT
BEGIN:VEVENT
DTSTART;TZID=America/Denver:20280317T180000
DTEND;TZID=America/Denver:20280317T203000
DTSTAMP:20260422T052944
CREATED:20251007T043826Z
LAST-MODIFIED:20260318T222948Z
UID:10001620-1836928800-1836937800@www.marrsmountaincabins.com
SUMMARY:Trivia Night
DESCRIPTION:
URL:https://www.marrsmountaincabins.com/event/trivia-night/2028-03-17/
LOCATION:The Tavern at Red Feather Lakes\, 1078 Ramona Drive\, Suite 2\, Red Feather Lakes\, CO\, 80545\, United States
CATEGORIES:Trivia
ATTACH;FMTTYPE=image/jpeg:https://www.marrsmountaincabins.com/wp-content/uploads/Trivia-Night-2026-Poster-scaled.jpg
ORGANIZER;CN="Rich & Kerrie Marr":MAILTO:richandkerrie@marrsmountaincabins.com
END:VEVENT
BEGIN:VEVENT
DTSTART;TZID=America/Denver:20280324T180000
DTEND;TZID=America/Denver:20280324T203000
DTSTAMP:20260422T052944
CREATED:20251007T043826Z
LAST-MODIFIED:20260318T222948Z
UID:10001621-1837533600-1837542600@www.marrsmountaincabins.com
SUMMARY:Trivia Night
DESCRIPTION:
URL:https://www.marrsmountaincabins.com/event/trivia-night/2028-03-24/
LOCATION:The Tavern at Red Feather Lakes\, 1078 Ramona Drive\, Suite 2\, Red Feather Lakes\, CO\, 80545\, United States
CATEGORIES:Trivia
ATTACH;FMTTYPE=image/jpeg:https://www.marrsmountaincabins.com/wp-content/uploads/Trivia-Night-2026-Poster-scaled.jpg
ORGANIZER;CN="Rich & Kerrie Marr":MAILTO:richandkerrie@marrsmountaincabins.com
END:VEVENT
BEGIN:VEVENT
DTSTART;TZID=America/Denver:20280331T180000
DTEND;TZID=America/Denver:20280331T203000
DTSTAMP:20260422T052944
CREATED:20251007T043826Z
LAST-MODIFIED:20260318T222948Z
UID:10001622-1838138400-1838147400@www.marrsmountaincabins.com
SUMMARY:Trivia Night
DESCRIPTION:
URL:https://www.marrsmountaincabins.com/event/trivia-night/2028-03-31/
LOCATION:The Tavern at Red Feather Lakes\, 1078 Ramona Drive\, Suite 2\, Red Feather Lakes\, CO\, 80545\, United States
CATEGORIES:Trivia
ATTACH;FMTTYPE=image/jpeg:https://www.marrsmountaincabins.com/wp-content/uploads/Trivia-Night-2026-Poster-scaled.jpg
ORGANIZER;CN="Rich & Kerrie Marr":MAILTO:richandkerrie@marrsmountaincabins.com
END:VEVENT
BEGIN:VEVENT
DTSTART;TZID=America/Denver:20280407T180000
DTEND;TZID=America/Denver:20280407T203000
DTSTAMP:20260422T052944
CREATED:20251007T043826Z
LAST-MODIFIED:20260318T222948Z
UID:10001623-1838743200-1838752200@www.marrsmountaincabins.com
SUMMARY:Trivia Night
DESCRIPTION:
URL:https://www.marrsmountaincabins.com/event/trivia-night/2028-04-07/
LOCATION:The Tavern at Red Feather Lakes\, 1078 Ramona Drive\, Suite 2\, Red Feather Lakes\, CO\, 80545\, United States
CATEGORIES:Trivia
ATTACH;FMTTYPE=image/jpeg:https://www.marrsmountaincabins.com/wp-content/uploads/Trivia-Night-2026-Poster-scaled.jpg
ORGANIZER;CN="Rich & Kerrie Marr":MAILTO:richandkerrie@marrsmountaincabins.com
END:VEVENT
BEGIN:VEVENT
DTSTART;TZID=America/Denver:20280414T180000
DTEND;TZID=America/Denver:20280414T203000
DTSTAMP:20260422T052944
CREATED:20251007T043826Z
LAST-MODIFIED:20260318T222948Z
UID:10001624-1839348000-1839357000@www.marrsmountaincabins.com
SUMMARY:Trivia Night
DESCRIPTION:
URL:https://www.marrsmountaincabins.com/event/trivia-night/2028-04-14/
LOCATION:The Tavern at Red Feather Lakes\, 1078 Ramona Drive\, Suite 2\, Red Feather Lakes\, CO\, 80545\, United States
CATEGORIES:Trivia
ATTACH;FMTTYPE=image/jpeg:https://www.marrsmountaincabins.com/wp-content/uploads/Trivia-Night-2026-Poster-scaled.jpg
ORGANIZER;CN="Rich & Kerrie Marr":MAILTO:richandkerrie@marrsmountaincabins.com
END:VEVENT
BEGIN:VEVENT
DTSTART;TZID=America/Denver:20280421T180000
DTEND;TZID=America/Denver:20280421T203000
DTSTAMP:20260422T052944
CREATED:20251007T043826Z
LAST-MODIFIED:20260318T222948Z
UID:10001625-1839952800-1839961800@www.marrsmountaincabins.com
SUMMARY:Trivia Night
DESCRIPTION:
URL:https://www.marrsmountaincabins.com/event/trivia-night/2028-04-21/
LOCATION:The Tavern at Red Feather Lakes\, 1078 Ramona Drive\, Suite 2\, Red Feather Lakes\, CO\, 80545\, United States
CATEGORIES:Trivia
ATTACH;FMTTYPE=image/jpeg:https://www.marrsmountaincabins.com/wp-content/uploads/Trivia-Night-2026-Poster-scaled.jpg
ORGANIZER;CN="Rich & Kerrie Marr":MAILTO:richandkerrie@marrsmountaincabins.com
END:VEVENT
BEGIN:VEVENT
DTSTART;TZID=America/Denver:20280428T180000
DTEND;TZID=America/Denver:20280428T203000
DTSTAMP:20260422T052944
CREATED:20251007T043826Z
LAST-MODIFIED:20260318T222948Z
UID:10001626-1840557600-1840566600@www.marrsmountaincabins.com
SUMMARY:Trivia Night
DESCRIPTION:
URL:https://www.marrsmountaincabins.com/event/trivia-night/2028-04-28/
LOCATION:The Tavern at Red Feather Lakes\, 1078 Ramona Drive\, Suite 2\, Red Feather Lakes\, CO\, 80545\, United States
CATEGORIES:Trivia
ATTACH;FMTTYPE=image/jpeg:https://www.marrsmountaincabins.com/wp-content/uploads/Trivia-Night-2026-Poster-scaled.jpg
ORGANIZER;CN="Rich & Kerrie Marr":MAILTO:richandkerrie@marrsmountaincabins.com
END:VEVENT
BEGIN:VEVENT
DTSTART;TZID=America/Denver:20280505T180000
DTEND;TZID=America/Denver:20280505T203000
DTSTAMP:20260422T052944
CREATED:20251007T043826Z
LAST-MODIFIED:20260318T222948Z
UID:10001627-1841162400-1841171400@www.marrsmountaincabins.com
SUMMARY:Trivia Night
DESCRIPTION:
URL:https://www.marrsmountaincabins.com/event/trivia-night/2028-05-05/
LOCATION:The Tavern at Red Feather Lakes\, 1078 Ramona Drive\, Suite 2\, Red Feather Lakes\, CO\, 80545\, United States
CATEGORIES:Trivia
ATTACH;FMTTYPE=image/jpeg:https://www.marrsmountaincabins.com/wp-content/uploads/Trivia-Night-2026-Poster-scaled.jpg
ORGANIZER;CN="Rich & Kerrie Marr":MAILTO:richandkerrie@marrsmountaincabins.com
END:VEVENT
BEGIN:VEVENT
DTSTART;TZID=America/Denver:20280512T180000
DTEND;TZID=America/Denver:20280512T203000
DTSTAMP:20260422T052944
CREATED:20251007T043826Z
LAST-MODIFIED:20260318T222948Z
UID:10001628-1841767200-1841776200@www.marrsmountaincabins.com
SUMMARY:Trivia Night
DESCRIPTION:
URL:https://www.marrsmountaincabins.com/event/trivia-night/2028-05-12/
LOCATION:The Tavern at Red Feather Lakes\, 1078 Ramona Drive\, Suite 2\, Red Feather Lakes\, CO\, 80545\, United States
CATEGORIES:Trivia
ATTACH;FMTTYPE=image/jpeg:https://www.marrsmountaincabins.com/wp-content/uploads/Trivia-Night-2026-Poster-scaled.jpg
ORGANIZER;CN="Rich & Kerrie Marr":MAILTO:richandkerrie@marrsmountaincabins.com
END:VEVENT
BEGIN:VEVENT
DTSTART;TZID=America/Denver:20280519T180000
DTEND;TZID=America/Denver:20280519T203000
DTSTAMP:20260422T052944
CREATED:20251007T043826Z
LAST-MODIFIED:20260318T222948Z
UID:10001629-1842372000-1842381000@www.marrsmountaincabins.com
SUMMARY:Trivia Night
DESCRIPTION:
URL:https://www.marrsmountaincabins.com/event/trivia-night/2028-05-19/
LOCATION:The Tavern at Red Feather Lakes\, 1078 Ramona Drive\, Suite 2\, Red Feather Lakes\, CO\, 80545\, United States
CATEGORIES:Trivia
ATTACH;FMTTYPE=image/jpeg:https://www.marrsmountaincabins.com/wp-content/uploads/Trivia-Night-2026-Poster-scaled.jpg
ORGANIZER;CN="Rich & Kerrie Marr":MAILTO:richandkerrie@marrsmountaincabins.com
END:VEVENT
BEGIN:VEVENT
DTSTART;TZID=America/Denver:20280526T180000
DTEND;TZID=America/Denver:20280526T203000
DTSTAMP:20260422T052944
CREATED:20251007T043826Z
LAST-MODIFIED:20260318T222948Z
UID:10001630-1842976800-1842985800@www.marrsmountaincabins.com
SUMMARY:Trivia Night
DESCRIPTION:
URL:https://www.marrsmountaincabins.com/event/trivia-night/2028-05-26/
LOCATION:The Tavern at Red Feather Lakes\, 1078 Ramona Drive\, Suite 2\, Red Feather Lakes\, CO\, 80545\, United States
CATEGORIES:Trivia
ATTACH;FMTTYPE=image/jpeg:https://www.marrsmountaincabins.com/wp-content/uploads/Trivia-Night-2026-Poster-scaled.jpg
ORGANIZER;CN="Rich & Kerrie Marr":MAILTO:richandkerrie@marrsmountaincabins.com
END:VEVENT
BEGIN:VEVENT
DTSTART;TZID=America/Denver:20280602T180000
DTEND;TZID=America/Denver:20280602T203000
DTSTAMP:20260422T052944
CREATED:20251007T043826Z
LAST-MODIFIED:20260318T222948Z
UID:10001631-1843581600-1843590600@www.marrsmountaincabins.com
SUMMARY:Trivia Night
DESCRIPTION:
URL:https://www.marrsmountaincabins.com/event/trivia-night/2028-06-02/
LOCATION:The Tavern at Red Feather Lakes\, 1078 Ramona Drive\, Suite 2\, Red Feather Lakes\, CO\, 80545\, United States
CATEGORIES:Trivia
ATTACH;FMTTYPE=image/jpeg:https://www.marrsmountaincabins.com/wp-content/uploads/Trivia-Night-2026-Poster-scaled.jpg
ORGANIZER;CN="Rich & Kerrie Marr":MAILTO:richandkerrie@marrsmountaincabins.com
END:VEVENT
BEGIN:VEVENT
DTSTART;TZID=America/Denver:20280609T180000
DTEND;TZID=America/Denver:20280609T203000
DTSTAMP:20260422T052944
CREATED:20251007T043826Z
LAST-MODIFIED:20260318T222948Z
UID:10001632-1844186400-1844195400@www.marrsmountaincabins.com
SUMMARY:Trivia Night
DESCRIPTION:
URL:https://www.marrsmountaincabins.com/event/trivia-night/2028-06-09/
LOCATION:The Tavern at Red Feather Lakes\, 1078 Ramona Drive\, Suite 2\, Red Feather Lakes\, CO\, 80545\, United States
CATEGORIES:Trivia
ATTACH;FMTTYPE=image/jpeg:https://www.marrsmountaincabins.com/wp-content/uploads/Trivia-Night-2026-Poster-scaled.jpg
ORGANIZER;CN="Rich & Kerrie Marr":MAILTO:richandkerrie@marrsmountaincabins.com
END:VEVENT
BEGIN:VEVENT
DTSTART;TZID=America/Denver:20280616T180000
DTEND;TZID=America/Denver:20280616T203000
DTSTAMP:20260422T052944
CREATED:20251007T043826Z
LAST-MODIFIED:20260318T222948Z
UID:10001633-1844791200-1844800200@www.marrsmountaincabins.com
SUMMARY:Trivia Night
DESCRIPTION:
URL:https://www.marrsmountaincabins.com/event/trivia-night/2028-06-16/
LOCATION:The Tavern at Red Feather Lakes\, 1078 Ramona Drive\, Suite 2\, Red Feather Lakes\, CO\, 80545\, United States
CATEGORIES:Trivia
ATTACH;FMTTYPE=image/jpeg:https://www.marrsmountaincabins.com/wp-content/uploads/Trivia-Night-2026-Poster-scaled.jpg
ORGANIZER;CN="Rich & Kerrie Marr":MAILTO:richandkerrie@marrsmountaincabins.com
END:VEVENT
BEGIN:VEVENT
DTSTART;TZID=America/Denver:20280623T180000
DTEND;TZID=America/Denver:20280623T203000
DTSTAMP:20260422T052944
CREATED:20251007T043826Z
LAST-MODIFIED:20260318T222948Z
UID:10001634-1845396000-1845405000@www.marrsmountaincabins.com
SUMMARY:Trivia Night
DESCRIPTION:
URL:https://www.marrsmountaincabins.com/event/trivia-night/2028-06-23/
LOCATION:The Tavern at Red Feather Lakes\, 1078 Ramona Drive\, Suite 2\, Red Feather Lakes\, CO\, 80545\, United States
CATEGORIES:Trivia
ATTACH;FMTTYPE=image/jpeg:https://www.marrsmountaincabins.com/wp-content/uploads/Trivia-Night-2026-Poster-scaled.jpg
ORGANIZER;CN="Rich & Kerrie Marr":MAILTO:richandkerrie@marrsmountaincabins.com
END:VEVENT
BEGIN:VEVENT
DTSTART;TZID=America/Denver:20280630T180000
DTEND;TZID=America/Denver:20280630T203000
DTSTAMP:20260422T052944
CREATED:20251007T043826Z
LAST-MODIFIED:20260318T222948Z
UID:10001635-1846000800-1846009800@www.marrsmountaincabins.com
SUMMARY:Trivia Night
DESCRIPTION:
URL:https://www.marrsmountaincabins.com/event/trivia-night/2028-06-30/
LOCATION:The Tavern at Red Feather Lakes\, 1078 Ramona Drive\, Suite 2\, Red Feather Lakes\, CO\, 80545\, United States
CATEGORIES:Trivia
ATTACH;FMTTYPE=image/jpeg:https://www.marrsmountaincabins.com/wp-content/uploads/Trivia-Night-2026-Poster-scaled.jpg
ORGANIZER;CN="Rich & Kerrie Marr":MAILTO:richandkerrie@marrsmountaincabins.com
END:VEVENT
BEGIN:VEVENT
DTSTART;TZID=America/Denver:20280707T180000
DTEND;TZID=America/Denver:20280707T203000
DTSTAMP:20260422T052944
CREATED:20251007T043826Z
LAST-MODIFIED:20260318T222948Z
UID:10001636-1846605600-1846614600@www.marrsmountaincabins.com
SUMMARY:Trivia Night
DESCRIPTION:
URL:https://www.marrsmountaincabins.com/event/trivia-night/2028-07-07/
LOCATION:The Tavern at Red Feather Lakes\, 1078 Ramona Drive\, Suite 2\, Red Feather Lakes\, CO\, 80545\, United States
CATEGORIES:Trivia
ATTACH;FMTTYPE=image/jpeg:https://www.marrsmountaincabins.com/wp-content/uploads/Trivia-Night-2026-Poster-scaled.jpg
ORGANIZER;CN="Rich & Kerrie Marr":MAILTO:richandkerrie@marrsmountaincabins.com
END:VEVENT
BEGIN:VEVENT
DTSTART;TZID=America/Denver:20280714T180000
DTEND;TZID=America/Denver:20280714T203000
DTSTAMP:20260422T052944
CREATED:20251007T043826Z
LAST-MODIFIED:20260318T222948Z
UID:10001637-1847210400-1847219400@www.marrsmountaincabins.com
SUMMARY:Trivia Night
DESCRIPTION:
URL:https://www.marrsmountaincabins.com/event/trivia-night/2028-07-14/
LOCATION:The Tavern at Red Feather Lakes\, 1078 Ramona Drive\, Suite 2\, Red Feather Lakes\, CO\, 80545\, United States
CATEGORIES:Trivia
ATTACH;FMTTYPE=image/jpeg:https://www.marrsmountaincabins.com/wp-content/uploads/Trivia-Night-2026-Poster-scaled.jpg
ORGANIZER;CN="Rich & Kerrie Marr":MAILTO:richandkerrie@marrsmountaincabins.com
END:VEVENT
BEGIN:VEVENT
DTSTART;TZID=America/Denver:20280721T180000
DTEND;TZID=America/Denver:20280721T203000
DTSTAMP:20260422T052944
CREATED:20251007T043826Z
LAST-MODIFIED:20260318T222948Z
UID:10001638-1847815200-1847824200@www.marrsmountaincabins.com
SUMMARY:Trivia Night
DESCRIPTION:
URL:https://www.marrsmountaincabins.com/event/trivia-night/2028-07-21/
LOCATION:The Tavern at Red Feather Lakes\, 1078 Ramona Drive\, Suite 2\, Red Feather Lakes\, CO\, 80545\, United States
CATEGORIES:Trivia
ATTACH;FMTTYPE=image/jpeg:https://www.marrsmountaincabins.com/wp-content/uploads/Trivia-Night-2026-Poster-scaled.jpg
ORGANIZER;CN="Rich & Kerrie Marr":MAILTO:richandkerrie@marrsmountaincabins.com
END:VEVENT
BEGIN:VEVENT
DTSTART;TZID=America/Denver:20280728T180000
DTEND;TZID=America/Denver:20280728T203000
DTSTAMP:20260422T052944
CREATED:20251007T043826Z
LAST-MODIFIED:20260318T222948Z
UID:10001639-1848420000-1848429000@www.marrsmountaincabins.com
SUMMARY:Trivia Night
DESCRIPTION:
URL:https://www.marrsmountaincabins.com/event/trivia-night/2028-07-28/
LOCATION:The Tavern at Red Feather Lakes\, 1078 Ramona Drive\, Suite 2\, Red Feather Lakes\, CO\, 80545\, United States
CATEGORIES:Trivia
ATTACH;FMTTYPE=image/jpeg:https://www.marrsmountaincabins.com/wp-content/uploads/Trivia-Night-2026-Poster-scaled.jpg
ORGANIZER;CN="Rich & Kerrie Marr":MAILTO:richandkerrie@marrsmountaincabins.com
END:VEVENT
BEGIN:VEVENT
DTSTART;TZID=America/Denver:20280804T180000
DTEND;TZID=America/Denver:20280804T203000
DTSTAMP:20260422T052944
CREATED:20251007T043826Z
LAST-MODIFIED:20260318T222948Z
UID:10001640-1849024800-1849033800@www.marrsmountaincabins.com
SUMMARY:Trivia Night
DESCRIPTION:
URL:https://www.marrsmountaincabins.com/event/trivia-night/2028-08-04/
LOCATION:The Tavern at Red Feather Lakes\, 1078 Ramona Drive\, Suite 2\, Red Feather Lakes\, CO\, 80545\, United States
CATEGORIES:Trivia
ATTACH;FMTTYPE=image/jpeg:https://www.marrsmountaincabins.com/wp-content/uploads/Trivia-Night-2026-Poster-scaled.jpg
ORGANIZER;CN="Rich & Kerrie Marr":MAILTO:richandkerrie@marrsmountaincabins.com
END:VEVENT
BEGIN:VEVENT
DTSTART;TZID=America/Denver:20280811T180000
DTEND;TZID=America/Denver:20280811T203000
DTSTAMP:20260422T052944
CREATED:20251007T043826Z
LAST-MODIFIED:20260318T222948Z
UID:10001641-1849629600-1849638600@www.marrsmountaincabins.com
SUMMARY:Trivia Night
DESCRIPTION:
URL:https://www.marrsmountaincabins.com/event/trivia-night/2028-08-11/
LOCATION:The Tavern at Red Feather Lakes\, 1078 Ramona Drive\, Suite 2\, Red Feather Lakes\, CO\, 80545\, United States
CATEGORIES:Trivia
ATTACH;FMTTYPE=image/jpeg:https://www.marrsmountaincabins.com/wp-content/uploads/Trivia-Night-2026-Poster-scaled.jpg
ORGANIZER;CN="Rich & Kerrie Marr":MAILTO:richandkerrie@marrsmountaincabins.com
END:VEVENT
BEGIN:VEVENT
DTSTART;TZID=America/Denver:20280818T180000
DTEND;TZID=America/Denver:20280818T203000
DTSTAMP:20260422T052944
CREATED:20251007T043826Z
LAST-MODIFIED:20260318T222948Z
UID:10001642-1850234400-1850243400@www.marrsmountaincabins.com
SUMMARY:Trivia Night
DESCRIPTION:
URL:https://www.marrsmountaincabins.com/event/trivia-night/2028-08-18/
LOCATION:The Tavern at Red Feather Lakes\, 1078 Ramona Drive\, Suite 2\, Red Feather Lakes\, CO\, 80545\, United States
CATEGORIES:Trivia
ATTACH;FMTTYPE=image/jpeg:https://www.marrsmountaincabins.com/wp-content/uploads/Trivia-Night-2026-Poster-scaled.jpg
ORGANIZER;CN="Rich & Kerrie Marr":MAILTO:richandkerrie@marrsmountaincabins.com
END:VEVENT
END:VCALENDAR