BEGIN:VCALENDAR
VERSION:2.0
PRODID:-//Marr&#039;s Mountain Cabins and Tavern - ECPv6.15.17.1//NONSGML v1.0//EN
CALSCALE:GREGORIAN
METHOD:PUBLISH
X-ORIGINAL-URL:https://www.marrsmountaincabins.com
X-WR-CALDESC:Events for Marr&#039;s Mountain Cabins and Tavern
REFRESH-INTERVAL;VALUE=DURATION:PT1H
X-Robots-Tag:noindex
X-PUBLISHED-TTL:PT1H
BEGIN:VTIMEZONE
TZID:America/Denver
BEGIN:DAYLIGHT
TZOFFSETFROM:-0700
TZOFFSETTO:-0600
TZNAME:MDT
DTSTART:20280312T090000
END:DAYLIGHT
BEGIN:STANDARD
TZOFFSETFROM:-0600
TZOFFSETTO:-0700
TZNAME:MST
DTSTART:20281105T080000
END:STANDARD
BEGIN:DAYLIGHT
TZOFFSETFROM:-0700
TZOFFSETTO:-0600
TZNAME:MDT
DTSTART:20290311T090000
END:DAYLIGHT
BEGIN:STANDARD
TZOFFSETFROM:-0600
TZOFFSETTO:-0700
TZNAME:MST
DTSTART:20291104T080000
END:STANDARD
BEGIN:DAYLIGHT
TZOFFSETFROM:-0700
TZOFFSETTO:-0600
TZNAME:MDT
DTSTART:20300310T090000
END:DAYLIGHT
BEGIN:STANDARD
TZOFFSETFROM:-0600
TZOFFSETTO:-0700
TZNAME:MST
DTSTART:20301103T080000
END:STANDARD
BEGIN:DAYLIGHT
TZOFFSETFROM:-0700
TZOFFSETTO:-0600
TZNAME:MDT
DTSTART:20310309T090000
END:DAYLIGHT
BEGIN:STANDARD
TZOFFSETFROM:-0600
TZOFFSETTO:-0700
TZNAME:MST
DTSTART:20311102T080000
END:STANDARD
END:VTIMEZONE
BEGIN:VEVENT
DTSTART;TZID=America/Denver:20290907T180000
DTEND;TZID=America/Denver:20290907T203000
DTSTAMP:20260422T173950
CREATED:20251007T043826Z
LAST-MODIFIED:20260318T222948Z
UID:10001697-1883498400-1883507400@www.marrsmountaincabins.com
SUMMARY:Trivia Night
DESCRIPTION:
URL:https://www.marrsmountaincabins.com/event/trivia-night/2029-09-07/
LOCATION:The Tavern at Red Feather Lakes\, 1078 Ramona Drive\, Suite 2\, Red Feather Lakes\, CO\, 80545\, United States
CATEGORIES:Trivia
ATTACH;FMTTYPE=image/jpeg:https://www.marrsmountaincabins.com/wp-content/uploads/Trivia-Night-2026-Poster-scaled.jpg
ORGANIZER;CN="Rich & Kerrie Marr":MAILTO:richandkerrie@marrsmountaincabins.com
END:VEVENT
BEGIN:VEVENT
DTSTART;TZID=America/Denver:20290914T180000
DTEND;TZID=America/Denver:20290914T203000
DTSTAMP:20260422T173950
CREATED:20251007T043826Z
LAST-MODIFIED:20260318T222948Z
UID:10001698-1884103200-1884112200@www.marrsmountaincabins.com
SUMMARY:Trivia Night
DESCRIPTION:
URL:https://www.marrsmountaincabins.com/event/trivia-night/2029-09-14/
LOCATION:The Tavern at Red Feather Lakes\, 1078 Ramona Drive\, Suite 2\, Red Feather Lakes\, CO\, 80545\, United States
CATEGORIES:Trivia
ATTACH;FMTTYPE=image/jpeg:https://www.marrsmountaincabins.com/wp-content/uploads/Trivia-Night-2026-Poster-scaled.jpg
ORGANIZER;CN="Rich & Kerrie Marr":MAILTO:richandkerrie@marrsmountaincabins.com
END:VEVENT
BEGIN:VEVENT
DTSTART;TZID=America/Denver:20290921T180000
DTEND;TZID=America/Denver:20290921T203000
DTSTAMP:20260422T173950
CREATED:20251007T043826Z
LAST-MODIFIED:20260318T222948Z
UID:10001699-1884708000-1884717000@www.marrsmountaincabins.com
SUMMARY:Trivia Night
DESCRIPTION:
URL:https://www.marrsmountaincabins.com/event/trivia-night/2029-09-21/
LOCATION:The Tavern at Red Feather Lakes\, 1078 Ramona Drive\, Suite 2\, Red Feather Lakes\, CO\, 80545\, United States
CATEGORIES:Trivia
ATTACH;FMTTYPE=image/jpeg:https://www.marrsmountaincabins.com/wp-content/uploads/Trivia-Night-2026-Poster-scaled.jpg
ORGANIZER;CN="Rich & Kerrie Marr":MAILTO:richandkerrie@marrsmountaincabins.com
END:VEVENT
BEGIN:VEVENT
DTSTART;TZID=America/Denver:20290928T180000
DTEND;TZID=America/Denver:20290928T203000
DTSTAMP:20260422T173950
CREATED:20251007T043826Z
LAST-MODIFIED:20260318T222948Z
UID:10001700-1885312800-1885321800@www.marrsmountaincabins.com
SUMMARY:Trivia Night
DESCRIPTION:
URL:https://www.marrsmountaincabins.com/event/trivia-night/2029-09-28/
LOCATION:The Tavern at Red Feather Lakes\, 1078 Ramona Drive\, Suite 2\, Red Feather Lakes\, CO\, 80545\, United States
CATEGORIES:Trivia
ATTACH;FMTTYPE=image/jpeg:https://www.marrsmountaincabins.com/wp-content/uploads/Trivia-Night-2026-Poster-scaled.jpg
ORGANIZER;CN="Rich & Kerrie Marr":MAILTO:richandkerrie@marrsmountaincabins.com
END:VEVENT
BEGIN:VEVENT
DTSTART;TZID=America/Denver:20291005T180000
DTEND;TZID=America/Denver:20291005T203000
DTSTAMP:20260422T173950
CREATED:20251007T043826Z
LAST-MODIFIED:20260318T222948Z
UID:10001701-1885917600-1885926600@www.marrsmountaincabins.com
SUMMARY:Trivia Night
DESCRIPTION:
URL:https://www.marrsmountaincabins.com/event/trivia-night/2029-10-05/
LOCATION:The Tavern at Red Feather Lakes\, 1078 Ramona Drive\, Suite 2\, Red Feather Lakes\, CO\, 80545\, United States
CATEGORIES:Trivia
ATTACH;FMTTYPE=image/jpeg:https://www.marrsmountaincabins.com/wp-content/uploads/Trivia-Night-2026-Poster-scaled.jpg
ORGANIZER;CN="Rich & Kerrie Marr":MAILTO:richandkerrie@marrsmountaincabins.com
END:VEVENT
BEGIN:VEVENT
DTSTART;TZID=America/Denver:20291012T180000
DTEND;TZID=America/Denver:20291012T203000
DTSTAMP:20260422T173950
CREATED:20251007T043826Z
LAST-MODIFIED:20260318T222948Z
UID:10001702-1886522400-1886531400@www.marrsmountaincabins.com
SUMMARY:Trivia Night
DESCRIPTION:
URL:https://www.marrsmountaincabins.com/event/trivia-night/2029-10-12/
LOCATION:The Tavern at Red Feather Lakes\, 1078 Ramona Drive\, Suite 2\, Red Feather Lakes\, CO\, 80545\, United States
CATEGORIES:Trivia
ATTACH;FMTTYPE=image/jpeg:https://www.marrsmountaincabins.com/wp-content/uploads/Trivia-Night-2026-Poster-scaled.jpg
ORGANIZER;CN="Rich & Kerrie Marr":MAILTO:richandkerrie@marrsmountaincabins.com
END:VEVENT
BEGIN:VEVENT
DTSTART;TZID=America/Denver:20291019T180000
DTEND;TZID=America/Denver:20291019T203000
DTSTAMP:20260422T173950
CREATED:20251007T043826Z
LAST-MODIFIED:20260318T222948Z
UID:10001703-1887127200-1887136200@www.marrsmountaincabins.com
SUMMARY:Trivia Night
DESCRIPTION:
URL:https://www.marrsmountaincabins.com/event/trivia-night/2029-10-19/
LOCATION:The Tavern at Red Feather Lakes\, 1078 Ramona Drive\, Suite 2\, Red Feather Lakes\, CO\, 80545\, United States
CATEGORIES:Trivia
ATTACH;FMTTYPE=image/jpeg:https://www.marrsmountaincabins.com/wp-content/uploads/Trivia-Night-2026-Poster-scaled.jpg
ORGANIZER;CN="Rich & Kerrie Marr":MAILTO:richandkerrie@marrsmountaincabins.com
END:VEVENT
BEGIN:VEVENT
DTSTART;TZID=America/Denver:20291026T180000
DTEND;TZID=America/Denver:20291026T203000
DTSTAMP:20260422T173950
CREATED:20251007T043826Z
LAST-MODIFIED:20260318T222948Z
UID:10001704-1887732000-1887741000@www.marrsmountaincabins.com
SUMMARY:Trivia Night
DESCRIPTION:
URL:https://www.marrsmountaincabins.com/event/trivia-night/2029-10-26/
LOCATION:The Tavern at Red Feather Lakes\, 1078 Ramona Drive\, Suite 2\, Red Feather Lakes\, CO\, 80545\, United States
CATEGORIES:Trivia
ATTACH;FMTTYPE=image/jpeg:https://www.marrsmountaincabins.com/wp-content/uploads/Trivia-Night-2026-Poster-scaled.jpg
ORGANIZER;CN="Rich & Kerrie Marr":MAILTO:richandkerrie@marrsmountaincabins.com
END:VEVENT
BEGIN:VEVENT
DTSTART;TZID=America/Denver:20291102T180000
DTEND;TZID=America/Denver:20291102T203000
DTSTAMP:20260422T173950
CREATED:20251007T043826Z
LAST-MODIFIED:20260318T222948Z
UID:10001705-1888336800-1888345800@www.marrsmountaincabins.com
SUMMARY:Trivia Night
DESCRIPTION:
URL:https://www.marrsmountaincabins.com/event/trivia-night/2029-11-02/
LOCATION:The Tavern at Red Feather Lakes\, 1078 Ramona Drive\, Suite 2\, Red Feather Lakes\, CO\, 80545\, United States
CATEGORIES:Trivia
ATTACH;FMTTYPE=image/jpeg:https://www.marrsmountaincabins.com/wp-content/uploads/Trivia-Night-2026-Poster-scaled.jpg
ORGANIZER;CN="Rich & Kerrie Marr":MAILTO:richandkerrie@marrsmountaincabins.com
END:VEVENT
BEGIN:VEVENT
DTSTART;TZID=America/Denver:20291109T180000
DTEND;TZID=America/Denver:20291109T203000
DTSTAMP:20260422T173950
CREATED:20251007T043826Z
LAST-MODIFIED:20260318T222948Z
UID:10001706-1888941600-1888950600@www.marrsmountaincabins.com
SUMMARY:Trivia Night
DESCRIPTION:
URL:https://www.marrsmountaincabins.com/event/trivia-night/2029-11-09/
LOCATION:The Tavern at Red Feather Lakes\, 1078 Ramona Drive\, Suite 2\, Red Feather Lakes\, CO\, 80545\, United States
CATEGORIES:Trivia
ATTACH;FMTTYPE=image/jpeg:https://www.marrsmountaincabins.com/wp-content/uploads/Trivia-Night-2026-Poster-scaled.jpg
ORGANIZER;CN="Rich & Kerrie Marr":MAILTO:richandkerrie@marrsmountaincabins.com
END:VEVENT
BEGIN:VEVENT
DTSTART;TZID=America/Denver:20291116T180000
DTEND;TZID=America/Denver:20291116T203000
DTSTAMP:20260422T173950
CREATED:20251007T043826Z
LAST-MODIFIED:20260318T222948Z
UID:10001707-1889546400-1889555400@www.marrsmountaincabins.com
SUMMARY:Trivia Night
DESCRIPTION:
URL:https://www.marrsmountaincabins.com/event/trivia-night/2029-11-16/
LOCATION:The Tavern at Red Feather Lakes\, 1078 Ramona Drive\, Suite 2\, Red Feather Lakes\, CO\, 80545\, United States
CATEGORIES:Trivia
ATTACH;FMTTYPE=image/jpeg:https://www.marrsmountaincabins.com/wp-content/uploads/Trivia-Night-2026-Poster-scaled.jpg
ORGANIZER;CN="Rich & Kerrie Marr":MAILTO:richandkerrie@marrsmountaincabins.com
END:VEVENT
BEGIN:VEVENT
DTSTART;TZID=America/Denver:20291123T180000
DTEND;TZID=America/Denver:20291123T203000
DTSTAMP:20260422T173950
CREATED:20251007T043826Z
LAST-MODIFIED:20260318T222948Z
UID:10001708-1890151200-1890160200@www.marrsmountaincabins.com
SUMMARY:Trivia Night
DESCRIPTION:
URL:https://www.marrsmountaincabins.com/event/trivia-night/2029-11-23/
LOCATION:The Tavern at Red Feather Lakes\, 1078 Ramona Drive\, Suite 2\, Red Feather Lakes\, CO\, 80545\, United States
CATEGORIES:Trivia
ATTACH;FMTTYPE=image/jpeg:https://www.marrsmountaincabins.com/wp-content/uploads/Trivia-Night-2026-Poster-scaled.jpg
ORGANIZER;CN="Rich & Kerrie Marr":MAILTO:richandkerrie@marrsmountaincabins.com
END:VEVENT
BEGIN:VEVENT
DTSTART;TZID=America/Denver:20291130T180000
DTEND;TZID=America/Denver:20291130T203000
DTSTAMP:20260422T173950
CREATED:20251007T043826Z
LAST-MODIFIED:20260318T222948Z
UID:10001709-1890756000-1890765000@www.marrsmountaincabins.com
SUMMARY:Trivia Night
DESCRIPTION:
URL:https://www.marrsmountaincabins.com/event/trivia-night/2029-11-30/
LOCATION:The Tavern at Red Feather Lakes\, 1078 Ramona Drive\, Suite 2\, Red Feather Lakes\, CO\, 80545\, United States
CATEGORIES:Trivia
ATTACH;FMTTYPE=image/jpeg:https://www.marrsmountaincabins.com/wp-content/uploads/Trivia-Night-2026-Poster-scaled.jpg
ORGANIZER;CN="Rich & Kerrie Marr":MAILTO:richandkerrie@marrsmountaincabins.com
END:VEVENT
BEGIN:VEVENT
DTSTART;TZID=America/Denver:20291207T180000
DTEND;TZID=America/Denver:20291207T203000
DTSTAMP:20260422T173950
CREATED:20251007T043826Z
LAST-MODIFIED:20260318T222948Z
UID:10001710-1891360800-1891369800@www.marrsmountaincabins.com
SUMMARY:Trivia Night
DESCRIPTION:
URL:https://www.marrsmountaincabins.com/event/trivia-night/2029-12-07/
LOCATION:The Tavern at Red Feather Lakes\, 1078 Ramona Drive\, Suite 2\, Red Feather Lakes\, CO\, 80545\, United States
CATEGORIES:Trivia
ATTACH;FMTTYPE=image/jpeg:https://www.marrsmountaincabins.com/wp-content/uploads/Trivia-Night-2026-Poster-scaled.jpg
ORGANIZER;CN="Rich & Kerrie Marr":MAILTO:richandkerrie@marrsmountaincabins.com
END:VEVENT
BEGIN:VEVENT
DTSTART;TZID=America/Denver:20291214T180000
DTEND;TZID=America/Denver:20291214T203000
DTSTAMP:20260422T173950
CREATED:20251007T043826Z
LAST-MODIFIED:20260318T222948Z
UID:10001711-1891965600-1891974600@www.marrsmountaincabins.com
SUMMARY:Trivia Night
DESCRIPTION:
URL:https://www.marrsmountaincabins.com/event/trivia-night/2029-12-14/
LOCATION:The Tavern at Red Feather Lakes\, 1078 Ramona Drive\, Suite 2\, Red Feather Lakes\, CO\, 80545\, United States
CATEGORIES:Trivia
ATTACH;FMTTYPE=image/jpeg:https://www.marrsmountaincabins.com/wp-content/uploads/Trivia-Night-2026-Poster-scaled.jpg
ORGANIZER;CN="Rich & Kerrie Marr":MAILTO:richandkerrie@marrsmountaincabins.com
END:VEVENT
BEGIN:VEVENT
DTSTART;TZID=America/Denver:20291221T180000
DTEND;TZID=America/Denver:20291221T203000
DTSTAMP:20260422T173950
CREATED:20251007T043826Z
LAST-MODIFIED:20260318T222948Z
UID:10001712-1892570400-1892579400@www.marrsmountaincabins.com
SUMMARY:Trivia Night
DESCRIPTION:
URL:https://www.marrsmountaincabins.com/event/trivia-night/2029-12-21/
LOCATION:The Tavern at Red Feather Lakes\, 1078 Ramona Drive\, Suite 2\, Red Feather Lakes\, CO\, 80545\, United States
CATEGORIES:Trivia
ATTACH;FMTTYPE=image/jpeg:https://www.marrsmountaincabins.com/wp-content/uploads/Trivia-Night-2026-Poster-scaled.jpg
ORGANIZER;CN="Rich & Kerrie Marr":MAILTO:richandkerrie@marrsmountaincabins.com
END:VEVENT
BEGIN:VEVENT
DTSTART;TZID=America/Denver:20291228T180000
DTEND;TZID=America/Denver:20291228T203000
DTSTAMP:20260422T173950
CREATED:20251007T043826Z
LAST-MODIFIED:20260318T222948Z
UID:10001713-1893175200-1893184200@www.marrsmountaincabins.com
SUMMARY:Trivia Night
DESCRIPTION:
URL:https://www.marrsmountaincabins.com/event/trivia-night/2029-12-28/
LOCATION:The Tavern at Red Feather Lakes\, 1078 Ramona Drive\, Suite 2\, Red Feather Lakes\, CO\, 80545\, United States
CATEGORIES:Trivia
ATTACH;FMTTYPE=image/jpeg:https://www.marrsmountaincabins.com/wp-content/uploads/Trivia-Night-2026-Poster-scaled.jpg
ORGANIZER;CN="Rich & Kerrie Marr":MAILTO:richandkerrie@marrsmountaincabins.com
END:VEVENT
BEGIN:VEVENT
DTSTART;TZID=America/Denver:20300104T180000
DTEND;TZID=America/Denver:20300104T203000
DTSTAMP:20260422T173950
CREATED:20251007T043826Z
LAST-MODIFIED:20260318T222948Z
UID:10001714-1893780000-1893789000@www.marrsmountaincabins.com
SUMMARY:Trivia Night
DESCRIPTION:
URL:https://www.marrsmountaincabins.com/event/trivia-night/2030-01-04/
LOCATION:The Tavern at Red Feather Lakes\, 1078 Ramona Drive\, Suite 2\, Red Feather Lakes\, CO\, 80545\, United States
CATEGORIES:Trivia
ATTACH;FMTTYPE=image/jpeg:https://www.marrsmountaincabins.com/wp-content/uploads/Trivia-Night-2026-Poster-scaled.jpg
ORGANIZER;CN="Rich & Kerrie Marr":MAILTO:richandkerrie@marrsmountaincabins.com
END:VEVENT
BEGIN:VEVENT
DTSTART;TZID=America/Denver:20300111T180000
DTEND;TZID=America/Denver:20300111T203000
DTSTAMP:20260422T173950
CREATED:20251007T043826Z
LAST-MODIFIED:20260318T222948Z
UID:10001715-1894384800-1894393800@www.marrsmountaincabins.com
SUMMARY:Trivia Night
DESCRIPTION:
URL:https://www.marrsmountaincabins.com/event/trivia-night/2030-01-11/
LOCATION:The Tavern at Red Feather Lakes\, 1078 Ramona Drive\, Suite 2\, Red Feather Lakes\, CO\, 80545\, United States
CATEGORIES:Trivia
ATTACH;FMTTYPE=image/jpeg:https://www.marrsmountaincabins.com/wp-content/uploads/Trivia-Night-2026-Poster-scaled.jpg
ORGANIZER;CN="Rich & Kerrie Marr":MAILTO:richandkerrie@marrsmountaincabins.com
END:VEVENT
BEGIN:VEVENT
DTSTART;TZID=America/Denver:20300118T180000
DTEND;TZID=America/Denver:20300118T203000
DTSTAMP:20260422T173950
CREATED:20251007T043826Z
LAST-MODIFIED:20260318T222948Z
UID:10001716-1894989600-1894998600@www.marrsmountaincabins.com
SUMMARY:Trivia Night
DESCRIPTION:
URL:https://www.marrsmountaincabins.com/event/trivia-night/2030-01-18/
LOCATION:The Tavern at Red Feather Lakes\, 1078 Ramona Drive\, Suite 2\, Red Feather Lakes\, CO\, 80545\, United States
CATEGORIES:Trivia
ATTACH;FMTTYPE=image/jpeg:https://www.marrsmountaincabins.com/wp-content/uploads/Trivia-Night-2026-Poster-scaled.jpg
ORGANIZER;CN="Rich & Kerrie Marr":MAILTO:richandkerrie@marrsmountaincabins.com
END:VEVENT
BEGIN:VEVENT
DTSTART;TZID=America/Denver:20300125T180000
DTEND;TZID=America/Denver:20300125T203000
DTSTAMP:20260422T173950
CREATED:20251007T043826Z
LAST-MODIFIED:20260318T222948Z
UID:10001717-1895594400-1895603400@www.marrsmountaincabins.com
SUMMARY:Trivia Night
DESCRIPTION:
URL:https://www.marrsmountaincabins.com/event/trivia-night/2030-01-25/
LOCATION:The Tavern at Red Feather Lakes\, 1078 Ramona Drive\, Suite 2\, Red Feather Lakes\, CO\, 80545\, United States
CATEGORIES:Trivia
ATTACH;FMTTYPE=image/jpeg:https://www.marrsmountaincabins.com/wp-content/uploads/Trivia-Night-2026-Poster-scaled.jpg
ORGANIZER;CN="Rich & Kerrie Marr":MAILTO:richandkerrie@marrsmountaincabins.com
END:VEVENT
BEGIN:VEVENT
DTSTART;TZID=America/Denver:20300201T180000
DTEND;TZID=America/Denver:20300201T203000
DTSTAMP:20260422T173950
CREATED:20251007T043826Z
LAST-MODIFIED:20260318T222948Z
UID:10001718-1896199200-1896208200@www.marrsmountaincabins.com
SUMMARY:Trivia Night
DESCRIPTION:
URL:https://www.marrsmountaincabins.com/event/trivia-night/2030-02-01/
LOCATION:The Tavern at Red Feather Lakes\, 1078 Ramona Drive\, Suite 2\, Red Feather Lakes\, CO\, 80545\, United States
CATEGORIES:Trivia
ATTACH;FMTTYPE=image/jpeg:https://www.marrsmountaincabins.com/wp-content/uploads/Trivia-Night-2026-Poster-scaled.jpg
ORGANIZER;CN="Rich & Kerrie Marr":MAILTO:richandkerrie@marrsmountaincabins.com
END:VEVENT
BEGIN:VEVENT
DTSTART;TZID=America/Denver:20300208T180000
DTEND;TZID=America/Denver:20300208T203000
DTSTAMP:20260422T173950
CREATED:20251007T043826Z
LAST-MODIFIED:20260318T222948Z
UID:10001719-1896804000-1896813000@www.marrsmountaincabins.com
SUMMARY:Trivia Night
DESCRIPTION:
URL:https://www.marrsmountaincabins.com/event/trivia-night/2030-02-08/
LOCATION:The Tavern at Red Feather Lakes\, 1078 Ramona Drive\, Suite 2\, Red Feather Lakes\, CO\, 80545\, United States
CATEGORIES:Trivia
ATTACH;FMTTYPE=image/jpeg:https://www.marrsmountaincabins.com/wp-content/uploads/Trivia-Night-2026-Poster-scaled.jpg
ORGANIZER;CN="Rich & Kerrie Marr":MAILTO:richandkerrie@marrsmountaincabins.com
END:VEVENT
BEGIN:VEVENT
DTSTART;TZID=America/Denver:20300215T180000
DTEND;TZID=America/Denver:20300215T203000
DTSTAMP:20260422T173950
CREATED:20251007T043826Z
LAST-MODIFIED:20260318T222948Z
UID:10001720-1897408800-1897417800@www.marrsmountaincabins.com
SUMMARY:Trivia Night
DESCRIPTION:
URL:https://www.marrsmountaincabins.com/event/trivia-night/2030-02-15/
LOCATION:The Tavern at Red Feather Lakes\, 1078 Ramona Drive\, Suite 2\, Red Feather Lakes\, CO\, 80545\, United States
CATEGORIES:Trivia
ATTACH;FMTTYPE=image/jpeg:https://www.marrsmountaincabins.com/wp-content/uploads/Trivia-Night-2026-Poster-scaled.jpg
ORGANIZER;CN="Rich & Kerrie Marr":MAILTO:richandkerrie@marrsmountaincabins.com
END:VEVENT
BEGIN:VEVENT
DTSTART;TZID=America/Denver:20300222T180000
DTEND;TZID=America/Denver:20300222T203000
DTSTAMP:20260422T173950
CREATED:20251007T043826Z
LAST-MODIFIED:20260318T222948Z
UID:10001721-1898013600-1898022600@www.marrsmountaincabins.com
SUMMARY:Trivia Night
DESCRIPTION:
URL:https://www.marrsmountaincabins.com/event/trivia-night/2030-02-22/
LOCATION:The Tavern at Red Feather Lakes\, 1078 Ramona Drive\, Suite 2\, Red Feather Lakes\, CO\, 80545\, United States
CATEGORIES:Trivia
ATTACH;FMTTYPE=image/jpeg:https://www.marrsmountaincabins.com/wp-content/uploads/Trivia-Night-2026-Poster-scaled.jpg
ORGANIZER;CN="Rich & Kerrie Marr":MAILTO:richandkerrie@marrsmountaincabins.com
END:VEVENT
BEGIN:VEVENT
DTSTART;TZID=America/Denver:20300301T180000
DTEND;TZID=America/Denver:20300301T203000
DTSTAMP:20260422T173950
CREATED:20251007T043826Z
LAST-MODIFIED:20260318T222948Z
UID:10001722-1898618400-1898627400@www.marrsmountaincabins.com
SUMMARY:Trivia Night
DESCRIPTION:
URL:https://www.marrsmountaincabins.com/event/trivia-night/2030-03-01/
LOCATION:The Tavern at Red Feather Lakes\, 1078 Ramona Drive\, Suite 2\, Red Feather Lakes\, CO\, 80545\, United States
CATEGORIES:Trivia
ATTACH;FMTTYPE=image/jpeg:https://www.marrsmountaincabins.com/wp-content/uploads/Trivia-Night-2026-Poster-scaled.jpg
ORGANIZER;CN="Rich & Kerrie Marr":MAILTO:richandkerrie@marrsmountaincabins.com
END:VEVENT
BEGIN:VEVENT
DTSTART;TZID=America/Denver:20300308T180000
DTEND;TZID=America/Denver:20300308T203000
DTSTAMP:20260422T173950
CREATED:20251007T043826Z
LAST-MODIFIED:20260318T222948Z
UID:10001723-1899223200-1899232200@www.marrsmountaincabins.com
SUMMARY:Trivia Night
DESCRIPTION:
URL:https://www.marrsmountaincabins.com/event/trivia-night/2030-03-08/
LOCATION:The Tavern at Red Feather Lakes\, 1078 Ramona Drive\, Suite 2\, Red Feather Lakes\, CO\, 80545\, United States
CATEGORIES:Trivia
ATTACH;FMTTYPE=image/jpeg:https://www.marrsmountaincabins.com/wp-content/uploads/Trivia-Night-2026-Poster-scaled.jpg
ORGANIZER;CN="Rich & Kerrie Marr":MAILTO:richandkerrie@marrsmountaincabins.com
END:VEVENT
BEGIN:VEVENT
DTSTART;TZID=America/Denver:20300315T180000
DTEND;TZID=America/Denver:20300315T203000
DTSTAMP:20260422T173950
CREATED:20251007T043826Z
LAST-MODIFIED:20260318T222948Z
UID:10001724-1899828000-1899837000@www.marrsmountaincabins.com
SUMMARY:Trivia Night
DESCRIPTION:
URL:https://www.marrsmountaincabins.com/event/trivia-night/2030-03-15/
LOCATION:The Tavern at Red Feather Lakes\, 1078 Ramona Drive\, Suite 2\, Red Feather Lakes\, CO\, 80545\, United States
CATEGORIES:Trivia
ATTACH;FMTTYPE=image/jpeg:https://www.marrsmountaincabins.com/wp-content/uploads/Trivia-Night-2026-Poster-scaled.jpg
ORGANIZER;CN="Rich & Kerrie Marr":MAILTO:richandkerrie@marrsmountaincabins.com
END:VEVENT
BEGIN:VEVENT
DTSTART;TZID=America/Denver:20300322T180000
DTEND;TZID=America/Denver:20300322T203000
DTSTAMP:20260422T173950
CREATED:20251007T043826Z
LAST-MODIFIED:20260318T222948Z
UID:10001725-1900432800-1900441800@www.marrsmountaincabins.com
SUMMARY:Trivia Night
DESCRIPTION:
URL:https://www.marrsmountaincabins.com/event/trivia-night/2030-03-22/
LOCATION:The Tavern at Red Feather Lakes\, 1078 Ramona Drive\, Suite 2\, Red Feather Lakes\, CO\, 80545\, United States
CATEGORIES:Trivia
ATTACH;FMTTYPE=image/jpeg:https://www.marrsmountaincabins.com/wp-content/uploads/Trivia-Night-2026-Poster-scaled.jpg
ORGANIZER;CN="Rich & Kerrie Marr":MAILTO:richandkerrie@marrsmountaincabins.com
END:VEVENT
BEGIN:VEVENT
DTSTART;TZID=America/Denver:20300329T180000
DTEND;TZID=America/Denver:20300329T203000
DTSTAMP:20260422T173950
CREATED:20251007T043826Z
LAST-MODIFIED:20260318T222948Z
UID:10001726-1901037600-1901046600@www.marrsmountaincabins.com
SUMMARY:Trivia Night
DESCRIPTION:
URL:https://www.marrsmountaincabins.com/event/trivia-night/2030-03-29/
LOCATION:The Tavern at Red Feather Lakes\, 1078 Ramona Drive\, Suite 2\, Red Feather Lakes\, CO\, 80545\, United States
CATEGORIES:Trivia
ATTACH;FMTTYPE=image/jpeg:https://www.marrsmountaincabins.com/wp-content/uploads/Trivia-Night-2026-Poster-scaled.jpg
ORGANIZER;CN="Rich & Kerrie Marr":MAILTO:richandkerrie@marrsmountaincabins.com
END:VEVENT
END:VCALENDAR