BEGIN:VCALENDAR
VERSION:2.0
PRODID:-//Marr&#039;s Mountain Cabins and Tavern - ECPv6.15.17.1//NONSGML v1.0//EN
CALSCALE:GREGORIAN
METHOD:PUBLISH
X-WR-CALNAME:Marr&#039;s Mountain Cabins and Tavern
X-ORIGINAL-URL:https://www.marrsmountaincabins.com
X-WR-CALDESC:Events for Marr&#039;s Mountain Cabins and Tavern
REFRESH-INTERVAL;VALUE=DURATION:PT1H
X-Robots-Tag:noindex
X-PUBLISHED-TTL:PT1H
BEGIN:VTIMEZONE
TZID:America/Denver
BEGIN:DAYLIGHT
TZOFFSETFROM:-0700
TZOFFSETTO:-0600
TZNAME:MDT
DTSTART:20250309T090000
END:DAYLIGHT
BEGIN:STANDARD
TZOFFSETFROM:-0600
TZOFFSETTO:-0700
TZNAME:MST
DTSTART:20251102T080000
END:STANDARD
BEGIN:DAYLIGHT
TZOFFSETFROM:-0700
TZOFFSETTO:-0600
TZNAME:MDT
DTSTART:20260308T090000
END:DAYLIGHT
BEGIN:STANDARD
TZOFFSETFROM:-0600
TZOFFSETTO:-0700
TZNAME:MST
DTSTART:20261101T080000
END:STANDARD
BEGIN:DAYLIGHT
TZOFFSETFROM:-0700
TZOFFSETTO:-0600
TZNAME:MDT
DTSTART:20270314T090000
END:DAYLIGHT
BEGIN:STANDARD
TZOFFSETFROM:-0600
TZOFFSETTO:-0700
TZNAME:MST
DTSTART:20271107T080000
END:STANDARD
BEGIN:DAYLIGHT
TZOFFSETFROM:-0700
TZOFFSETTO:-0600
TZNAME:MDT
DTSTART:20280312T090000
END:DAYLIGHT
BEGIN:STANDARD
TZOFFSETFROM:-0600
TZOFFSETTO:-0700
TZNAME:MST
DTSTART:20281105T080000
END:STANDARD
END:VTIMEZONE
BEGIN:VEVENT
DTSTART;TZID=America/Denver:20261017T190000
DTEND;TZID=America/Denver:20261017T210000
DTSTAMP:20260421T174914
CREATED:20260310T191705Z
LAST-MODIFIED:20260310T191705Z
UID:10001878-1792263600-1792270800@www.marrsmountaincabins.com
SUMMARY:Live Music - Charlie Stevens
DESCRIPTION:
URL:https://www.marrsmountaincabins.com/event/live-music-charlie-stevens/
LOCATION:The Tavern at Red Feather Lakes\, 1078 Ramona Drive\, Suite 2\, Red Feather Lakes\, CO\, 80545\, United States
CATEGORIES:Live Music
ATTACH;FMTTYPE=image/jpeg:https://www.marrsmountaincabins.com/wp-content/uploads/Charlie-Stevens-1.jpg
ORGANIZER;CN="Rich & Kerrie Marr":MAILTO:richandkerrie@marrsmountaincabins.com
END:VEVENT
BEGIN:VEVENT
DTSTART;TZID=America/Denver:20261021T183000
DTEND;TZID=America/Denver:20261021T210000
DTSTAMP:20260421T174914
CREATED:20260206T224008Z
LAST-MODIFIED:20260208T205812Z
UID:10001867-1792607400-1792616400@www.marrsmountaincabins.com
SUMMARY:Acoustic Jam With Tommy Ventura
DESCRIPTION:
URL:https://www.marrsmountaincabins.com/event/acoustic-jam-with-tommy-ventura/2026-10-21/
LOCATION:The Tavern at Red Feather Lakes\, 1078 Ramona Drive\, Suite 2\, Red Feather Lakes\, CO\, 80545\, United States
CATEGORIES:Live Music
ATTACH;FMTTYPE=image/jpeg:https://www.marrsmountaincabins.com/wp-content/uploads/Acoustic-Jam-2026-Poster-scaled.jpg
ORGANIZER;CN="Rich & Kerrie Marr":MAILTO:richandkerrie@marrsmountaincabins.com
END:VEVENT
BEGIN:VEVENT
DTSTART;TZID=America/Denver:20261023T180000
DTEND;TZID=America/Denver:20261023T203000
DTSTAMP:20260421T174914
CREATED:20251007T043826Z
LAST-MODIFIED:20260318T222948Z
UID:10001547-1792778400-1792787400@www.marrsmountaincabins.com
SUMMARY:Trivia Night
DESCRIPTION:
URL:https://www.marrsmountaincabins.com/event/trivia-night/2026-10-23/
LOCATION:The Tavern at Red Feather Lakes\, 1078 Ramona Drive\, Suite 2\, Red Feather Lakes\, CO\, 80545\, United States
CATEGORIES:Trivia
ATTACH;FMTTYPE=image/jpeg:https://www.marrsmountaincabins.com/wp-content/uploads/Trivia-Night-2026-Poster-scaled.jpg
ORGANIZER;CN="Rich & Kerrie Marr":MAILTO:richandkerrie@marrsmountaincabins.com
END:VEVENT
BEGIN:VEVENT
DTSTART;TZID=America/Denver:20261024T190000
DTEND;TZID=America/Denver:20261024T210000
DTSTAMP:20260421T174914
CREATED:20260312T031328Z
LAST-MODIFIED:20260312T031328Z
UID:10001884-1792868400-1792875600@www.marrsmountaincabins.com
SUMMARY:Live Music - Wendy Woo
DESCRIPTION:
URL:https://www.marrsmountaincabins.com/event/live-music-wendy-woo/
LOCATION:The Tavern at Red Feather Lakes\, 1078 Ramona Drive\, Suite 2\, Red Feather Lakes\, CO\, 80545\, United States
CATEGORIES:Live Music
ATTACH;FMTTYPE=image/jpeg:https://www.marrsmountaincabins.com/wp-content/uploads/DSC_0005-1-scaled.jpg
ORGANIZER;CN="Rich & Kerrie Marr":MAILTO:richandkerrie@marrsmountaincabins.com
END:VEVENT
BEGIN:VEVENT
DTSTART;TZID=America/Denver:20261028T183000
DTEND;TZID=America/Denver:20261028T210000
DTSTAMP:20260421T174914
CREATED:20260206T224008Z
LAST-MODIFIED:20260208T205812Z
UID:10001868-1793212200-1793221200@www.marrsmountaincabins.com
SUMMARY:Acoustic Jam With Tommy Ventura
DESCRIPTION:
URL:https://www.marrsmountaincabins.com/event/acoustic-jam-with-tommy-ventura/2026-10-28/
LOCATION:The Tavern at Red Feather Lakes\, 1078 Ramona Drive\, Suite 2\, Red Feather Lakes\, CO\, 80545\, United States
CATEGORIES:Live Music
ATTACH;FMTTYPE=image/jpeg:https://www.marrsmountaincabins.com/wp-content/uploads/Acoustic-Jam-2026-Poster-scaled.jpg
ORGANIZER;CN="Rich & Kerrie Marr":MAILTO:richandkerrie@marrsmountaincabins.com
END:VEVENT
BEGIN:VEVENT
DTSTART;TZID=America/Denver:20261030T180000
DTEND;TZID=America/Denver:20261030T203000
DTSTAMP:20260421T174914
CREATED:20251007T043826Z
LAST-MODIFIED:20260318T222948Z
UID:10001548-1793383200-1793392200@www.marrsmountaincabins.com
SUMMARY:Trivia Night
DESCRIPTION:
URL:https://www.marrsmountaincabins.com/event/trivia-night/2026-10-30/
LOCATION:The Tavern at Red Feather Lakes\, 1078 Ramona Drive\, Suite 2\, Red Feather Lakes\, CO\, 80545\, United States
CATEGORIES:Trivia
ATTACH;FMTTYPE=image/jpeg:https://www.marrsmountaincabins.com/wp-content/uploads/Trivia-Night-2026-Poster-scaled.jpg
ORGANIZER;CN="Rich & Kerrie Marr":MAILTO:richandkerrie@marrsmountaincabins.com
END:VEVENT
BEGIN:VEVENT
DTSTART;TZID=America/Denver:20261031T190000
DTEND;TZID=America/Denver:20261031T210000
DTSTAMP:20260421T174914
CREATED:20251013T045617Z
LAST-MODIFIED:20251013T045617Z
UID:10001778-1793473200-1793480400@www.marrsmountaincabins.com
SUMMARY:Live Music - Gordon Creek Band
DESCRIPTION:
URL:https://www.marrsmountaincabins.com/event/live-music-gordon-creek-band-6/
LOCATION:The Tavern at Red Feather Lakes\, 1078 Ramona Drive\, Suite 2\, Red Feather Lakes\, CO\, 80545\, United States
CATEGORIES:Live Music
ATTACH;FMTTYPE=image/jpeg:https://www.marrsmountaincabins.com/wp-content/uploads/Gordon-Creek-pic-5.jpg
ORGANIZER;CN="Rich & Kerrie Marr":MAILTO:richandkerrie@marrsmountaincabins.com
END:VEVENT
BEGIN:VEVENT
DTSTART;TZID=America/Denver:20261104T183000
DTEND;TZID=America/Denver:20261104T210000
DTSTAMP:20260421T174914
CREATED:20260206T224008Z
LAST-MODIFIED:20260208T205812Z
UID:10001869-1793817000-1793826000@www.marrsmountaincabins.com
SUMMARY:Acoustic Jam With Tommy Ventura
DESCRIPTION:
URL:https://www.marrsmountaincabins.com/event/acoustic-jam-with-tommy-ventura/2026-11-04/
LOCATION:The Tavern at Red Feather Lakes\, 1078 Ramona Drive\, Suite 2\, Red Feather Lakes\, CO\, 80545\, United States
CATEGORIES:Live Music
ATTACH;FMTTYPE=image/jpeg:https://www.marrsmountaincabins.com/wp-content/uploads/Acoustic-Jam-2026-Poster-scaled.jpg
ORGANIZER;CN="Rich & Kerrie Marr":MAILTO:richandkerrie@marrsmountaincabins.com
END:VEVENT
BEGIN:VEVENT
DTSTART;TZID=America/Denver:20261106T180000
DTEND;TZID=America/Denver:20261106T203000
DTSTAMP:20260421T174914
CREATED:20251007T043826Z
LAST-MODIFIED:20260318T222948Z
UID:10001549-1793988000-1793997000@www.marrsmountaincabins.com
SUMMARY:Trivia Night
DESCRIPTION:
URL:https://www.marrsmountaincabins.com/event/trivia-night/2026-11-06/
LOCATION:The Tavern at Red Feather Lakes\, 1078 Ramona Drive\, Suite 2\, Red Feather Lakes\, CO\, 80545\, United States
CATEGORIES:Trivia
ATTACH;FMTTYPE=image/jpeg:https://www.marrsmountaincabins.com/wp-content/uploads/Trivia-Night-2026-Poster-scaled.jpg
ORGANIZER;CN="Rich & Kerrie Marr":MAILTO:richandkerrie@marrsmountaincabins.com
END:VEVENT
BEGIN:VEVENT
DTSTART;TZID=America/Denver:20261107T190000
DTEND;TZID=America/Denver:20261107T210000
DTSTAMP:20260421T174914
CREATED:20251013T042656Z
LAST-MODIFIED:20260316T214416Z
UID:10001771-1794078000-1794085200@www.marrsmountaincabins.com
SUMMARY:Live Music - Tyler T
DESCRIPTION:
URL:https://www.marrsmountaincabins.com/event/live-music-tyler-t-4/
LOCATION:The Tavern at Red Feather Lakes\, 1078 Ramona Drive\, Suite 2\, Red Feather Lakes\, CO\, 80545\, United States
CATEGORIES:Live Music
ATTACH;FMTTYPE=image/jpeg:https://www.marrsmountaincabins.com/wp-content/uploads/Tyler-T-at-The-Tavern.jpg
ORGANIZER;CN="Rich & Kerrie Marr":MAILTO:richandkerrie@marrsmountaincabins.com
END:VEVENT
BEGIN:VEVENT
DTSTART;TZID=America/Denver:20261111T183000
DTEND;TZID=America/Denver:20261111T210000
DTSTAMP:20260421T174914
CREATED:20260206T224008Z
LAST-MODIFIED:20260208T205812Z
UID:10001870-1794421800-1794430800@www.marrsmountaincabins.com
SUMMARY:Acoustic Jam With Tommy Ventura
DESCRIPTION:
URL:https://www.marrsmountaincabins.com/event/acoustic-jam-with-tommy-ventura/2026-11-11/
LOCATION:The Tavern at Red Feather Lakes\, 1078 Ramona Drive\, Suite 2\, Red Feather Lakes\, CO\, 80545\, United States
CATEGORIES:Live Music
ATTACH;FMTTYPE=image/jpeg:https://www.marrsmountaincabins.com/wp-content/uploads/Acoustic-Jam-2026-Poster-scaled.jpg
ORGANIZER;CN="Rich & Kerrie Marr":MAILTO:richandkerrie@marrsmountaincabins.com
END:VEVENT
BEGIN:VEVENT
DTSTART;TZID=America/Denver:20261113T180000
DTEND;TZID=America/Denver:20261113T203000
DTSTAMP:20260421T174914
CREATED:20251007T043826Z
LAST-MODIFIED:20260318T222948Z
UID:10001550-1794592800-1794601800@www.marrsmountaincabins.com
SUMMARY:Trivia Night
DESCRIPTION:
URL:https://www.marrsmountaincabins.com/event/trivia-night/2026-11-13/
LOCATION:The Tavern at Red Feather Lakes\, 1078 Ramona Drive\, Suite 2\, Red Feather Lakes\, CO\, 80545\, United States
CATEGORIES:Trivia
ATTACH;FMTTYPE=image/jpeg:https://www.marrsmountaincabins.com/wp-content/uploads/Trivia-Night-2026-Poster-scaled.jpg
ORGANIZER;CN="Rich & Kerrie Marr":MAILTO:richandkerrie@marrsmountaincabins.com
END:VEVENT
BEGIN:VEVENT
DTSTART;TZID=America/Denver:20261114T183000
DTEND;TZID=America/Denver:20261114T220000
DTSTAMP:20260421T174914
CREATED:20251013T041541Z
LAST-MODIFIED:20260328T030249Z
UID:10001767-1794681000-1794693600@www.marrsmountaincabins.com
SUMMARY:Karaoke Nights
DESCRIPTION:
URL:https://www.marrsmountaincabins.com/event/karaoke-nights-2/2026-11-14/
LOCATION:The Tavern at Red Feather Lakes\, 1078 Ramona Drive\, Suite 2\, Red Feather Lakes\, CO\, 80545\, United States
CATEGORIES:Karaoke
ATTACH;FMTTYPE=image/jpeg:https://www.marrsmountaincabins.com/wp-content/uploads/Karaoke-2026-Poster-scaled.jpg
ORGANIZER;CN="Rich & Kerrie Marr":MAILTO:richandkerrie@marrsmountaincabins.com
END:VEVENT
BEGIN:VEVENT
DTSTART;TZID=America/Denver:20261118T183000
DTEND;TZID=America/Denver:20261118T210000
DTSTAMP:20260421T174914
CREATED:20260206T224008Z
LAST-MODIFIED:20260208T205812Z
UID:10001871-1795026600-1795035600@www.marrsmountaincabins.com
SUMMARY:Acoustic Jam With Tommy Ventura
DESCRIPTION:
URL:https://www.marrsmountaincabins.com/event/acoustic-jam-with-tommy-ventura/2026-11-18/
LOCATION:The Tavern at Red Feather Lakes\, 1078 Ramona Drive\, Suite 2\, Red Feather Lakes\, CO\, 80545\, United States
CATEGORIES:Live Music
ATTACH;FMTTYPE=image/jpeg:https://www.marrsmountaincabins.com/wp-content/uploads/Acoustic-Jam-2026-Poster-scaled.jpg
ORGANIZER;CN="Rich & Kerrie Marr":MAILTO:richandkerrie@marrsmountaincabins.com
END:VEVENT
BEGIN:VEVENT
DTSTART;TZID=America/Denver:20261120T180000
DTEND;TZID=America/Denver:20261120T203000
DTSTAMP:20260421T174914
CREATED:20251007T043826Z
LAST-MODIFIED:20260318T222948Z
UID:10001551-1795197600-1795206600@www.marrsmountaincabins.com
SUMMARY:Trivia Night
DESCRIPTION:
URL:https://www.marrsmountaincabins.com/event/trivia-night/2026-11-20/
LOCATION:The Tavern at Red Feather Lakes\, 1078 Ramona Drive\, Suite 2\, Red Feather Lakes\, CO\, 80545\, United States
CATEGORIES:Trivia
ATTACH;FMTTYPE=image/jpeg:https://www.marrsmountaincabins.com/wp-content/uploads/Trivia-Night-2026-Poster-scaled.jpg
ORGANIZER;CN="Rich & Kerrie Marr":MAILTO:richandkerrie@marrsmountaincabins.com
END:VEVENT
BEGIN:VEVENT
DTSTART;TZID=America/Denver:20261121T190000
DTEND;TZID=America/Denver:20261121T210000
DTSTAMP:20260421T174914
CREATED:20260312T040442Z
LAST-MODIFIED:20260312T040442Z
UID:10001886-1795287600-1795294800@www.marrsmountaincabins.com
SUMMARY:Live Music - Christine Alice
DESCRIPTION:
URL:https://www.marrsmountaincabins.com/event/live-music-christine-alice-2/
LOCATION:The Tavern at Red Feather Lakes\, 1078 Ramona Drive\, Suite 2\, Red Feather Lakes\, CO\, 80545\, United States
CATEGORIES:Live Music
ATTACH;FMTTYPE=image/jpeg:https://www.marrsmountaincabins.com/wp-content/uploads/Christine-Alice-pic-w-guitar.jpg
ORGANIZER;CN="Rich & Kerrie Marr":MAILTO:richandkerrie@marrsmountaincabins.com
END:VEVENT
BEGIN:VEVENT
DTSTART;TZID=America/Denver:20261125T183000
DTEND;TZID=America/Denver:20261125T210000
DTSTAMP:20260421T174914
CREATED:20260206T224008Z
LAST-MODIFIED:20260208T205812Z
UID:10001872-1795631400-1795640400@www.marrsmountaincabins.com
SUMMARY:Acoustic Jam With Tommy Ventura
DESCRIPTION:
URL:https://www.marrsmountaincabins.com/event/acoustic-jam-with-tommy-ventura/2026-11-25/
LOCATION:The Tavern at Red Feather Lakes\, 1078 Ramona Drive\, Suite 2\, Red Feather Lakes\, CO\, 80545\, United States
CATEGORIES:Live Music
ATTACH;FMTTYPE=image/jpeg:https://www.marrsmountaincabins.com/wp-content/uploads/Acoustic-Jam-2026-Poster-scaled.jpg
ORGANIZER;CN="Rich & Kerrie Marr":MAILTO:richandkerrie@marrsmountaincabins.com
END:VEVENT
BEGIN:VEVENT
DTSTART;TZID=America/Denver:20261127T180000
DTEND;TZID=America/Denver:20261127T203000
DTSTAMP:20260421T174914
CREATED:20251007T043826Z
LAST-MODIFIED:20260318T222948Z
UID:10001552-1795802400-1795811400@www.marrsmountaincabins.com
SUMMARY:Trivia Night
DESCRIPTION:
URL:https://www.marrsmountaincabins.com/event/trivia-night/2026-11-27/
LOCATION:The Tavern at Red Feather Lakes\, 1078 Ramona Drive\, Suite 2\, Red Feather Lakes\, CO\, 80545\, United States
CATEGORIES:Trivia
ATTACH;FMTTYPE=image/jpeg:https://www.marrsmountaincabins.com/wp-content/uploads/Trivia-Night-2026-Poster-scaled.jpg
ORGANIZER;CN="Rich & Kerrie Marr":MAILTO:richandkerrie@marrsmountaincabins.com
END:VEVENT
BEGIN:VEVENT
DTSTART;TZID=America/Denver:20261128T190000
DTEND;TZID=America/Denver:20261128T210000
DTSTAMP:20260421T174914
CREATED:20260312T031404Z
LAST-MODIFIED:20260312T031404Z
UID:10001885-1795892400-1795899600@www.marrsmountaincabins.com
SUMMARY:Live Music - Wendy Woo
DESCRIPTION:
URL:https://www.marrsmountaincabins.com/event/live-music-wendy-woo-3/
LOCATION:The Tavern at Red Feather Lakes\, 1078 Ramona Drive\, Suite 2\, Red Feather Lakes\, CO\, 80545\, United States
CATEGORIES:Live Music
ATTACH;FMTTYPE=image/jpeg:https://www.marrsmountaincabins.com/wp-content/uploads/DSC_0005-1-scaled.jpg
ORGANIZER;CN="Rich & Kerrie Marr":MAILTO:richandkerrie@marrsmountaincabins.com
END:VEVENT
BEGIN:VEVENT
DTSTART;TZID=America/Denver:20261204T180000
DTEND;TZID=America/Denver:20261204T203000
DTSTAMP:20260421T174914
CREATED:20251007T043826Z
LAST-MODIFIED:20260318T222948Z
UID:10001553-1796407200-1796416200@www.marrsmountaincabins.com
SUMMARY:Trivia Night
DESCRIPTION:
URL:https://www.marrsmountaincabins.com/event/trivia-night/2026-12-04/
LOCATION:The Tavern at Red Feather Lakes\, 1078 Ramona Drive\, Suite 2\, Red Feather Lakes\, CO\, 80545\, United States
CATEGORIES:Trivia
ATTACH;FMTTYPE=image/jpeg:https://www.marrsmountaincabins.com/wp-content/uploads/Trivia-Night-2026-Poster-scaled.jpg
ORGANIZER;CN="Rich & Kerrie Marr":MAILTO:richandkerrie@marrsmountaincabins.com
END:VEVENT
BEGIN:VEVENT
DTSTART;TZID=America/Denver:20261205T153000
DTEND;TZID=America/Denver:20261205T170000
DTSTAMP:20260421T174914
CREATED:20260316T221240Z
LAST-MODIFIED:20260316T221240Z
UID:10001889-1796484600-1796490000@www.marrsmountaincabins.com
SUMMARY:Onesie Dash!  - 1 Mile Fun Run
DESCRIPTION:
URL:https://www.marrsmountaincabins.com/event/onesie-dash-1-mile-fun-run/
LOCATION:The Tavern at Red Feather Lakes\, 1078 Ramona Drive\, Suite 2\, Red Feather Lakes\, CO\, 80545\, United States
CATEGORIES:Event
ATTACH;FMTTYPE=image/jpeg:https://www.marrsmountaincabins.com/wp-content/uploads/Onesie-Dash-Poster-2026-scaled.jpg
ORGANIZER;CN="Rich & Kerrie Marr":MAILTO:richandkerrie@marrsmountaincabins.com
END:VEVENT
BEGIN:VEVENT
DTSTART;TZID=America/Denver:20261205T190000
DTEND;TZID=America/Denver:20261205T210000
DTSTAMP:20260421T174914
CREATED:20260328T033958Z
LAST-MODIFIED:20260328T034055Z
UID:10001894-1796497200-1796504400@www.marrsmountaincabins.com
SUMMARY:Live Music - Eric Beringer
DESCRIPTION:
URL:https://www.marrsmountaincabins.com/event/live-music-eric-beringer-2/
LOCATION:The Tavern at Red Feather Lakes\, 1078 Ramona Drive\, Suite 2\, Red Feather Lakes\, CO\, 80545\, United States
CATEGORIES:Live Music
ATTACH;FMTTYPE=image/jpeg:https://www.marrsmountaincabins.com/wp-content/uploads/Eric-Beringer-2.jpg
ORGANIZER;CN="Rich & Kerrie Marr":MAILTO:richandkerrie@marrsmountaincabins.com
END:VEVENT
BEGIN:VEVENT
DTSTART;TZID=America/Denver:20261211T180000
DTEND;TZID=America/Denver:20261211T203000
DTSTAMP:20260421T174914
CREATED:20251007T043826Z
LAST-MODIFIED:20260318T222948Z
UID:10001554-1797012000-1797021000@www.marrsmountaincabins.com
SUMMARY:Trivia Night
DESCRIPTION:
URL:https://www.marrsmountaincabins.com/event/trivia-night/2026-12-11/
LOCATION:The Tavern at Red Feather Lakes\, 1078 Ramona Drive\, Suite 2\, Red Feather Lakes\, CO\, 80545\, United States
CATEGORIES:Trivia
ATTACH;FMTTYPE=image/jpeg:https://www.marrsmountaincabins.com/wp-content/uploads/Trivia-Night-2026-Poster-scaled.jpg
ORGANIZER;CN="Rich & Kerrie Marr":MAILTO:richandkerrie@marrsmountaincabins.com
END:VEVENT
BEGIN:VEVENT
DTSTART;TZID=America/Denver:20261212T183000
DTEND;TZID=America/Denver:20261212T220000
DTSTAMP:20260421T174914
CREATED:20251013T041541Z
LAST-MODIFIED:20260328T030249Z
UID:10001768-1797100200-1797112800@www.marrsmountaincabins.com
SUMMARY:Karaoke Nights
DESCRIPTION:
URL:https://www.marrsmountaincabins.com/event/karaoke-nights-2/2026-12-12/
LOCATION:The Tavern at Red Feather Lakes\, 1078 Ramona Drive\, Suite 2\, Red Feather Lakes\, CO\, 80545\, United States
CATEGORIES:Karaoke
ATTACH;FMTTYPE=image/jpeg:https://www.marrsmountaincabins.com/wp-content/uploads/Karaoke-2026-Poster-scaled.jpg
ORGANIZER;CN="Rich & Kerrie Marr":MAILTO:richandkerrie@marrsmountaincabins.com
END:VEVENT
BEGIN:VEVENT
DTSTART;TZID=America/Denver:20261218T180000
DTEND;TZID=America/Denver:20261218T203000
DTSTAMP:20260421T174914
CREATED:20251007T043826Z
LAST-MODIFIED:20260318T222948Z
UID:10001555-1797616800-1797625800@www.marrsmountaincabins.com
SUMMARY:Trivia Night
DESCRIPTION:
URL:https://www.marrsmountaincabins.com/event/trivia-night/2026-12-18/
LOCATION:The Tavern at Red Feather Lakes\, 1078 Ramona Drive\, Suite 2\, Red Feather Lakes\, CO\, 80545\, United States
CATEGORIES:Trivia
ATTACH;FMTTYPE=image/jpeg:https://www.marrsmountaincabins.com/wp-content/uploads/Trivia-Night-2026-Poster-scaled.jpg
ORGANIZER;CN="Rich & Kerrie Marr":MAILTO:richandkerrie@marrsmountaincabins.com
END:VEVENT
BEGIN:VEVENT
DTSTART;TZID=America/Denver:20261219T190000
DTEND;TZID=America/Denver:20261219T210000
DTSTAMP:20260421T174914
CREATED:20260311T215631Z
LAST-MODIFIED:20260311T215631Z
UID:10001880-1797706800-1797714000@www.marrsmountaincabins.com
SUMMARY:Live Music - Matt Skinner Duo
DESCRIPTION:
URL:https://www.marrsmountaincabins.com/event/live-music-matt-skinner-duo-3/
LOCATION:The Tavern at Red Feather Lakes\, 1078 Ramona Drive\, Suite 2\, Red Feather Lakes\, CO\, 80545\, United States
CATEGORIES:Live Music
ATTACH;FMTTYPE=image/jpeg:https://www.marrsmountaincabins.com/wp-content/uploads/DSC_0026-scaled.jpg
ORGANIZER;CN="Rich & Kerrie Marr":MAILTO:richandkerrie@marrsmountaincabins.com
END:VEVENT
BEGIN:VEVENT
DTSTART;TZID=America/Denver:20261225T180000
DTEND;TZID=America/Denver:20261225T203000
DTSTAMP:20260421T174914
CREATED:20251007T043826Z
LAST-MODIFIED:20260318T222948Z
UID:10001556-1798221600-1798230600@www.marrsmountaincabins.com
SUMMARY:Trivia Night
DESCRIPTION:
URL:https://www.marrsmountaincabins.com/event/trivia-night/2026-12-25/
LOCATION:The Tavern at Red Feather Lakes\, 1078 Ramona Drive\, Suite 2\, Red Feather Lakes\, CO\, 80545\, United States
CATEGORIES:Trivia
ATTACH;FMTTYPE=image/jpeg:https://www.marrsmountaincabins.com/wp-content/uploads/Trivia-Night-2026-Poster-scaled.jpg
ORGANIZER;CN="Rich & Kerrie Marr":MAILTO:richandkerrie@marrsmountaincabins.com
END:VEVENT
BEGIN:VEVENT
DTSTART;TZID=America/Denver:20261226T190000
DTEND;TZID=America/Denver:20261226T210000
DTSTAMP:20260421T174914
CREATED:20251013T045709Z
LAST-MODIFIED:20251013T045709Z
UID:10001779-1798311600-1798318800@www.marrsmountaincabins.com
SUMMARY:Live Music - Gordon Creek Band
DESCRIPTION:
URL:https://www.marrsmountaincabins.com/event/live-music-gordon-creek-band-7/
LOCATION:The Tavern at Red Feather Lakes\, 1078 Ramona Drive\, Suite 2\, Red Feather Lakes\, CO\, 80545\, United States
CATEGORIES:Live Music
ATTACH;FMTTYPE=image/jpeg:https://www.marrsmountaincabins.com/wp-content/uploads/Gordon-Creek-pic-5.jpg
ORGANIZER;CN="Rich & Kerrie Marr":MAILTO:richandkerrie@marrsmountaincabins.com
END:VEVENT
BEGIN:VEVENT
DTSTART;TZID=America/Denver:20270101T180000
DTEND;TZID=America/Denver:20270101T203000
DTSTAMP:20260421T174914
CREATED:20251007T043826Z
LAST-MODIFIED:20260318T222948Z
UID:10001557-1798826400-1798835400@www.marrsmountaincabins.com
SUMMARY:Trivia Night
DESCRIPTION:
URL:https://www.marrsmountaincabins.com/event/trivia-night/2027-01-01/
LOCATION:The Tavern at Red Feather Lakes\, 1078 Ramona Drive\, Suite 2\, Red Feather Lakes\, CO\, 80545\, United States
CATEGORIES:Trivia
ATTACH;FMTTYPE=image/jpeg:https://www.marrsmountaincabins.com/wp-content/uploads/Trivia-Night-2026-Poster-scaled.jpg
ORGANIZER;CN="Rich & Kerrie Marr":MAILTO:richandkerrie@marrsmountaincabins.com
END:VEVENT
BEGIN:VEVENT
DTSTART;TZID=America/Denver:20270108T180000
DTEND;TZID=America/Denver:20270108T203000
DTSTAMP:20260421T174914
CREATED:20251007T043826Z
LAST-MODIFIED:20260318T222948Z
UID:10001558-1799431200-1799440200@www.marrsmountaincabins.com
SUMMARY:Trivia Night
DESCRIPTION:
URL:https://www.marrsmountaincabins.com/event/trivia-night/2027-01-08/
LOCATION:The Tavern at Red Feather Lakes\, 1078 Ramona Drive\, Suite 2\, Red Feather Lakes\, CO\, 80545\, United States
CATEGORIES:Trivia
ATTACH;FMTTYPE=image/jpeg:https://www.marrsmountaincabins.com/wp-content/uploads/Trivia-Night-2026-Poster-scaled.jpg
ORGANIZER;CN="Rich & Kerrie Marr":MAILTO:richandkerrie@marrsmountaincabins.com
END:VEVENT
END:VCALENDAR